BEGIN:VCALENDAR
PRODID:-//github.com/rianjs/ical.net//NONSGML ical.net 2.2//EN
VERSION:2.0
BEGIN:VEVENT
CATEGORIES:Activitats
CREATED;TZID=Europe/Madrid:20260424T135724
DESCRIPTION:<table class="table">\n	<thead><tr><th style=""><span style="f
 ont-weight: 400\;">Organitza:</span></th><th style=""><span style="font-w
 eight: 400\;">Enginyers Manresa<br></span></th></tr></thead><tbody>\n	<tr
 >\n		<td style="" class="">Dirigit a:</td>\n		<td style=""><p>Projectiste
 s i responsables d?empreses instal?ladores<br></p></td>\n	</tr>\n	<tr><td
  class="">Objectiu:</td><td>Conceptes clau\, manteniment/revisions/inspec
 cions i gesti? operativa<br></td></tr><tr>\n		<td style="" class="">Dates
 :</td>\n		<td style="">17 de mar?&nbsp\; (dijous) de 2022&nbsp\;</td>\n	<
 /tr>\n	\n	<tr>\n		<td style="" class="">Durada:</td>\n		<td style="">2 ho
 res</td>\n	</tr>\n	\n	<tr><td class="">&nbsp\;Horari:</td><td>&nbsp\;De l
 es 15\,30 a les 17'30 hores&nbsp\;</td></tr><tr>\n		<td style="">Document
 aci?:&nbsp\;&nbsp\;</td>\n		<td style="" class="">La documentaci? estar? 
 disponible a la plataforma entre 24 i 48 hores abans de l?inici de la for
 maci?. En el cas que hi hagi documentaci? addicional una vegada finalitza
 da la formaci?\, us la facilitarem posteriorment.</td>\n	</tr>\n	\n	\n	\n
 	<tr>\n		<td style="" class="">M?s informaci?:</td>\n		<td style="" class
 ="RadEDomMouseOver"><font color="#333333"><a href="https://www.cetim.cat/
 formacion/000441">https://www.cetim.cat/formacion/000441</a><br></font></
 td>\n	</tr>\n\n<tr><td class="">&nbsp\;Nota:</td><td class="RadEDomMouseO
 ver"><p>Aquest curs est? dividit en sis m?duls independents\, si t'intere
 ssa pots fer la inscripci? a tots els m?duls a un preu especial. </p><p>E
 l mateix dia de la realitzaci? de cada m?dul\, s'informar? per correu ele
 ctr?nic de la metodologia a utilitzar i l'enlla? corresponent per a reali
 tzar la connexi?.<br></p></td></tr></tbody></table>
DTEND;TZID=Europe/Madrid:20220317T170000
DTSTAMP:20260424T115724Z
DTSTART;TZID=Europe/Madrid:20220317T150000
LOCATION:https://www.enginyerstarragona.cat/agenda/details/1799/1799-curs-
 on-line-streaming-cetim-reglamentacio-en
SEQUENCE:0
SUMMARY:[CURS On line streaming CETIM]  REGLAMENTACI? EN SEGURETAT INDUSTR
 IAL. M?DUL 3: INCENDIS
UID:ET_Activitat_1799
URL:https://www.enginyerstarragona.cathttps://www.enginyerstarragona.cat/a
 genda/details/1799/1799-curs-on-line-streaming-cetim-reglamentacio-en
END:VEVENT
END:VCALENDAR
