BEGIN:VCALENDAR
PRODID:-//github.com/rianjs/ical.net//NONSGML ical.net 2.2//EN
VERSION:2.0
BEGIN:VEVENT
CATEGORIES:Activitats
CREATED;TZID=Europe/Madrid:20260422T135256
DESCRIPTION:<table class="table">\n	<thead><tr><th style="">Organitza:</th
 ><th style="">Col?legi d'Enginyers Graduats i Enginyers T?cnics Industria
 ls de Barcelona (ENGINYERS BCN)&nbsp\;amb la col?laboraci? d'ENGINYERS TA
 RRAGONA<br></th></tr></thead><tbody>\n	<tr>\n		<td style="" class="">Diri
 git a:</td>\n		<td style="">Aquest Postgrau est? adre?at a professionals 
 en l'?mbit de la gesti? energ?tica que vulguin assolir coneixements en aq
 uestes l?nies estrat?giques.&nbsp\;<br></td>\n	</tr>\n	<tr><td class="">O
 bjectiu:&nbsp\;</td><td><p>&nbsp\;Aquest m?dul forma part dels 4 m?duls q
 ue componen el Postgrau de Gesti? Energ?tica Eficient.&nbsp\;</p><p>La Un
 i? Europea ha fixat uns objectius a complir dins els compromisos contra e
 l canvi clim?tic i pol?tica energ?tica. Aquest Postgrau pret?n dotar de c
 ontinguts\, eines i estrat?gies pel compliment d'aquestes\, parlant des d
 el mercat el?ctric fins a les energies renovables i passant per temes d'a
 utoconsum.&nbsp\;</p><p>&nbsp\;Aquest Postgrau comptar? amb la participac
 i? de ponents de reconegut prestigi dins de l'?mbit de la gesti? energ?ti
 ca.</p></td></tr><tr>\n		<td style="" class="">Dates:</td>\n		<td style="
 " class="">13\, 20\, 27 de maig\, 3\, 10\, 11\, 17 i 18 de juny&nbsp\; (d
 ivendres i dissabte) de 2022</td>\n	</tr>\n	\n	<tr>\n		<td style="" class
 ="">Durada:</td>\n		<td style="" class="">47&nbsp\; hores</td>\n	</tr>\n	
 <tr>\n		<td style="" class="">Programaci?:</td>\n		<td style=""><p style=
 "text-align: justify\;"><strong>M?dul 3: Eines per a la gesti? energ?tica
  eficient</strong></p><ul><li style="text-align: justify\;">Introducci?</
 li><li style="text-align: justify\;">Normativa</li><li style="text-align:
  justify\;">Auditories/MMEE&nbsp\; &nbsp\; </li></ul><ol><li style="text-
 align: justify\;">&nbsp\; &nbsp\; &nbsp\; &nbsp\; &nbsp\; ISO 50001&nbsp\
 ; &nbsp\; </li><li style="text-align: justify\;">&nbsp\; &nbsp\; &nbsp\; 
 &nbsp\; &nbsp\; UNE EN</li></ol><ul><li style="text-align: justify\;">ID'
 s/KPI's/L?nia base</li><li style="text-align: justify\;">Protocol de Mesu
 ra i Verificaci?</li><li style="text-align: justify\;">An?lisi econ?mica 
 - cicle de vida</li><li style="text-align: justify\;">F?rmules de finan?a
 ment</li><li style="text-align: justify\;">Explotaci? de dades:&nbsp\; &n
 bsp\;&nbsp\;</li></ul><ol><li style="text-align: justify\;">Big Data</li>
 <li style="text-align: justify\;">IoT&nbsp\;&nbsp\; &nbsp\; </li><li styl
 e="text-align: justify\;">Introducci? als sistemes de comptadors&nbsp\; &
 nbsp\; &nbsp\; </li></ol><ul><li style="text-align: justify\;">Detecci?\,
  An?lisi i Control.&nbsp\;&nbsp\; &nbsp\; &nbsp\; &nbsp\;</li><li style="
 text-align: justify\;">Energy Management Systems&nbsp\; &nbsp\; &nbsp\; &
 nbsp\; &nbsp\; </li></ul><ol><li style="text-align: left\;">Consums&nbsp\
 ; &nbsp\; &nbsp\; &nbsp\; &nbsp\; </li><li style="text-align: left\;">Cos
 tos. C?lcul de tarifes\, optimitzaci? de preus\, etc&nbsp\; &nbsp\; &nbsp
 \; &nbsp\; &nbsp\; </li><li style="text-align: left\;">KPIs&nbsp\; &nbsp\
 ; &nbsp\; &nbsp\; &nbsp\; </li><li style="text-align: left\;">Mesura i ve
 rificaci?:&nbsp\; .Seguiment de Projectes de M&amp\;V&nbsp\; .Generaci? d
 e Baselines</li><li style="text-align: left\;">Solar Fotovoltaica i NZEB.
  Aplicacions d'an?lisis.</li><li style="text-align: left\;">Generaci? d'i
 nformes\, alertes\, etc.</li><li style="text-align: left\;">Aprovisioname
 nt de dades per la ISO 50001</li><li style="text-align: left\;">Dashboard
 s</li><li style="text-align: left\;">Energy Big Data. IA al servei de l'e
 fici?ncia energ?tica. Benchmarking. Recommendations. Automatic anomaly de
 tection. NILM (Non Intrusive Load Monitoring). Predictive Maintenance.</l
 i><li style="text-align: left\;">Control: Dom?tica. Projectes d'integraci
 ? i gesti? de sistemes en grans clients.</li></ol><p style="text-align: l
 eft\;">Impartit per:</p><ul><li style="text-align: left\;">ALBERT BAST?. 
 Enginyer T?cnic Energ?tic</li><li style="text-align: left\;">ALFONSO MATE
 OS. Product Owner de Dexma</li><li style="text-align: left\;">LLU?S MORER
 . Cap del programa d'estalvi i efici?ncia energ?tica de l'Institut Catal?
  de l'energia</li><li style="text-align: left\;">?NGEL ORTEGA. Cap de des
 envolupament Energ?tic i Digital de Comsa Service</li><li style="text-ali
 gn: left\;">JOANA MUND?. CEO d'Ecoserveis</li></ul></td>\n	</tr>\n	<tr>\n
 		<td style="">Documentaci?:&nbsp\;&nbsp\;</td>\n		<td style="" class="">
 La documentaci? estar? disponible a la plataforma entre 24 i 48 hores aba
 ns de l?inici de la formaci?. En el cas que hi hagi documentaci? addicion
 al una vegada finalitzada la formaci?\, us la facilitarem posteriorment.<
 /td>\n	</tr>\n	\n	\n	\n	<tr>\n		<td style="" class="">M?s informaci?:</td
 >\n		<td style="" class="RadEDomMouseOver"><a href="https://www.enginyers
 bcn.cat/serveis-colegiats/formacio/cursos-activitats/activitat.html?ID=33
 37">https://www.enginyersbcn.cat/serveis-colegiats/formacio/cursos-activi
 tats/activitat.html?ID=3337</a><br></td>\n	</tr>\n\n<tr><td class="" cols
 pan="2">&nbsp\;</td></tr></tbody></table>
DTEND;TZID=Europe/Madrid:20220513T200000
DTSTAMP:20260422T115256Z
DTSTART;TZID=Europe/Madrid:20220513T160000
LOCATION:https://www.enginyerstarragona.cat/agenda/details/1766/1766-postg
 rau-on-line-streaming-gestio-energetica
SEQUENCE:0
SUMMARY:[POSTGRAU On line streaming]  GESTI? ENERG?TICA EFICIENT.  M?dul 3
 : Eines per a la gesti? energ?tica eficient
UID:ET_Activitat_1766
URL:https://www.enginyerstarragona.cathttps://www.enginyerstarragona.cat/a
 genda/details/1766/1766-postgrau-on-line-streaming-gestio-energetica
END:VEVENT
END:VCALENDAR
