BEGIN:VCALENDAR
PRODID:-//github.com/rianjs/ical.net//NONSGML ical.net 2.2//EN
VERSION:2.0
BEGIN:VEVENT
CATEGORIES:Activitats
CREATED;TZID=Europe/Madrid:20260420T024041
DESCRIPTION:<table class="table">\n	<tbody><tr><td style="width:100px\; te
 xt-align: left\;">Modalitat:&nbsp\;</td><td style="text-align: left\;">On
  line streaming. Permet la retransmissi? en directe del curs a trav?s de 
 l'aula virtual amb la plataforma CISCO WEBEX. Es podr? realitzar des del 
 lloc que desitgi\, amb ordinador\, m?bil o tableta\, i permet realitzar e
 l seguiment del curs en directe amb el professor/a\, participar en la res
 oluci? dels exercicis\, preguntar els dubtes in situ\, escoltar les consu
 ltes dels altres assistents i seguir les anotacions del professor/a a la 
 pissarra. Una vegada finalitzada la formaci? els assistents podran consul
 tar les gravacions del curs a la seva ?rea privada\, si aquestes han esta
 t pr?viament autoritzades pel professor/a del curs o entitat gestora.&nbs
 p\;&nbsp\;</td></tr><tr>\n		<td style="width:100px\; text-align: left\;">
 Dirigit a:</td>\n		<td style="text-align: left\;"><p><span>Dirigit a prof
 essionals de l'enginyeria que han de dirigir o controlar projectes constr
 uctius.</span></p></td>\n	</tr>\n	<tr>\n		<td style="width:100px\; text-a
 lign: left\;">Dates:</td>\n		<td style="text-align: left\;">27 i 28 d'abr
 il (dimarts i dimecres)<br></td>\n	</tr>\n	<tr>\n		<td style="width:100px
 \; text-align: left\;">Horari:</td>\n		<td style="text-align: left\;">de 
 les 9.30 a les 13.30 hores </td>\n	</tr>\n	\n	<tr>\n		<td style="width:10
 0px\; text-align: left\;">Durada:</td>\n		<td style="text-align: left\;">
 8 hores lectives</td>\n	</tr>\n	<tr>\n		<td style="width:100px\; text-ali
 gn: left\;">Programaci?:</td>\n		<td style="text-align: left\;"><ul><li>I
 ntroducci?:&nbsp\;<span>Definici? de projecte. Cicle de vida. Composici? 
 d?un projecte. Organitzacions que intervenen. Agents que intervenen. Tipu
 s de projectes. Entorn normatiu. Diagrama De responsabilitats</span><br><
 /li><li>Metodologia:  Composici? d?un projecte. Variables que intervenen 
 en la metodologia. Fases d?un enc?rrec. Exemples.</li><li>Planificaci?:  
 Hist?ria. PERT\, ROY\, GANT. Optimitzaci?.</li><li> Estudi del risc:  Def
 inici? de risc. Objectiu i finalitat de l?an?lisi. Gesti? del risc. Respo
 sta al risc</li><li> Compres i contractaci?:  Exercici pr?ctic: Cas ETAP.
  Tipus de contractes: Claus en m?\, Construction Management\, Contractist
 a General\, Management Constructing. Preu fix\, preu tancat.</li><li> Doc
 umentaci?:  Circulaci? de documents. Procediments de comunicacions. Codif
 icaci?.</li><li> Control d?obra:  Defensa del projecte. Control de la rec
 epci? de materials. Control de l?execuci?. Proves de funcionament. Inici 
 i final d?obra.</li><li> BIM:  Que ?s BIM\; Qu? s?ha de saber de BIM\, Lo
 t\, Loi\, dimensions.</li><li> Comunicaci? i motivaci?:  Comunicaci? verb
 al. T?cniques de direcci?. Estils de direcci?. Motivaci?</li><li>  Passat
 \, present i futur:  D?on venim\, on estem\, on anem.</li><li>Resum i con
 clusions</li></ul></td>\n	</tr>\n	<tr>\n		<td style="width:100px\; text-a
 lign: left\;">Documentaci?:</td>\n		<td style="text-align: left\;">La doc
 umentaci? estar? disponible a la plataforma entre 24 i 48 hores abans de 
 l?inici de la formaci?. En el cas que hi hagi documentaci? addicional una
  vegada finalitzada la formaci?\, us la facilitarem posteriorment.</td>\n
 	</tr>\n	<tr>\n		<td style="width:100px\; text-align: left\;">Certificaci
 ?:</td>\n		<td style="text-align: left\;">Una vegada finalitzada l?acci? 
 formativa\, els alumnes obtindran un certificat d?assist?ncia que es podr
 an descarregar a la plataforma.  </td>\n	</tr>\n	<tr>\n		<td style="width
 :100px\; text-align: left\;">Objectius:</td><td style="text-align: left\;
 "><span>Establir i sistematitzar t?cniques en el qual s'ha de moure un di
 rector de projecte i\, molt especialment\, les caracter?stiques personals
  i professionals que haur? de posar en joc per assegurar l'?xit en els pr
 ojectes que se li encomanin.</span></td>\n	</tr>\n	<tr>\n		<td style="wid
 th:100px\; text-align: left\;">Bonificacions:</td>\n		<td style="text-ali
 gn: left\;">Gestionem els tr?mits per tal que puguis beneficiar-te de la 
 bonificaci? corresponent per formaci?.</td>\n	</tr>\n	<tr>\n		<td style="
 width:100px\; text-align: left\;">Instruccions per bonificar:</td>\n		<td
  style="text-align: left\;"><p>\n1. Sol?licita els impresos al CETIT a fo
 rmacio@enginyerstarragona.cat\n</p><p>2. Aporta tota la informaci? 10 die
 s naturals abans de l'inici del curs.</p><p>\n3. NOTA IMPORTANT:  les bon
 ificacions es porten a terme per mitj? d'una assessoria externa. Aquells 
 que vulguin acollir-se a la bonificaci? de qualsevol acci? formativa\, el
  preu s'incrementar? en un  20 % ( que tamb? es podr? bonificar i recuper
 ar).\n</p></td>\n	</tr>\n\n</tbody></table>
DTEND;TZID=Europe/Madrid:20210427T133000
DTSTAMP:20260420T004041Z
DTSTART;TZID=Europe/Madrid:20210427T093000
LOCATION:https://www.enginyerstarragona.cat/agenda/details/1656/1656-curs-
 on-line-streaming-direccio-de-projectes
SEQUENCE:0
SUMMARY:[Curs on line streaming] DIRECCI? DE PROJECTES D'ENGINYERIA
UID:ET_Activitat_1656
URL:https://www.enginyerstarragona.cathttps://www.enginyerstarragona.cat/a
 genda/details/1656/1656-curs-on-line-streaming-direccio-de-projectes
END:VEVENT
BEGIN:VEVENT
CATEGORIES:Activitats
CREATED;TZID=Europe/Madrid:20260420T024041
DESCRIPTION:<table class="table">\n	<tbody><tr><td style="width:100px\; te
 xt-align: left\;">Modalitat:&nbsp\;</td><td style="text-align: left\;">On
  line streaming. Permet la retransmissi? en directe del curs a trav?s de 
 l'aula virtual amb la plataforma CISCO WEBEX. Es podr? realitzar des del 
 lloc que desitgi\, amb ordinador\, m?bil o tableta\, i permet realitzar e
 l seguiment del curs en directe amb el professor/a\, participar en la res
 oluci? dels exercicis\, preguntar els dubtes in situ\, escoltar les consu
 ltes dels altres assistents i seguir les anotacions del professor/a a la 
 pissarra. Una vegada finalitzada la formaci? els assistents podran consul
 tar les gravacions del curs a la seva ?rea privada\, si aquestes han esta
 t pr?viament autoritzades pel professor/a del curs o entitat gestora.&nbs
 p\;&nbsp\;</td></tr><tr>\n		<td style="width:100px\; text-align: left\;">
 Dirigit a:</td>\n		<td style="text-align: left\;"><p><span>Dirigit a prof
 essionals de l'enginyeria que han de dirigir o controlar projectes constr
 uctius.</span></p></td>\n	</tr>\n	<tr>\n		<td style="width:100px\; text-a
 lign: left\;">Dates:</td>\n		<td style="text-align: left\;">27 i 28 d'abr
 il (dimarts i dimecres)<br></td>\n	</tr>\n	<tr>\n		<td style="width:100px
 \; text-align: left\;">Horari:</td>\n		<td style="text-align: left\;">de 
 les 9.30 a les 13.30 hores </td>\n	</tr>\n	\n	<tr>\n		<td style="width:10
 0px\; text-align: left\;">Durada:</td>\n		<td style="text-align: left\;">
 8 hores lectives</td>\n	</tr>\n	<tr>\n		<td style="width:100px\; text-ali
 gn: left\;">Programaci?:</td>\n		<td style="text-align: left\;"><ul><li>I
 ntroducci?:&nbsp\;<span>Definici? de projecte. Cicle de vida. Composici? 
 d?un projecte. Organitzacions que intervenen. Agents que intervenen. Tipu
 s de projectes. Entorn normatiu. Diagrama De responsabilitats</span><br><
 /li><li>Metodologia:  Composici? d?un projecte. Variables que intervenen 
 en la metodologia. Fases d?un enc?rrec. Exemples.</li><li>Planificaci?:  
 Hist?ria. PERT\, ROY\, GANT. Optimitzaci?.</li><li> Estudi del risc:  Def
 inici? de risc. Objectiu i finalitat de l?an?lisi. Gesti? del risc. Respo
 sta al risc</li><li> Compres i contractaci?:  Exercici pr?ctic: Cas ETAP.
  Tipus de contractes: Claus en m?\, Construction Management\, Contractist
 a General\, Management Constructing. Preu fix\, preu tancat.</li><li> Doc
 umentaci?:  Circulaci? de documents. Procediments de comunicacions. Codif
 icaci?.</li><li> Control d?obra:  Defensa del projecte. Control de la rec
 epci? de materials. Control de l?execuci?. Proves de funcionament. Inici 
 i final d?obra.</li><li> BIM:  Que ?s BIM\; Qu? s?ha de saber de BIM\, Lo
 t\, Loi\, dimensions.</li><li> Comunicaci? i motivaci?:  Comunicaci? verb
 al. T?cniques de direcci?. Estils de direcci?. Motivaci?</li><li>  Passat
 \, present i futur:  D?on venim\, on estem\, on anem.</li><li>Resum i con
 clusions</li></ul></td>\n	</tr>\n	<tr>\n		<td style="width:100px\; text-a
 lign: left\;">Documentaci?:</td>\n		<td style="text-align: left\;">La doc
 umentaci? estar? disponible a la plataforma entre 24 i 48 hores abans de 
 l?inici de la formaci?. En el cas que hi hagi documentaci? addicional una
  vegada finalitzada la formaci?\, us la facilitarem posteriorment.</td>\n
 	</tr>\n	<tr>\n		<td style="width:100px\; text-align: left\;">Certificaci
 ?:</td>\n		<td style="text-align: left\;">Una vegada finalitzada l?acci? 
 formativa\, els alumnes obtindran un certificat d?assist?ncia que es podr
 an descarregar a la plataforma.  </td>\n	</tr>\n	<tr>\n		<td style="width
 :100px\; text-align: left\;">Objectius:</td><td style="text-align: left\;
 "><span>Establir i sistematitzar t?cniques en el qual s'ha de moure un di
 rector de projecte i\, molt especialment\, les caracter?stiques personals
  i professionals que haur? de posar en joc per assegurar l'?xit en els pr
 ojectes que se li encomanin.</span></td>\n	</tr>\n	<tr>\n		<td style="wid
 th:100px\; text-align: left\;">Bonificacions:</td>\n		<td style="text-ali
 gn: left\;">Gestionem els tr?mits per tal que puguis beneficiar-te de la 
 bonificaci? corresponent per formaci?.</td>\n	</tr>\n	<tr>\n		<td style="
 width:100px\; text-align: left\;">Instruccions per bonificar:</td>\n		<td
  style="text-align: left\;"><p>\n1. Sol?licita els impresos al CETIT a fo
 rmacio@enginyerstarragona.cat\n</p><p>2. Aporta tota la informaci? 10 die
 s naturals abans de l'inici del curs.</p><p>\n3. NOTA IMPORTANT:  les bon
 ificacions es porten a terme per mitj? d'una assessoria externa. Aquells 
 que vulguin acollir-se a la bonificaci? de qualsevol acci? formativa\, el
  preu s'incrementar? en un  20 % ( que tamb? es podr? bonificar i recuper
 ar).\n</p></td>\n	</tr>\n\n</tbody></table>
DTEND;TZID=Europe/Madrid:20210428T133000
DTSTAMP:20260420T004041Z
DTSTART;TZID=Europe/Madrid:20210428T093000
LOCATION:https://www.enginyerstarragona.cat/agenda/details/1656/1656-curs-
 on-line-streaming-direccio-de-projectes
SEQUENCE:0
SUMMARY:[Curs on line streaming] DIRECCI? DE PROJECTES D'ENGINYERIA
UID:ET_Activitat_1656
URL:https://www.enginyerstarragona.cathttps://www.enginyerstarragona.cat/a
 genda/details/1656/1656-curs-on-line-streaming-direccio-de-projectes
END:VEVENT
END:VCALENDAR
