BEGIN:VCALENDAR
PRODID:-//github.com/rianjs/ical.net//NONSGML ical.net 2.2//EN
VERSION:2.0
BEGIN:VEVENT
CATEGORIES:Activitats
CREATED;TZID=Europe/Madrid:20260426T035329
DESCRIPTION:L'objectiu de les jornades ?s donar a con?ixer a arquitectes\,
  enginyers\, municipis i altres professionals experi?ncies \, eines i m?t
 odes que permetin desenvolupar models d'ordenaci? territorial i urbana am
 b criteris ambientals. <br>\n<br>\n\nEl 80 % de la poblaci? d'Europa viu 
 a ciutats. Les ciutats s?n el suport de l'activitat econ?mica\, del desen
 volupament regional i de la qualitat de vida dels seus habitants. Tanmate
 ix\, les ciutats s?n tamb? el lloc on es consumeix m?s energia\, s'acumul
 en m?s residus\, es produeix m?s contaminaci? i es consumeix m?s espai. <
 br>\n<br>\n\nEl concepte de sostenibilitat\, tot i ?sser de recent creaci
 ?\, s'ha dif?s mols i per tot arreu\, i ?s tan senzill i entenedor com sa
 ber que cal utilitzar els recursos de qu? disposem \, de forma que no com
 prometin els de les generacions futures. Aquest concepte\, aplicat al con
 sum d'energia de la ciutat\, suggereix que els edificis han d'assolir el 
 major grau d'autosufici?ncia energ?tica\, a m?s de reduir l'impacte ambie
 ntal que es deriva de la seva construcci?\, gesti? i reconstrucci? <br>\n
 <br>\n\n<b>PROGRAMA </b><br><br>\n\n\n\n<b>4 DE MAIG </b>\n<br>\n<br>\n\n
 16.00 h PLANEJAMENT URBAN?STIC<br>\n\nBenvinguda als assistents i lliuram
 ent de la documentaci?<br>\n\n16.15 h Inauguraci?<br>\n\n16.30 h EVOLUCI?
  I HIST?RIA DE LA COSNTRUCCI?<br>\n\nSr. Albert Cauch?\, Doctor Arquitect
 e per ETSAB i Professor Titular del departament de construccions arquitec
 t?niques i de la Universitat Polit?cnica de Catalunya (UPC)<br>\n\n17.30 
 h ELS PROBLEMES DE LA CIUTAT ACTUAL <br>\n\nSra. N?ria Rovira\, T?cnica d
 e Medi Ambient. Unitat de Medi Ambient- SAM Diputaci? de Tarragona<br>\n\
 n18.30 h Pausa caf? <br>\n\n19.00 h MOBILITAT- URBANISME- MEDI AMBIENT <b
 r>\n\nSr. Gabriel Jodar. Director Consulting Formaplan <br>\n\n20.00 h PA
 SSAT\, PRESENT I FUTUR DEL LITORAL CATAL?<br>\n\nSr. Josep M. Vilanova. D
 octor Arquitecte. President de l'Agrupaci? d' Arquitectes Urbanistes de C
 atalunya<br><br>\n\n\n\n\n<b>DIA 5 DE MAIG</b>\n<br><br>\n\n\n16.00 h SOS
 TENIBILITAT LA PROBLEM?TICA DE L'AIGUA I ELS ASPECTES APLICATS A LA CONST
 RUCCI?<br>\n\nSr. Xavier Mart?. Responsable de Programaci? Sectorial de l
 a Direcci? General de planificaci? Ambiental. Departament de Medi Ambient
  de la Generalitat de Catalunya<br>\n\n14.00 h A?LLAMENT AC?STIC I SOSTEN
 IBILITAT<br>\n\nSr. Josep Maria Querol Noguera. Enginyer Industrial. Cons
 ultor ac?stic. Querol consultors Ac?sti9cs S.L.<br>\n\n18.00 h PRODUCCI? 
 SIMULT?NIA D'ELECTRICITAT CALOR I FRED PER EDIFICIS<br>\n\nSr. Joan Carle
 s Bruno. CREVER- Universitat Rovira i Virgili <br>\n\n19.00 h Pausa - caf
 ?<br>\n\n19.30 h LA CONSTRUCCI? D'UNA CASA SOSTENIBLE <br>\n\nDisseny\, f
 orma\, orientaci? i distribuci?<br>\n\nEntorn clim?tic<br>\n\nIl?luminaci
 ?<br>\n\nRefrigeraci? <br>\n\nA?llament t?rmic <br>\n\nEnergies renovable
 s i/o components bioclim?tics <br>\n\nACV<br>\n\nPetjada ecol?gica <br>\n
 \nSr. Coque Claret. Arquitecte. Professor de l'Escola T?cnica Superior d'
 Arquitectura del Vall?s i de l'Escola d'Arquitectura de la Salle (URL)<br
 ><br>\n\n\n\n\n<b>\nDIA 6 DE MAIG</b>\n<br>\n<br>\n\n\n16.00 h CASOS PR?C
 TICS<br>\n\nLA ECO-CIUDAD DE SARRIGUREN<br>\n\nSr. Carlos Bea. Director T
 ?cnic de Nasursa<br>\n\n17.00 h MICROXARXES DE GENERACI? SOLAR H?BRIDES (
 MGS): INFRAESTRUCTURA I SERVEI EL?CTRIC PER AL DESENVOLUPAMENT RURAL. Exp
 eri?ncies del ve?nat de Cal Peraire (Maresme\, Catalunya) i de l'illa de 
 Floreana (Gal?pagos\, Equador)<br>\n\nSr. Pol Arranz. Unidad de Consultor
 ia y Cooperaci?n Trama Tecnoambiental S.L<br>\n\n18.00 h ELS CONCEPTES EN
 ERG?TICS DEL F?RUM 2004<br>\n\nSr. Aleksandar Ivancic. Responsable de l'?
 rea d'Energies Renovables de Barcelona Regional <br>\n\n19.00 h Pausa-caf
 ? <br>\n\n19.30 h LA CASERNA DE LA GU?RDIA URBANA DE TARRAGONA Sr. Joan S
 abat?. Arquitecte. Cap de l'?rea de construcci? de l'Escola d'Arquitectur
 a de la Salle (URL) 20.30 h INSTAL?LACI? SOLAR FOTOVOLTAICA DE LA BIBLIOT
 ECA DE LA URV. <p>\n\n<b>INFORMACI? I INSCRIPCIONS: </b>\nTARRACO ENERGIA
  LOCAL\, tel. 977 225 460 fax 977 240 900\, \n<u><a href="mailto:ftarraco
 @tinet.org\n" target="_blank">mailto:ftarraco@tinet.org\n</a></u> <br>\n\
 n<b>INSCRIPCI? GRATU?TA PER ALS COL?LEGIATS</b>\n\n
DTEND;TZID=Europe/Madrid;VALUE=DATE:20040507
DTSTAMP:20260426T015329Z
DTSTART;TZID=Europe/Madrid;VALUE=DATE:20040506
LOCATION:https://www.enginyerstarragona.cat/agenda/details/163/163-6a-aula
 -deco-construccio
SEQUENCE:0
SUMMARY:6A AULA D'ECO CONSTRUCCI?
UID:ET_Activitat_163
URL:https://www.enginyerstarragona.cathttps://www.enginyerstarragona.cat/a
 genda/details/163/163-6a-aula-deco-construccio
END:VEVENT
END:VCALENDAR
