BEGIN:VCALENDAR
PRODID:-//github.com/rianjs/ical.net//NONSGML ical.net 2.2//EN
VERSION:2.0
BEGIN:VEVENT
CATEGORIES:Activitats
CREATED;TZID=Europe/Madrid:20260421T112102
DESCRIPTION:<table class="table">\n	<tbody>\n	<tr>\n		<td style="width:100
 px\; text-align: left\;">Dates:</td><td style="text-align: left\;">28 d'a
 bril (dimarts)</td>\n	</tr>\n	<tr><td style="width:100px\; text-align: le
 ft\;">&nbsp\;Organitza:&nbsp\;</td><td style="text-align: left\;">ITEC (I
 nstitut Tecnologia de la Construcci?)</td></tr><tr>\n		<td style="width:1
 00px\; text-align: left\;">Horari:</td>\n		<td style="text-align: left\;"
 >11.00 h</td>\n	</tr>\n	\n	<tr>\n		<td style="width:100px\; text-align: l
 eft\;">Durada:</td>\n		<td style="text-align: left\;">1 hora</td>\n	</tr>
 \n	<tr>\n		<td style="width:100px\; text-align: left\;">Programaci?:</td>
 \n		<td style="text-align: left\;">Proc?s des del moment en qu? es rep l?
 aprovaci? d?un projecte subvencionat fins a la seva finalitzaci?. Es trac
 taran temes de gesti?\, seguiment i justificaci? de projectes a nivell ge
 neral\, sense centrar-nos en cap convocat?ria concreta. Pot ser ?til per 
 a totes aquelles persones que tenen poca experi?ncia en el seguiment i ju
 stificaci? de projectes R+D+i vulguin aclarir dubtes o rebre consells en 
 aquest sentit.<br></td>\n	</tr>\n	\n	\n	\n	\n	\n\n<tr><td style="width:10
 0px\; text-align: left\;">Ponent:&nbsp\;</td><td style="text-align: left\
 ;"><font color="#333333">Laia Casafont\, Llicenciada en Ci?ncies Ambienta
 ls i Gestora de Projectes de la Innovaci? a l?ITeC<br></font></td></tr><t
 r><td style="width:100px\; text-align: left\;"><br></td><td style="text-a
 lign: left\;"><p>LA INSCRIPCI? ?S GRATU?TA</p></td></tr></tbody></table>
DTEND;TZID=Europe/Madrid:20200428T120000
DTSTAMP:20260421T092102Z
DTSTART;TZID=Europe/Madrid:20200428T110000
LOCATION:https://www.enginyerstarragona.cat/agenda/details/1524/1524-webin
 ar-itec-gestio-i-justificacio-de-project
SEQUENCE:0
SUMMARY:[Webinar ITEC] Gesti? i justificaci? de projectes R+D+i
UID:ET_Activitat_1524
URL:https://www.enginyerstarragona.cathttps://www.enginyerstarragona.cat/a
 genda/details/1524/1524-webinar-itec-gestio-i-justificacio-de-project
END:VEVENT
END:VCALENDAR
