BEGIN:VCALENDAR
PRODID:-//github.com/rianjs/ical.net//NONSGML ical.net 2.2//EN
VERSION:2.0
BEGIN:VEVENT
CATEGORIES:Activitats
CREATED;TZID=Europe/Madrid:20260423T115433
DESCRIPTION:<table class="table">\n	<tbody><tr><td style="width:100px\; te
 xt-align: left\;"><strong>&nbsp\;</strong></td><td style="text-align: lef
 t\;"><p><strong>&nbsp\;Enginyers Tarragona col?labora en la presentaci? d
 el programa ProACCI? 4.0</strong></p></td></tr><tr>\n		<td style="width:1
 00px\; text-align: left\;"><p><span style="background-color: transparent\
 ;"><strong>Dirigit a:</strong></span></p></td>\n		<td style="text-align: 
 left\;"><p>A les empreses\, i molt especialment a les pimes.&nbsp\;</p></
 td>\n	</tr>\n	<tr><td style="width:100px\; text-align: left\;"><strong>&n
 bsp\;Lloc:&nbsp\;</strong></td><td style="text-align: left\;"><p>Hotel SB
  Ciutat de Tarragona (Pla?a Imperial T?rraco\, 5 - 43005 Tarragona).<span
 ></span></p></td></tr><tr>\n		<td style="width:100px\; text-align: left\;
 "><strong>Dates:</strong></td>\n		<td style="text-align: left\;"><span st
 yle="font-size: 11pt\; font-family: Calibri\, sans-serif\;">16 de desembr
 e</span> (dilluns)</td>\n	</tr>\n	<tr>\n		<td style="width:100px\; text-a
 lign: left\;"><strong>Horari:</strong></td>\n		<td style="text-align: lef
 t\;">De 9 a 11.30 hores</td>\n	</tr>\n	\n	<tr>\n		<td style="width:100px\
 ; text-align: left\;"><strong>Durada:</strong></td>\n		<td style="text-al
 ign: left\;">2 hores i 30 minuts aproximadament</td>\n	</tr>\n	<tr>\n		<t
 d style="width:100px\; text-align: left\;"><strong>Programaci?:</strong><
 /td>\n		<td style="text-align: left\;"><p><a href="https://www.enginyerst
 arragona.cat/assets/documents/generic/0e7849f0-554b-444d-a377-2cd154b1db0
 e.pdf">S'adjunta</a></p><p>Engloba diferents iniciatives dirigides a prom
 oure la incorporaci? de tecnologies com la intel?lig?ncia artificial\, el
  blockchain\, la rob?tica\, el big data\, ... a les empreses\, i molt esp
 ecialment a les pimes.&nbsp\;</p><p>Aquest acte s?emmarca en un seguit de
  jornades que es faran arreu de Catalunya a partir del 25 de novembre i q
 ue compten amb el suport d?institucions i organismes com Pimec\, Foment i
  el Consell de Cambres.</p></td>\n	</tr>\n	\n	\n	\n	\n	\n\n<tr><td style=
 "width:100px\; text-align: left\;">&nbsp\;</td><td style="text-align: lef
 t\;">&nbsp\;</td></tr></tbody></table>
DTEND;TZID=Europe/Madrid:20191216T120000
DTSTAMP:20260423T095433Z
DTSTART;TZID=Europe/Madrid:20191216T090000
LOCATION:https://www.enginyerstarragona.cat/agenda/details/1444/1444-prese
 ntacio-del-programa-proaccio-40
SEQUENCE:0
SUMMARY:Presentaci? del programa ProACCI? 4.0
UID:ET_Activitat_1444
URL:https://www.enginyerstarragona.cathttps://www.enginyerstarragona.cat/a
 genda/details/1444/1444-presentacio-del-programa-proaccio-40
END:VEVENT
END:VCALENDAR
