BEGIN:VCALENDAR
PRODID:-//github.com/rianjs/ical.net//NONSGML ical.net 2.2//EN
VERSION:2.0
BEGIN:VEVENT
CATEGORIES:Activitats
CREATED;TZID=Europe/Madrid:20260424T174720
DESCRIPTION:<table class="table">\n	<tbody><tr>\n		<td style="width:100px\
 ; text-align: left\;"><strong>Dirigit a:</strong></td>\n		<td style="text
 -align: left\;">T?cnics\, Sector Industrial\, T?cnics Municipals que trac
 tin amb empreses que disposin de focus emissors a l'atmosfera.</td>\n	</t
 r>\n	<tr>\n		<td style="width:100px\; text-align: left\;"><strong>Dates:<
 /strong></td>\n		<td style="text-align: left\;">20 de novembre (dimecres)
 ]</td>\n	</tr>\n	<tr>\n		<td style="width:100px\; text-align: left\;"><st
 rong>Horari:</strong></td>\n		<td style="text-align: left\;">De les 10.00
 h a les 12.00 hores</td>\n	</tr>\n	\n	<tr>\n		<td style="width:100px\; te
 xt-align: left\;"><strong>Durada:</strong></td>\n		<td style="text-align:
  left\;">2 Hores</td>\n	</tr>\n	<tr>\n		<td style="width:100px\; text-ali
 gn: left\;"><strong>Programaci?:</strong></td>\n		<td style="text-align: 
 left\;"><ul><li>Antecedents: Normativa aplicable emissions i activitats</
 li><li>?mbit d'aplicaci?: empreses/instal?lacions afectades</li><li>Compe
 t?ncies: Municipals vs Generalitat</li><li>Obligacions dels titulars</li>
 <li>Autoritzaci?/Notificaci? d'emissions a l'atmosfera</li><li>Classifica
 cions d'instal?lacions (CAPCA)</li><li>Relaci? entre tr?mits atmosfera (C
 APCA) i control d'activitats (PCAA)</li><li>Consultes\, precs i preguntes
 </li></ul></td>\n	</tr>\n	\n	\n	<tr>\n		<td style="width:100px\; text-ali
 gn: left\;"><strong>Objectius:</strong></td>\n		<td style="text-align: le
 ft\;">Con?ixer els canvis que incorpora el <strong>Decret 139/2018 de 3 d
 e juliol</strong> pel que fa a la classificaci?\, tr?mits\, compet?ncies 
 de les activitats potencialment contaminants de l'atmosfera i la seva rel
 aci? amb la normativa d'activitats (PCAA)</td>\n	</tr>\n	\n	<tr>\n		<td s
 tyle="width:100px\; text-align: left\;"><strong>Equip Docent:</strong></t
 d>\n		<td style="text-align: left\;"><strong>Mariana Pastorino</strong>. 
 Responsable departament de Medi Ambient T?V S?D ATISAE Catlunya i Directo
 ra T?cnica EC-PCAA.</td>\n	</tr>\n\n</tbody></table>
DTEND;TZID=Europe/Madrid;VALUE=DATE:20191121
DTSTAMP:20260424T154720Z
DTSTART;TZID=Europe/Madrid;VALUE=DATE:20191120
LOCATION:https://www.enginyerstarragona.cat/agenda/details/1432/1432-a-les
 -terres-de-lebre-novetats-per-empreses-p
SEQUENCE:0
SUMMARY:[A LES TERRES DE L'EBRE] NOVETATS PER EMPRESES POTENCIALMENT CONTA
 MINANTS DE L'ATMOSFERA
UID:ET_Activitat_1432
URL:https://www.enginyerstarragona.cathttps://www.enginyerstarragona.cat/a
 genda/details/1432/1432-a-les-terres-de-lebre-novetats-per-empreses-p
END:VEVENT
END:VCALENDAR
