BEGIN:VCALENDAR
PRODID:-//github.com/rianjs/ical.net//NONSGML ical.net 2.2//EN
VERSION:2.0
BEGIN:VEVENT
CATEGORIES:Activitats
CREATED;TZID=Europe/Madrid:20260421T152038
DESCRIPTION:<table class="table">\n        <tbody><tr>\n            <td st
 yle="width: 148px\;" valign="top" class="pivot">\n                Codi ci
 rcular:</td>\n            <td>56/16</td>\n        </tr>\n        <tr>\n  
           <td valign="top" class="pivot">\n                Dates:</td>\n 
            <td>3 de novembre (dijous)&nbsp\;</td>\n        </tr>\n       
  <tr>\n            <td valign="top" class="pivot">\n                Horar
 i:</td>\n            <td>De les 16.00 a les 18.00 hores&nbsp\;</td>\n    
     </tr>\n    <tr>\n        <td valign="top" class="pivot">\n           
  Lloc:\n        </td>\n        <td>Seu del CETIT\, Av. de Roma\, 7 de Tar
 ragona i transm?s per videoconfer?ncia a les instal?lacions de les Terres
  de l'Ebre\, Carrer Mercaders\, 2 de Tortosa.\n            <br><br></td>\
 n    </tr>\n        <tr>\n            <td valign="top" class="pivot">\n  
               Assistents m?nim/m?xim:</td>\n            <td>6/25</td>\n  
       </tr>\n        <tr>\n            <td valign="top" class="pivot">\n 
                Durada:</td>\n            <td>2 hores&nbsp\;</td>\n       
  </tr>\n        <tr>\n            <td valign="top" class="pivot">\n      
           Professorat:</td>\n            <td>Sr. Jordi Ortega Soriano\,&n
 bsp\;especialitzat en dret administratiu\, seguretat privada i p?blica\, 
 penal i dret de la TIC. <br><br>Advocat exercint col?legiat de l'Il?lustr
 e Col?legi d'Advocats de Barcelona (ICAB)\, amb s?lida experi?ncia en pro
 cessos penals\, contenciosos administratius i civils. <br><br>Professor d
 el M?ster d'Edici? de la Universitat Aut?noma de Barcelona\, ponent en no
 mbroses confer?ncies\, autor de llibres jur?dics i articles cient?fics\, 
 ?s Diplomat Superior en Criminologia (O.B.) i Diplomat d'Estudis Avan?ats
  en Dret Penal aplicat al Dret de les TIC (O.N.I.D.).</td>\n        </tr>
 \n        <tr>\n            <td valign="top" class="pivot">\n            
     Objectius:</td>\n            <td>\n                <p class="">La Res
 ponsabilitat Penal de les Persones Jur?diques ?s una realitat certa que a
 fegeix una nova complicaci? legal en la gesti? de les empreses.<br><br>El
 s incompliments de la norma s?n sancionats amb un cat?leg molt contundent
  de penes que passen des de les multes econ?miques fins al mateix tancame
 nt i venda de la companyia afectada pel jutge penal. Tampoc conv? menyspr
 ear el cost en la imatge i reputaci? d'una empresa que pot tenir una impu
 taci? d'aquest tipus.<br><br>L'?nica via que ha deixat el legislador per 
 evitar o atenuar aquesta Responsabilitat Penal Corporativa ?s la possibil
 itat d'acreditar la dilig?ncia deguda en la gesti? de la persona jur?dica
 .<br><br>Aquest Seminari donar? les pautes inicials respecte del que ?s l
 a Responsabilitat Penal Corporativa i sobretot de la composici? d'una Pla
  Integral de Prevenci? del Delicte Corporatiu que permetr? a l'empresa ac
 reditar la dilig?ncia deguda amb la intenci? d'atenuar o eximir una possi
 ble sanci?.</p></td>\n        </tr>\n        <tr>\n            <td valign
 ="top" class="pivot">\n                Continguts:</td>\n            <td>
 \n                &nbsp\;<p class="">I. Qu? ?s la Responsabilitat Penal C
 orporativa (RPC)?</p> <p class="">II. A qui\, quan i com afecta la RPC</p
 > <p class="">III. Requisits d'elusi? de la RPC</p> <p class="">IV. La so
 luci? d'ATCERBERUS: El Pla Integral de Prevenci? del Delicte Corporatiu (
 PIPDC).</p> <p class="">V. Qu? ?s i com es compon un PIPDC.</p> <p class=
 "">VI. Valor afegit del PIPDC d?ATCERBERUS.</p> <p class="">VII. Altres t
 emes</p></td>\n        </tr>\n        <tr>\n            <td valign="top" 
 class="pivot">\n                Destinataris:</td>\n            <td>\n   
              <p class="">Professionals vinculats a la seguretat industria
 l\, especialistes en Organitzaci?\, Sistemes d'Informaci? i en q?estions 
 jur?diques\, tals com: Enginyers amb responsabilitat de gesti?\, Administ
 radors de Societats\, Directius d'empreses\, Responsables de Safety\, Dir
 ectors\, Administradors\, Caps de Departaments\, Gestors d'Associacions\,
  Patrons de Fundacions i qualsevol professional interessat en la Responsa
 bilitat Penal Corporativa en les organitzacions priva-des o p?bliques que
  tinguin l'obligaci? d'implantar les mesures contemplades en l'article 31
 bis i seg?ents del Codi Penal.</p></td>\n        </tr>\n         \n      
    \n        \n         \n         \n         <tr>\n            <td valig
 n="top" class="pivot"><br></td>\n            <td>INSCRIPCI? GRATU?TA</td>
 \n        </tr>\n        </tbody></table>
DTEND;TZID=Europe/Madrid:20161103T180000
DTSTAMP:20260421T132038Z
DTSTART;TZID=Europe/Madrid:20161103T160000
LOCATION:https://www.enginyerstarragona.cat/agenda/details/1227/1227-confe
 rencia-responsabilitat-penal-corporativa
SEQUENCE:0
SUMMARY:[Confer?ncia] RESPONSABILITAT PENAL CORPORATIVA
UID:ET_Activitat_1227
URL:https://www.enginyerstarragona.cathttps://www.enginyerstarragona.cat/a
 genda/details/1227/1227-conferencia-responsabilitat-penal-corporativa
END:VEVENT
END:VCALENDAR
