BEGIN:VCALENDAR
PRODID:-//github.com/rianjs/ical.net//NONSGML ical.net 2.2//EN
VERSION:2.0
BEGIN:VEVENT
CATEGORIES:Activitats
CREATED;TZID=Europe/Madrid:20260421T100146
DESCRIPTION:S'ha organitzat aquest curs amb l'objectiu de con?ixer els ele
 ments que configuren l'estr?s i saber-los recon?ixer en la vida real\, ta
 nt  a nivell personal com professional. Treballar instruments i estrat?gi
 es per millorar la gesti? de les nostres organitzacions<br><br>\nEs tract
 a de poder diferenciar en la realitat els diferents processos d'estr?s\, 
 bournout i de mobbing\, per poder intervenir i prendre consci?ncia dels p
 unts forts i febles\, tant personals com de la nostra organitzac?? labora
 l\, per tal de millorar les sin?rgies i el comprom?s  entre les persones 
 i l'empresa<br><br>\n<b>PROGRAMA DEL CURS</b><br>\n1. El proc?s de genera
 ci? de l'estr?s<br>\n2. Identificaci? dels elements m?s significatius del
  proc?s a partir de casos pr?ctics<br>\n\n3. Les fonts d'estr?s laboral<b
 r>\n4. Caracter?stiques personals davant l'estr?s<br>\n5. Com afrontar l'
 estr?s. Estrat?gies. <br>\n\n6. Instruments i eines de mesura. <br>\n\n7.
  Elaboraci? de propostes de millora adaptades a la nostra organitzaci?<br
 >\n<br>\n<b>METODOLOGIA </b><br>\nExplicaci? dels elements m?s significat
 ius del Model de Lazarus i Folkman per comprendre les fonts\, el proc?s  
 i les conseq??ncies de l'estr?s laboral<br>\nTreball de casos pr?ctics en
  grup\, per identificar els elements i veure possibles maneres d'interven
 ci? o canvi <br>\n<br>\n<b>PROFESSORAT </b><br>\nSra. Teresa Freixas i Gu
 injoan\, doctora en Psicologia i inspectora d'Ensenyament. Supervisora\, 
 assessora i avaluadora dels centres docents i els serveis educatius. Prof
 essora del M?ster en Prevenci? de Riscos Laborals organitzat per la Funda
 ci? URV i la MATT<br>\n<br>\n<b>HORARI:</b>: de 19.00 a 21.30 hores<br>\n
 <b>DURADA:</b>\n 15 hores<br>\n<b>CALENDARI: </b>\nDel 13 al 29 de gener 
 de 2004 (dimarts i dijous)<br>\n<b>PREU COL?LEGIAT / NO COL?LEGIAT:</b> 6
 0 / 80 &#8364\;<br>\n<b>TERMINI D'INSCRIPCI?: </b>\nEs necessari confirma
 r l'assist?ncia a l'administraci? del Col?legi\, al tel. 902 076 777 aban
 s del 7 de gener de 2004.\n\n\n\n\n\n
DTEND;TZID=Europe/Madrid;VALUE=DATE:20040130
DTSTAMP:20260421T080146Z
DTSTART;TZID=Europe/Madrid;VALUE=DATE:20040129
LOCATION:https://www.enginyerstarragona.cat/agenda/details/118/118-la-gest
 io-de-lestres-personal-i-de-les-organi
SEQUENCE:0
SUMMARY:LA GESTI? DE L'ESTR?S PERSONAL I DE LES ORGANITZACIONS
UID:ET_Activitat_118
URL:https://www.enginyerstarragona.cathttps://www.enginyerstarragona.cat/a
 genda/details/118/118-la-gestio-de-lestres-personal-i-de-les-organi
END:VEVENT
END:VCALENDAR
