BEGIN:VCALENDAR
PRODID:-//github.com/rianjs/ical.net//NONSGML ical.net 2.2//EN
VERSION:2.0
BEGIN:VEVENT
CATEGORIES:Activitats
CREATED;TZID=Europe/Madrid:20260424T101105
DESCRIPTION:<table class="agenda-tmpl" cellspacing="0" cellpadding="5">\n 
        <tbody><tr>\n            <td class="pivot" valign="top" style="wid
 th: 148px\;">\n                Codi circular:</td>\n            <td>84/15
 &nbsp\;</td>\n        </tr>\n        <tr>\n            <td class="pivot" 
 valign="top">\n                Dates:</td>\n            <td>19 de novembr
 e (dijous)</td>\n        </tr>\n        <tr>\n            <td class="pivo
 t" valign="top">\n                Horari:</td>\n            <td>A les 19.
 00 hores &nbsp\; &nbsp\; &nbsp\; &nbsp\; &nbsp\; &nbsp\; &nbsp\; &nbsp\; 
 &nbsp\;</td>\n        </tr>\n    <tr>\n        <td class="pivot" valign="
 top">\n            Lloc:\n        </td>\n        <td>Seu del CETIT\, Av. 
 de Roma\, 7 de Tarragona i transm?s per videoconfer?ncia amb Skype a les 
 instal?lacions de les Terres de l'Ebre\, Carrer Mercaders\, 2 de Tortosa.
 \n<br></td>\n    </tr>\n        \n        <tr>\n            <td class="pi
 vot" valign="top">\n                Durada:</td>\n            <td>1 hora 
 aproximadament&nbsp\;</td>\n        </tr>\n        <tr>\n            <td 
 class="pivot" valign="top">\n                Ponent:</td>\n            <t
 d><span lang="CA"><br><span>Israel del Castillo\, responsable de l??rea\n
 Comercial de MUPITI</span></span></td>\n        </tr>\n        <tr>\n    
         <td class="pivot" valign="top">\n                Objectius i cont
 inguts:</td>\n            <td><p style="text-align: justify\;"><span>S'ex
 posaran els <b>importants avantatges en rendibilitat i fiscalitat</b> que
  ens ofereix en productes la mutualitat i que estan dissenyats especialme
 nt pel nostre col?lectiu d'enginyers t?cnics i enginyers de grau.<br></sp
 an><br>S'informar? una vegada m?s del producte ?Bamb?? i del Pla de Previ
 si? Assegurat PPA que amb un inter?s garantit i amb una rendibilitat molt
  important per aquest any del <b>2\,5% garantit.<br><br></b>Tamb? es parl
 ar? dels avantatges fiscals que ofereix Mupiti\, per <b>reduir l?IRPF</b>
 \, en funci? de la teva situaci? professional d?exercici lliure o treball
  per compte ali?.<span style="text-align: left\;">&nbsp\; &nbsp\; &nbsp\;
  &nbsp\; &nbsp\; &nbsp\; &nbsp\; &nbsp\; &nbsp\;&nbsp\;</span></p></td>\n
         </tr>\n        \n        \n         \n         \n        \n      
    \n         \n         \n        <tr><td class="pivot" valign="top">&nb
 sp\;</td><td>&nbsp\;<br><strong>INSCRIPCI? GRATU?TA</strong></td></tr></t
 body></table>
DTEND;TZID=Europe/Madrid:20151119T210000
DTSTAMP:20260424T081105Z
DTSTART;TZID=Europe/Madrid:20151119T190000
LOCATION:https://www.enginyerstarragona.cat/agenda/details/1165/1165-jorna
 da-de-fiscalitat-mupiti-productes-per-le
SEQUENCE:0
SUMMARY:Jornada de fiscalitat MUPITI: ?Productes per l?estalvi i la invers
 i??
UID:ET_Activitat_1165
URL:https://www.enginyerstarragona.cathttps://www.enginyerstarragona.cat/a
 genda/details/1165/1165-jornada-de-fiscalitat-mupiti-productes-per-le
END:VEVENT
END:VCALENDAR
