BEGIN:VCALENDAR
PRODID:-//github.com/rianjs/ical.net//NONSGML ical.net 2.2//EN
VERSION:2.0
BEGIN:VEVENT
CATEGORIES:Activitats
CREATED;TZID=Europe/Madrid:20260423T125533
DESCRIPTION:<table class="table">\n        <tbody><tr>\n            <td st
 yle="width: 148px\;" valign="top" class="pivot">\n                Codi ci
 rcular:</td>\n            <td>&nbsp\; &nbsp\; &nbsp\; &nbsp\; &nbsp\; &nb
 sp\; &nbsp\; &nbsp\; &nbsp\; <br>73/15</td>\n        </tr>\n        <tr>\
 n            <td valign="top" class="pivot">\n                Dates:</td>
 \n            <td>Del 26 d'octubre al 9 de novembre (dilluns i dimecres)&
 nbsp\;</td>\n        </tr>\n        <tr>\n            <td valign="top" cl
 ass="pivot">\n                Horari:</td>\n            <td>De les 16.00 
 a les 20.00 hores</td>\n        </tr>\n    <tr>\n        <td valign="top"
  class="pivot">\n            Lloc:\n        </td>\n        <td>Seu del CE
 TIT\, Av. de Roma\, 7 de Tarragona.<br>\n            Si el nombre de conf
 irmacions d'assist?ncia de col?legiats a les Terres de l'Ebre\, ?s igual 
 o superior al m?nim estipulat a l'activitat\, el CETIT/ AETIGT organitzar
 ?\, en la mateixa modalitat\, l'acci? formativa a les instal?lacions de T
 ortosa.  \n        </td>\n    </tr>\n        <tr>\n            <td valign
 ="top" class="pivot">\n                Assistents m?nim/m?xim:</td>\n    
         <td>6/10</td>\n        </tr>\n        <tr>\n            <td valig
 n="top" class="pivot">\n                Durada:</td>\n            <td>20 
 hores&nbsp\;</td>\n        </tr>\n        <tr>\n            <td valign="t
 op" class="pivot">\n                Professorat:</td>\n            <td><p
 >Pep Carbonell Tarruella. Formador expert en la mat?ria amb m?s de 8000 h
 ores de formaci?. &nbsp\; &nbsp\; &nbsp\; &nbsp\; &nbsp\; &nbsp\; &nbsp\;
  &nbsp\;&nbsp\;</p></td>\n        </tr>\n        <tr>\n            <td va
 lign="top" class="pivot">\n                Objectius:</td>\n            <
 td>\n                <p><span>Donar als alumnes les eines te?riques i pr?
 ctiques per tal de que puguin realitzar la planificaci?\, seguiment i tan
 cament de projectes.</span></p></td>\n        </tr>\n        <tr>\n      
       <td valign="top" class="pivot">\n                Continguts:</td>\n
             <td><p class="">&nbsp\;</p><p class="">? Teoria sobre l'admin
 istraci? de Projectes<br>? Qu? ?s un projecte?<br>? Fases en l'administra
 ci? de projectes.<br>? El triangle del projecte.<br>? Hist?ria en l'admin
 istraci? de projectes. M?todes GANTT I PERT<br>? Com comencem una planifi
 caci??<br>? Conceptes necessaris.<br>? Que ?s Project?<br>? Entrada al pr
 ograma. Sortida del programa.<br>? Obrir fitxer. Desa.<br>? Plantilles in
 corporades.<br>? Gesti? de Tasques.<br>? Creaci? de tasques. Eliminaci? d
 e tasques. Despla?ament de tasques.<br>? Inserci? de notes i hipervincles
  a tasques.<br>? Format de les tasques.<br>? Creaci? de tasques repetitiv
 es.<br>? Esquemes de tasques (Fites).<br>? Vinculaci? de tasques / desvin
 culaci?.<br>? Posposici? i avan?ament de les tasques.<br>? El cam? cr?tic
 .<br>? Calendaris.<br>? Canvis en el calendari base.<br>? Calendari de re
 cursos.<br>? Creaci? de calendaris base.<br>? Assignaci? de recursos a di
 ferents calendaris base.<br>? Format dels diagrames.<br>? Eines de Dibuix
 <br>? Sup?sits pr?ctics de tots els temes anteriors.<br>? Recursos.<br>? 
 Introducci? als recursos.<br>? Full de recursos.<br>? Introducci? de deta
 lls en els recursos.<br>? Assignaci? d'un o diversos recursos a les tasqu
 es.<br>? ?s dels costos.<br>? Taxes variables.<br>? Taules de taxes\, cre
 aci? i assignaci? de les taules de taxes a un recurs en la tasca.<br>? In
 serci? de notes als recursos.<br>? Programaci? amb recursos.<br>? ?s de l
 a programaci? condicionada per l'esfor?.<br>? Resoluci? de conflictes en 
 recursos.<br>? Redistribuci? autom?tica de recursos.<br>? Resoluci? manua
 l de sobreassignacions de recursos.<br>? Presentacions en nivells de deta
 ll.<br>? Delimitacions de les tasques.<br>? Aplicaci? de delimitacions fl
 exibles.<br>? Aplicaci? de delimitacions inflexibles<br>? Programaci? de 
 delimitacions amb conflictes<br>? Definici? de la l?nia base.<br>? Presen
 taci? de les delimitacions del Projecte.<br>? Seguiment<br>? Control del 
 projecte<br>? Introducci? de la informaci? real del projecte.<br>? Divisi
 ? de tasques<br>? Actualitzaci? del Projecte.<br>? Comparaci? respecte a 
 la l?nia base de les dades reals del projecte.<br>? Impressi?. Vistes. Ex
 portaci? del Projecte.<br>? Rep?s general.</p><p class="">? PROVA avaluat
 iva</p>&nbsp\; &nbsp\; &nbsp\; &nbsp\; &nbsp\; &nbsp\; &nbsp\; &nbsp\; &n
 bsp\;&nbsp\;</td>\n        </tr>\n        <tr>\n            <td valign="t
 op" class="pivot">\n                Destinataris:</td>\n            <td>\
 n                <span style="color: rgb(153\, 153\, 153)\; font-size: 7p
 t\; font-family: Tahoma\;"></span><span><br>Usuaris de nivell b?sic</span
 >&nbsp\;</td>\n        </tr>\n         <tr>\n            <td valign="top"
  class="pivot">\n                Documentaci?:</td>\n            <td>Es l
 liurar? documentaci? de seguiment.</td>\n        </tr>\n         <tr>\n  
           <td valign="top" class="pivot">\n                Que ?s la FTFE
 ?</td>\n            <td>\n                La FUNDACI?N TRIPARTITA PARA LA
  FORMACI?N EN EL EMPLEO ?s l'?rgan que regula\, \n                control
 a i administra el cr?dit anual que totes les empreses disposen per formar
  \n                als seus treballadors. Amb aquest cr?dit les bonificac
 ions es dedueixen a trav?s \n                dels pagaments a la Segurita
 t Social\, per mitj? dels TCs. Qui pot bonificar? \n                Treba
 lladors que cotitzin en el r?gim general.<br></td>\n        </tr>\n      
   <tr>\n            <td valign="top" class="pivot">\n                Inst
 ruccions<br>per bonificar:</td>\n            <td>\n                <ol>\n
                     <li>\n                        Sol?licita els impresos
  al CETIT </li>\n                    <li>Aporta tota la informaci? 7 dies
  naturals abans de l'inici del curs.</li>\n                </ol>\n       
      </td>\n        </tr>\n         <tr>\n            <td valign="top" cl
 ass="pivot">\n                Forma de pagament:</td>\n            <td>Co
 brament a trav?s del seu n?mero de compte\, que haur? de facilitar a l?ho
 ra de \n                fer la inscripci?.</td>\n        </tr>\n         
 <tr>\n            <td valign="top" class="pivot">\n                Certif
 icaci?:</td>\n            <td>Es lliurar? un certificat d'acreditaci? i a
 ssist?ncia a la finalitzaci? de la \n                formaci?. Aquells qu
 e sol?licitin bonificar el cus a trav?s de la Fundaci? \n                
 Tripartita para la Formaci?n en el Empleo\, tamb? tindran un certificat e
 m?s per \n                la FTFE.</td>\n        </tr>\n         <tr>\n  
           <td valign="top" class="pivot">\n                Acreditaci? Pr
 ofessional:</td>\n            <td>Aquesta formaci? ?s competent per acred
 itar davant del COGITI la teva formaci?. <br>Mes informaci?: <a href="htt
 p://www.acreditacioncogitidpc.es" target="_blank">http://www.acreditacion
 cogitidpc.es</a></td>\n        </tr>\n        </tbody></table>
DTEND;TZID=Europe/Madrid:20151026T200000
DTSTAMP:20260423T105533Z
DTSTART;TZID=Europe/Madrid:20151026T160000
LOCATION:https://www.enginyerstarragona.cat/agenda/details/1159/1159-curs-
 ms-project
SEQUENCE:0
SUMMARY:Curs MS PROJECT
UID:ET_Activitat_1159
URL:https://www.enginyerstarragona.cathttps://www.enginyerstarragona.cat/a
 genda/details/1159/1159-curs-ms-project
END:VEVENT
END:VCALENDAR
