BEGIN:VCALENDAR
PRODID:-//github.com/rianjs/ical.net//NONSGML ical.net 2.2//EN
VERSION:2.0
BEGIN:VEVENT
CATEGORIES:Activitats
CREATED;TZID=Europe/Madrid:20260420T174826
DESCRIPTION:<table class="table">\n    <tbody>\n        <tr>\n            
 <td style="width: 148px\;" valign="top" class="pivot">\n            Codi 
 circular:</td>\n            <td><br />\n            72/14&nbsp\;</td>\n  
       </tr>\n        <tr>\n            <td valign="top" class="pivot">ORG
 ANTIZA:</td>\n            <td><br />\n            Colegio Oficial de Inge
 nieros T&eacute\;cnicos Industriales de Castell&oacute\;n</td>\n        <
 /tr>\n        <tr>\n            <td valign="top" class="pivot">\n        
     Dates:</td>\n            <td><br />\n            26 de juny (dijous)&
 nbsp\;</td>\n        </tr>\n        <tr>\n            <td valign="top" cl
 ass="pivot">\n            Horari:</td>\n            <td><br />\n         
    de les 9.00 a les 13.30 hores&nbsp\;</td>\n        </tr>\n        <tr>
 \n            <td valign="top" class="pivot">\n            Lloc:\n       
      </td>\n            <td><br />\n            Sala d'Actes Alfons el Ma
 gn&agrave\;nim\; Avinguida de Vicent Sos Baynat\, s/n\; Castell&oacute\;<
 /td>\n        </tr>\n        <tr>\n            <td valign="top" class="pi
 vot">\n            Assistents m&iacute\;nim/m&agrave\;xim:</td>\n        
     <td><br />\n            s/e</td>\n        </tr>\n        <tr>\n      
       <td valign="top" class="pivot">\n            Professorat:</td>\n   
          <td><br />\n            <a href="http://www.cetit.cat/arxius_doc
 umentacio/Diptico%20Jornada.pdf">Vegeu programa</a><br />\n            </
 td>\n        </tr>\n        <tr>\n            <td valign="top" class="piv
 ot">\n            Objectius:</td>\n            <td><br />\n            <a
  href="http://www.cetit.cat/arxius_documentacio/Diptico%20Jornada.pdf">Ve
 geu programa</a><br />\n            </td>\n        </tr>\n        <tr>\n 
            <td valign="top" class="pivot">\n            Continguts:</td>\
 n            <td><br />\n            <a href="http://www.cetit.cat/arxius
 _documentacio/Diptico%20Jornada.pdf">Vegeu programa</a><br />\n          
   </td>\n        </tr>\n        <tr>\n            <td valign="top" class=
 "pivot">\n            Mes informaci&oacute\;:</td>\n            <td><br /
 >\n            COITICAS&nbsp\;<br />\n            <span style="font-size:
  12px\; line-height: 18px\; text-align: justify\; font-family: Arial\, He
 lvetica\, sans-serif\;">964 22 32 26<br />\n            </span>secretaria
 @coiticas.es<br />\n            </td>\n        </tr>\n    </tbody>\n</tab
 le>
DTEND;TZID=Europe/Madrid:20140626T133000
DTSTAMP:20260420T154826Z
DTSTART;TZID=Europe/Madrid:20140626T090000
LOCATION:https://www.enginyerstarragona.cat/agenda/details/1076/1076-i-jor
 nada-tecnica-arquitectura-sostenible
SEQUENCE:0
SUMMARY:I JORNADA T?CNICA ARQUITECTURA SOSTENIBLE
UID:ET_Activitat_1076
URL:https://www.enginyerstarragona.cathttps://www.enginyerstarragona.cat/a
 genda/details/1076/1076-i-jornada-tecnica-arquitectura-sostenible
END:VEVENT
END:VCALENDAR
