BEGIN:VCALENDAR
PRODID:-//github.com/rianjs/ical.net//NONSGML ical.net 2.2//EN
VERSION:2.0
BEGIN:VEVENT
CATEGORIES:Telecomunicacions
CREATED;TZID=Europe/Madrid:20260423T173917
DESCRIPTION:<table class="agenda-tmpl" cellspacing="0" cellpadding="5">\n 
    <tbody>\n        <tr>\n            <td class="pivot" valign="top" styl
 e="width: 148px\;">\n            Codi circular:</td>\n            <td>\n 
            <br>\n            59/14</td>\n        </tr>\n        <tr>\n   
          <td class="pivot" valign="top">\n            Calendari:</td>\n  
           <td>\n            <br>\n            Acc?s a la plataforma 28 de
  maig. Classes presencials 17 i 18 de juny de les 16.00 a les 20.00 h &nb
 sp\; &nbsp\; &nbsp\; &nbsp\; &nbsp\; &nbsp\; &nbsp\; &nbsp\; &nbsp\;</td>
 \n        </tr>\n        <tr>\n            <td class="pivot" valign="top"
 >Lloc:&nbsp\;</td>\n            <td>\n            <br>\n            Les c
 lasses presencials es faran a la seu/ instal?lacions on hi hagi m?s parti
 cipaci? d'alumnes (TARRAGONA / TERRES DE L'EBRE (TORTOSA)\, i ser? transm
 ?s per videoconfer?ncia a la seu/ instal?laci? que correspongui.</td>\n  
       </tr>\n        <tr>\n            <td class="pivot" valign="top">\n 
            Durada:</td>\n            <td>\n            <br>\n            
 30 hores ( 22 a dist?ncia i 8 presencials) &nbsp\; &nbsp\; &nbsp\; &nbsp\
 ; &nbsp\; &nbsp\; &nbsp\; &nbsp\;&nbsp\;&nbsp\;</td>\n        </tr>\n    
     <tr>\n            <td class="pivot" valign="top">\n            Profes
 sorat:</td>\n            <td>\n            <p><strong><span>Remei Egea Pa
 stor</span></strong></p>\n            <p><span>Llicenciada en Psicologia.
  Diplomada en Magisteri d?Educaci? F?sica. Master en Developmental Behavi
 oural Modelling (DBM?). Consultora\, Coach i Formadora en empreses nacion
 als i multinacionals del sector p?blic i privat. Experta en Formaci? d?Ha
 bilitats Directives i en Coaching d?Equips.<br>\n            <br>\n      
       </span><strong><br>\n            <br>\n            Mara Claramunt V
 idal</strong></p>\n            <p><span>Llicenciada en Psicologia. Llicen
 ciada en Periodisme. Master en Developmental Behavioural Modelling (DBM?)
 . Master en Terapia Gestalt. Consultora i Formadora en empreses nacionale
 s i multinacionals del sector p?blic i privat. Experta en Formaci? d?Habi
 lidades Directives\, Psicoterapeuta i Coach.</span>&nbsp\; &nbsp\; &nbsp\
 ; &nbsp\; &nbsp\; &nbsp\; &nbsp\; &nbsp\;&nbsp\;</p>\n            </td>\n
         </tr>\n        <tr>\n            <td class="pivot" valign="top">\
 n            Objectius:</td>\n            <td>\n            <br>\n       
      <ul>\n                <li>Desenvolupar els coneixements i habilitas 
 necess?ries per a mostrar major seguretat i professionalitat davant d?un 
 Tribunal.</li>\n                <li>Comprendre els aspectes fonamentals d
 ?una bona exposici? oral.</li>\n                <li>Desenvolupar pautes d
 e comportament i claus de comunicaci? efica? davant d?un Tribunal.</li>\n
                 <li>Aplicar les habilitats necess?ries per a estructurar 
 la exposici? d?una forma clara i concisa.</li>\n                <li>Super
 ar amb ?xit situacions dif?cils en les vistes orals. &nbsp\; &nbsp\;&nbsp
 \;</li>\n            </ul>\n            </td>\n        </tr>\n        <tr
 >\n            <td class="pivot" valign="top">\n            Continguts:</
 td>\n            <td>\n            <br>\n            <p><span>PART I. <st
 rong>Introducci? al m?dul</strong></span></p>\n            <p> </p>\n    
         <ul>\n                <li>P?rits Judicials i Orat?ria ? Parlar da
 vant d?un Tribunal.</li>\n            </ul>\n            <p class="Defaul
 t"> </p>\n            <p><span>PART II. <strong>Comportament i comunicaci
 ? davant d?un Tribunal</strong></span></p>\n            <ul>\n           
      <li>El fons i la forma d?una exposici? oral.</li>\n                <
 li>Pautes de comportament davant d?un Tribunal.</li>\n                <li
 >T?cniques i recursos comunicatius per a captar l?atenci? del Tribunal.</
 li>\n            </ul>\n            <p class="Default"> </p>\n           
  <p><span>PART III. <strong>Estructura i desenvolupament d?una exposici? 
 oral davant d?un Tribunal.</strong></span></p>\n            <ul>\n       
          <li>L?arquitectura d?una bona exposici?.</li>\n                <
 li>La construcci? de missatges clars i concisos.</li>\n            </ul>\
 n            <p class="Default"> </p>\n            <p><span>PART IV. <str
 ong>Role Playing - Situacions dif?cils en les vistes.</strong></span></p>
 \n            <ul>\n                <li>Pautes per a situacions complicad
 es: interrupcions\, ?careo? amb un altre p?rit\, ?sorpreses?. &nbsp\; &nb
 sp\; &nbsp\; &nbsp\; &nbsp\; &nbsp\; &nbsp\; &nbsp\; &nbsp\;</li>\n      
       </ul>\n            </td>\n        </tr>\n        <tr>\n            
 <td class="pivot" valign="top">\n            Destinataris:</td>\n        
     <td>\n            <br>\n            Qualsevol profesional que en l?ex
 ercici de la seva professi? tingui que defendre un informe pericial davan
 t d?un Tribunal de Just?cia.<br>\n            <br>\n            </td>\n  
       </tr>\n        <tr>\n            <td class="pivot" valign="top">\n 
            Documentaci?:</td>\n            <td>\n            <br>\n      
       Es lliurar? documentaci? de seguiment.</td>\n        </tr>\n       
  <tr>\n            <td class="pivot" valign="top">\n            Que ?s la
  FTFE?</td>\n            <td>\n            <br>\n            La FUNDACI?N
  TRIPARTITA PARA LA FORMACI?N EN EL EMPLEO ?s l'?rgan que regula\,\n     
        controla i administra el cr?dit anual que totes les empreses dispo
 sen per formar\n            als seus treballadors. Amb aquest cr?dit les 
 bonificacions es dedueixen a trav?s\n            dels pagaments a la Segu
 ritat Social\, per mitj? dels TCs. Qui pot bonificar?\n            Trebal
 ladors que cotitzin en el r?gim general.<br>\n            <br>\n         
    <br>\n            <br>\n            <span class="style1">EXEMPLE: Un c
 urs que el preu ?s 100 ? on es bonifica el 100\n            % de l'import
 \, l'empresa haur? de pagar - 100 ? a la Seguretat Social\, per mitj?\n  
           dels TCs.</span></td>\n        </tr>\n        <tr>\n           
  <td class="pivot" valign="top">\n            Instruccions<br>\n         
    <br>\n            per bonificar:</td>\n            <td>\n            <
 br>\n            <br>\n            Sol?licita els impresos al CETIT<br>\n
             <br>\n            Aporta tota la informaci? 7 dies naturals a
 bans de l'inici del curs.<br>\n            <br>\n            </td>\n     
    </tr>\n        <tr>\n            <td class="pivot" valign="top">\n    
         Forma de pagament:</td>\n            <td>\n            <br>\n    
         Cobrament a trav?s del seu n?mero de compte\, que haur? de facili
 tar a l?hora de\n            fer la inscripci?.</td>\n        </tr>\n    
     <tr>\n            <td class="pivot" valign="top">\n            Certif
 icaci?:</td>\n            <td>\n            <br>\n            Es lliurar?
  un certificat d'acreditaci? i assist?ncia a la finalitzaci? de la\n     
        formaci?. Aquells que sol?licitin bonificar el cus a trav?s de la 
 Fundaci?\n            Tripartita para la Formaci?n en el Empleo\, tamb? t
 indran un certificat em?s per\n            la FTFE.</td>\n        </tr>\n
         <tr>\n            <td class="pivot" valign="top">\n            Ac
 reditaci? Professional:</td>\n            <td>\n            <br>\n       
      Aquesta formaci? ?s competent per acreditar davant del COGITI la tev
 a formaci?. <br>\n            <br>\n            Mes informaci?: <a href="
 http://www.acreditacioncogitidpc.es" target="_blank">http://www.acreditac
 ioncogitidpc.es</a></td>\n        </tr>\n    </tbody>\n</table>\n<br>\n<b
 r>
DTEND;TZID=Europe/Madrid:20140528T235900
DTSTAMP:20260423T153917Z
DTSTART;TZID=Europe/Madrid:20140528T000100
LOCATION:https://www.enginyerstarragona.cat/agenda/details/1068/1068-curs-
 bonificat-semi-presencial-sobre-perits-j
SEQUENCE:0
SUMMARY:Curs BONIFICAT SEMI PRESENCIAL sobre PERITS JUDICIALS: PARLAR DAVA
 NT D'UN TRIBUNAL
UID:ET_Activitat_1068
URL:https://www.enginyerstarragona.cathttps://www.enginyerstarragona.cat/a
 genda/details/1068/1068-curs-bonificat-semi-presencial-sobre-perits-j
END:VEVENT
END:VCALENDAR
