BEGIN:VCALENDAR
PRODID:-//github.com/rianjs/ical.net//NONSGML ical.net 2.2//EN
VERSION:2.0
BEGIN:VEVENT
CATEGORIES:Protecci? contraincendis
CREATED;TZID=Europe/Madrid:20260425T014742
DESCRIPTION:<span class="Apple-tab-span" style="white-space: pre\;">	</spa
 n>\n<table cellspacing="0" cellpadding="5" class="agenda-tmpl">\n    <tbo
 dy>\n        <tr>\n            <td valign="top" style="width: 148px\;" cl
 ass="pivot">Codi circular:</td>\n            <td>\n            &nbsp\;06/
 14</td>\n        </tr>\n        <tr>\n            <td valign="top" class=
 "pivot">Presentaci? del curs:</td>\n            <td>\n            La norm
 ativa de m?quines\, tant la que afecta el fabricant de la m?quina nova co
 m la&nbsp\;que afecta l?usuari\, est? canviant constantment\, la qual cos
 a pot f?cilment passar desapercebuda. Si b? les dues normes legals\, la&n
 bsp\;directiva 2006/42/CE per al fabricant de la m?quina i la directiva 2
 009/104/CE (transposada pel reial decret 1215/1997) per a l?usuari\,&nbsp
 \;s?n relativament estables\, les normes harmonitzades que els hi donen s
 uport varien d?una manera quasi fren?tica. ?s conegut que els&nbsp\;requi
 sits essencials de la directiva 2006/42/CE i les disposicions m?nimes del
  RD 1215/1997 s?n deliberadament ambigus\, motiu pel qual&nbsp\;?s impres
 cindible interpretar-los mitjan?ant les normes t?cniques harmonitzades.<b
 r>\n            <br>\n            Els canvis m?s recents provenen de quat
 re fonts:<br>\n            <br>\n            ? L?entrada en vigor de la d
 irectiva de m?quines\, 2006/42/CE\;<br>\n            ? La anul?laci? de l
 a norma EN 954-1 y la seva substituci? definitiva por la norma EN ISO 138
 49\;<br>\n            ? La publicaci? de la Norma EN ISO 14119:2013 sobre
  els enclavaments associats a resguards\;<br>\n            ? La publicaci
 ?\, en novembre de 2011\, de l??ltima versi? de la Guia d?aplicaci? del R
 D 1215/1997.<br>\n            <br>\n            La directiva 2006/42/CE i
 nclou dos canvis molt significatius: admet expl?citament l??s del softwar
 e en funcions de seguretat i&nbsp\;incorpora les definicions de fabricant
  y de conjunt de m?quines\, que converteixen en fabricant\, ara per ara j
 a de manera indubtable\,&nbsp\;l?usuari que fa canvis significatius a una
  m?quina o junta m?quines per a automatitzar el proc?s productiu i fer qu
 e v?ries m?quines quetreballaven soltes passin a fer-ho coordinades\, com
  a una sola m?quina\, formant un ?conjunt de m?quines?. <br>\n           
  <br>\n            Aquesta inevitable&nbsp\;assumpci? del paper de fabric
 ant\, amb les obligacions inherents de marcatge CE\, expedient t?cnic\, e
 tc.\, es deu a que\, segons la&nbsp\;directiva\, aquest conjunt de m?quin
 es es una nova m?quina\, diferent de cadascuna de les m?quines individual
 s y\, com que no ?s&nbsp\;freq?ent que l?usuari de la m?quina disposi d?u
 n ?fabricant? en el sentit cl?ssic del terme\, que accepti la seva respon
 sabilitat lliurant la&nbsp\;corresponent declaraci? CE de conformitat de 
 la m?quina ?conjunt de m?quines?\, s?aplica la definici? de fabricant: ?E
 n abs?ncia d?un&nbsp\;fabricant en el sentit indicat\, es considerar? fab
 ricant qualsevol persona f?sica o jur?dica que comercialitzi o posi en se
 rvei&nbsp\;una m?quina o una quasi m?quina coberta por la present Directi
 va?.<br>\n            <br>\n            </td>\n        </tr>\n        <tr
 >\n            <td valign="top" class="pivot">Dates:</td>\n            <t
 d>&nbsp\;<br>\n            Acc?s a la plataforma a partir del 30 de gener
  (dijous). CONVOCAT?RIA OBERTA TOT L'ANY.</td>\n        </tr>\n        <t
 r>\n            <td valign="top" class="pivot">Horari:</td>\n            
 <td>\n            on line</td>\n        </tr>\n        <tr>\n            
 <td valign="top" class="pivot">Assistents m?nim/m?xim:</td>\n            
 <td>\n            n/d</td>\n        </tr>\n        <tr>\n            <td 
 valign="top" class="pivot">Durada:</td>\n            <td>\n            40
  hores (4 setmanes)</td>\n        </tr>\n        <tr>\n            <td va
 lign="top" class="pivot">Professorat:</td>\n            <td><strong><br>\
 n            ALFONS DE VICTORIA POU</strong>\, nascut a Palma de Mallorca
 \, Enginyer Industrial per l?Escola T?cnica Superior d? Enginyers Industr
 ials de&nbsp\;Barcelona.<br>\n            Va treballar 6 mesos a Sao Paul
 o\, un any a Caracas i 3 anys als Estats Units\, sempre en temes de produ
 cci?. Despr?s de molts anys&nbsp\;d?experi?ncia a l?empresa privada va se
 r Cap de Seguretat de Productes al Departament d?Ind?stria de la Generali
 tat de Catalunya\, on&nbsp\;tenia la responsabilitat\, entre d?altres\, d
 e la vigil?ncia de que els productes sotmesos a directives del nou enfoca
 ment (m?quines\, equips a&nbsp\;pressi?\, equips per treballar dins atmos
 feres explosives\, material el?ctric...) fossin conformes a les normative
 s aplicables. Actualment &nbsp\;?s&nbsp\;Administrador ?nic de MAST Machi
 nery &amp\; ATEX Safety and Training\, S.L.<br>\n            <br>\n      
       </td>\n        </tr>\n        <tr>\n            <td valign="top" cl
 ass="pivot">Objectius:</td>\n            <td>\n            En acabar el c
 urs l?assistent\, tant si ?s fabricant com si ?s usuari de maquin?ria\, h
 a d?estar en condicions de&nbsp\;entendre com afecten les modificacions n
 ormatives al seu cas concret\, i&nbsp\;saber enfocar la seva actuaci? per
  tal de\, sempre dins de la legalitat\, fer-ho de la manera m?s racional\
 , eficient y econ?mica&nbsp\;possible.<br>\n            <br>\n           
  El seminari no pret?n\, per manca de temps\, entrar a fons en com fer l?
 expedient t?cnic del ?conjunt de m?quines? ni aprofundir en el&nbsp\;cone
 ixement de les normes EN ISO 13849 i EN ISO 14119.<br>\n            <br>\
 n            </td>\n        </tr>\n        <tr>\n            <td valign="
 top" class="pivot">Continguts:</td>\n            <td>\n            Vegeu 
 enlla?os d'inter?s<br>\n            </td>\n        </tr>\n        <tr>\n 
            <td valign="top" class="pivot">Legislaci? i normativa aplicabl
 e:</td>\n            <td>\n            Directiva de m?quines\, 2006/42/CE
 .<br>\n            Reial decret 1644/2008\, de transposici? de la directi
 va 2006/42/CE.<br>\n            Directiva 2009/104/CE\, d?us dels equpis 
 de treball pels treballadors.<br>\n            Reial decret 1215/1997\, d
 e transposici? de la directiva 2009/104/CE.<br>\n            Norma EN ISO
  13849.<br>\n            Norma EN ISO 14119:2013.</td>\n        </tr>\n  
       <tr>\n            <td valign="top" class="pivot">Destinataris:</td>
 \n            <td>\n            Usuaris en general de maquin?ria industri
 al.<br>\n            Fabricants en general de maquin?ria industrial.<br>\
 n            Personal de manteniment de maquin?ria complexa i instal?laci
 ons automatitzades.<br>\n            Personal de manteniment\, producci? 
 o enginyeria de planta que pugui\, eventualment\, convertir-se en ?fabric
 ant? d?un &nbsp\; &nbsp\; &nbsp\; nou&nbsp\;equip.<br>\n            Perso
 nal d?instal?lacions industrials automatitzades responsable de la utilitz
 aci?\, disseny i/o modificaci? de llurs pr?pies<br>\n            instal?l
 acions o equips de treball.<br>\n            Responsables del disseny i f
 abricaci? de maquin?ria\, especialment maquin?ria complexa o d?alt risc.&
 nbsp\;<br>\n            Responsables de producci? i enginyeria d?usuaris 
 de maquin?ria industrial.<br>\n            Enginyeries i enginyers indust
 rials i t?cnics que assessorin els usuaris fabricants de maquin?ria.<br>\
 n            Responsables t?cnics de prevenci? de riscos laborals.<br>\n 
            </td>\n        </tr>\n        <tr>\n            <td valign="to
 p" class="pivot">Documentaci?:</td>\n            <td>\n            Es lli
 urar? documentaci? de seguiment.</td>\n        </tr>\n        <tr>\n     
        <td valign="top" class="pivot">Que ?s la FTFE?</td>\n            <
 td>\n            La FUNDACI?N TRIPARTITA PARA LA FORMACI?N EN EL EMPLEO ?
 s l'?rgan que regula\, controla i administra el cr?dit anual que totes le
 s empreses disposen per formar als seus treballadors. Amb aquest cr?dit l
 es bonificacions es dedueixen a trav?s dels pagaments a la Seguritat Soci
 al\, per mitj? dels TCs. Qui pot bonificar? Treballadors que cotitzin en 
 el r?gim general.<br>\n            <br>\n            <span class="style1"
 >EXEMPLE: Un curs que el preu ?s 100 ? on es bonifica el 100 % de l'impor
 t\, l'empresa haur? de pagar - 100 ? a la Seguretat Social\, per mitj? de
 ls TCs.<br>\n            </span></td>\n        </tr>\n        <tr>\n     
        <td valign="top" class="pivot">Instruccions <br>\n            per 
 bonificar:</td>\n            <td>\n            Sol?licita els impresos al
  CETIT<br>\n            Aporta tota la informaci? 7 dies naturals abans d
 e l'inici del curs.<br>\n            </td>\n        </tr>\n        <tr>\n
             <td valign="top" class="pivot">Forma de pagament:</td>\n     
        <td>\n            Cobrament a trav?s del seu n?mero de compte\, qu
 e haur? de facilitar a l?hora de fer la inscripci?.</td>\n        </tr>\n
         <tr>\n            <td valign="top" class="pivot">Certificaci?:</t
 d>\n            <td>\n            Es lliurar? un certificat d'acreditaci?
  i assist?ncia a la finalitzaci? de la formaci?. Aquells que sol?licitin 
 bonificar el cus a trav?s de la Fundaci? Tripartita para la Formaci?n en 
 el Empleo\, tamb? tindran un certificat em?s per la FTFE.</td>\n        <
 /tr>\n        <tr>\n            <td valign="top" class="pivot">Acreditaci
 ? Professional:</td>\n            <td>\n            Aquesta formaci? ?s c
 ompetent per acreditar davant del COGITI la teva formaci?.&nbsp\;<br>\n  
           Mes informaci?:&nbsp\;<a target="_blank" href="http://www.acred
 itacioncogitidpc.es/">http://www.acreditacioncogitidpc.es</a><br>\n      
       </td>\n        </tr>\n    </tbody>\n</table>
DTEND;TZID=Europe/Madrid:20140130T235900
DTSTAMP:20260425T234742Z
DTSTART;TZID=Europe/Madrid:20140130T010000
LOCATION:https://www.enginyerstarragona.cat/agenda/details/1029/1029-curs-
 bonificat-on-line-sobre-seguretat-de-maq
SEQUENCE:0
SUMMARY:Curs BONIFICAT ON LINE  sobre SEGURETAT DE M?QUINES NOVES I EN ?S
UID:ET_Activitat_1029
URL:https://www.enginyerstarragona.cathttps://www.enginyerstarragona.cat/a
 genda/details/1029/1029-curs-bonificat-on-line-sobre-seguretat-de-maq
END:VEVENT
END:VCALENDAR
