BEGIN:VCALENDAR
PRODID:-//github.com/rianjs/ical.net//NONSGML ical.net 2.2//EN
VERSION:2.0
BEGIN:VEVENT
CATEGORIES:Protecci? contraincendis
CREATED;TZID=Europe/Madrid:20260423T114256
DESCRIPTION:<table cellspacing="0" cellpadding="5" class="agenda-tmpl">\n 
    <tbody>\n        <tr>\n            <td style="width: 148px\;"><strong>
 <span style="color: #f79646\;"><br>\n            Codi circular:</span></s
 trong></td>\n            <td>\n            03/14<br>\n            </td>\n
         </tr>\n        <tr>\n            <td valign="top"><strong><span s
 tyle="color: #f79646\;"><br>\n            Dates:</span></strong></td>\n  
           <td>&nbsp\;&nbsp\;<br>\n            <span style="font-size: 16p
 x\;"><span lang="CA" style="font-size: 16px\;"></span><span lang="CA" sty
 le="font-size: 12px\; font-family: Arial\;">&nbsp\;CLASSES PRESENCIALS&nb
 sp\;</span></span><span style="font-size: 12px\; font-family: Arial\;">de
 l 6 de mar? al 10 d'abril (dijous)</span><br>\n            </td>\n       
  </tr>\n        <tr>\n            <td valign="top"><strong><span style="c
 olor: #f79646\;"><br>\n            Horari:</span></strong></td>\n        
     <td>&nbsp\;<br>\n            <span style="font-family: Arial\;"><span
  style="font-size: 12px\;">\n            Classes presencials els\n       
      dijous\, de les 16.00 a\n            les 20.00 h</span><br>\n       
      </span></td>\n        </tr>\n        <tr>\n            <td valign="t
 op"><strong><span style="color: #f79646\;"><br>\n            Lloc:</span>
 </strong></td>\n            <td>&nbsp\;<br>\n            <span lang="CA" 
 style="font-size: 12px\; font-family: Arial\;">Seu del COAATT (Rambla\n  
           President Maci?\, 6 de Tarragona)</span></td>\n        </tr>\n 
        <tr>\n            <td valign="top"><strong><span style="color: #f7
 9646\;"><br>\n            Assistents m?nim / m?xim:<br>\n            </sp
 an></strong></td>\n            <td><span style="font-family: Arial\;">&nb
 sp\;</span><span style="font-size: 12px\; font-family: Arial\;">25</span>
 </td>\n        </tr>\n        <tr>\n            <td valign="top"><strong>
 <span style="color: #f79646\;"><br>\n            Durada:</span></strong><
 /td>\n            <td>&nbsp\;&nbsp\;<br>\n            <span style="font-s
 ize: 12px\; font-family: Arial\;">\n            84 hores (24 presencials\
 ; 60 a dist?ncia)</span><br>\n            </td>\n        </tr>\n        <
 tr>\n            <td valign="top"><strong><span style="color: #f79646\;">
 <br>\n            Professorat:</span></strong></td>\n            <td><str
 ong><br>\n            </strong><span style="font-size: 12px\; font-family
 : Arial\;">Joan Carles Frances Tudel\,&nbsp\;Llicenciat en Geologia. T?cn
 ic de Protecci? Civil.<br>\n            <br>\n            David Tisaire B
 erga\, Enginyer Industrial. T?cnic competent en PAU ABC i\n            do
 cent del ISPC.<br>\n            <br>\n            Albert Ventosa. Enginye
 r Industrial. Unitat de Prevenci? de la Regi?\n            d'Emerg?ncies 
 de Tarragona. Direcci? General de Prevenci? i Extinci? d'Incendis\n      
       i Salvament. Generalitat de Catalunya.<br>\n            <br>\n     
        Raquel Fern?ndez Lorenzana.&nbsp\;Arquitecta\n            t?cnica.
  T?cnica de riscos laborals a l'Ajuntament de Salou.</span><span style="f
 ont-family: Arial\; font-size: 16px\;"><br>\n            </span></td>\n  
       </tr>\n        <tr>\n            <td valign="top"><strong><span sty
 le="color: #f79646\;">Objectius</span></strong></td>\n            <td>\n 
            <span style="font-size: 12px\; font-family: Arial\;">\n       
      El decret d?autoprotecci? 82/2010 de 29 de juny\, aprova el cat?leg 
 d?activitats i centres obligats a adoptar mesures d?autoprotecci? i fixa 
 el contingut d?aquestes mesures\, i tamb? estableix que els plans d?autop
 rotecci? els poden redactar exclusivament t?cnics acreditats a tal efecte
 .</span><br>\n            </td>\n        </tr>\n        <tr>\n           
  <td valign="top"><strong><span style="color: #f79646\;"><br>\n          
   Continguts:</span></strong></td>\n            <td>&nbsp\;&nbsp\;<span s
 tyle="font-family: Arial\;"><br>\n            </span>\n            <p> </
 p>\n            <ul style="list-style-type: disc\;">\n                <li
 ><span style="font-size: 12px\; font-family: Arial\;">PRIMERA JORNADA :&n
 bsp\;<br>\n                - Introducci? als plans d'autoprotecci? d'inte
 r?s per la protecci? civil de Catalunya<br>\n                - Redacci? d
 'un PAU d'inter?s per a la protecci? civil de Catalunya&nbsp\;<br>\n     
            - Redacci? de PAUs - Cas pr?ctic 1</span></li>\n            </
 ul>\n            <ul style="list-style-type: disc\;">\n                <l
 i><span style="font-size: 12px\; font-family: Arial\;">SEGONA JORNADA :&n
 bsp\;<br>\n                - Risc en instal?lacions SEVESO. Normativa<br>
 \n                - Risc en el transport de mat?ries perilloses. Normativ
 a<br>\n                - Risc biol?gic. Normativa<br>\n                - 
 Risc radiol?gic. Normativa&nbsp\;<br>\n                - Risc en la miner
 ia. Normativa<br>\n                - Serveis b?sics</span></li>\n        
         <li><span style="font-size: 12px\; font-family: Arial\;">TERCERA 
 JORNADA :&nbsp\;<br>\n                - Prevenci? d'incendis. Edificis de
  Gran Al?ada<br>\n                - Prevenci? d'incendis. Caracteritzaci?
  d'edificis<br>\n                - Prevenci? d'incendis. C?lcul de la c?r
 rega de foc<br>\n                - Prevenci? d'incendis. Llei 3/2010</spa
 n></li>\n                <li><span style="font-size: 12px\; font-family: 
 Arial\;">QUARTA JORNADA :&nbsp\;<br>\n                - Risc en preses i 
 embassaments&nbsp\;<br>\n                - Risc en carreteres\, t?nels\, 
 ports\, aeroports<br>\n                - Planificaci? i execuci? de simul
 acres</span></li>\n                <li><span style="font-size: 12px\; fon
 t-family: Arial\;">CINQUENA JORNADA :&nbsp\;<br>\n                - Redac
 ci? de PAUs - Cas pr?ctic 2&nbsp\;<br>\n                - Redacci? de PAU
 s - Cas pr?ctic 3</span></li>\n            </ul>\n            <ul style="
 list-style-type: disc\;">\n                <li><span style="font-size: 12
 px\; font-family: Arial\;">SISENA JORNADA :&nbsp\;</span></li>\n         
    </ul>\n            <span style="font-size: 12px\; font-family: Arial\;
 ">\n            -Redacci? de PAUs - Cas pr?ctic 3&nbsp\;<br>\n           
  &nbsp\;-Redacci? de PAUs - Cas pr?ctic 4</span><br>\n            </td>\n
         </tr>\n        <tr>\n            <td valign="top"><strong><span s
 tyle="color: #f79646\;"><br>\n            Documentaci?:</span></strong></
 td>\n            <td>\n            <span style="font-size: 12px\; font-fa
 mily: Arial\;">\n            Es lliurar? documentaci? de seguiment.</span
 ><br>\n            </td>\n        </tr>\n        <tr>\n            <td va
 lign="top"><span style="color: #f79646\;"><strong><br>\n            Drets
  d'inscripci?:</strong></span></td>\n            <td>\n            <span 
 style="font-size: 12px\; font-family: Arial\;">\n            COL?LEGIATS/
  ASSOCIATS:&nbsp\;360 ?<br>\n            <br>\n            NO COL?LEGIATS
  :&nbsp\;450 ?</span><br>\n            </td>\n        </tr>\n        <tr>
 \n            <td valign="top"><strong><span style="color: #f79646\;"><br
 >\n            Qu? es la FTFE?</span></strong></td>\n            <td>\n  
           <p><span style="font-family: 'Times New Roman'\;"></span></p>\n
             <p><span style="font-size: 12px\; font-family: Arial\;">La&nb
 sp\;FUNDACI?N TRIPARTITA&nbsp\;PARA LA FORMACI?N EN EL EMPLEO&nbsp\;?s l'
 ?rgan que regula\, controla i administra el cr?dit anual que totes les em
 preses disposen per formar als seus treballadors.&nbsp\;<br>\n           
  <br>\n            Amb aquest cr?dit les bonificacions es dedueixen a tra
 v?s dels pagaments a la Seguritat Social\, per mitj? dels TCs.<br>\n     
        <br>\n            Qui pot bonificar?<br>\n            <br>\n      
       Treballadors que cotitzin en el r?gim general.<br>\n            </s
 pan>\n            <br>\n            <span style="font-size: 12px\; font-f
 amily: Arial\;">\n            EXEMPLE:&nbsp\;Un curs que el preu ?s 100 ?
  on es bonifica el 100 % de l'import\, l'empresa haur? de pagar - 100 ? a
  la Seguretat Social\, per mitj? dels TCs.</span><strong style="font-size
 : 12px\;"><br>\n            </strong></p>\n            </td>\n        </t
 r>\n        <tr>\n            <td valign="top"><strong><span style="color
 : #f79646\;"><br>\n            Instruccions<br>\n            per bonifica
 r:</span></strong></td>\n            <td>\n            <span style="font-
 size: 12px\; font-family: Arial\;">\n            1. Sol?licita els impres
 os al CETIT.<br>\n            2. Aporta tota la informaci? 7 dies natural
 s abans de l'inici del curs.</span><br>\n            </td>\n        </tr>
 \n        <tr>\n            <td valign="top"><br>\n            <strong><s
 pan style="color: #f79646\;">Pagament:</span></strong></td>\n            
 <td>\n            <span style="font-size: 12px\; font-family: Arial\;">\n
             Cobrament a trav?s del seu n?mero de compte\, que haur? de fa
 cilitar a l?hora de fer la inscripci?.</span><br>\n            </td>\n   
      </tr>\n        <tr>\n            <td valign="top"><strong><span styl
 e="color: #f79646\;"><br>\n            Certificaci?:</span></strong></td>
 \n            <td><span style="font-family: Arial\;"><br>\n            <s
 pan style="font-size: 12px\;">\n            Es lliurar? un certificat d'a
 creditaci? i assist?ncia a la finalitzaci? de la formaci?. Aquells que so
 l?licitin bonificar el cus a trav?s de la Fundaci? Tripartita para la For
 maci?n en el Empleo\, tamb? tindran un certificat em?s per la FTFE.</span
 ></span><br>\n            </td>\n        </tr>\n        <tr>\n           
  <td valign="top"><strong><span style="color: #f79646\;"><br>\n          
   Acreditaci? Professional:</span></strong></td>\n            <td>\n     
        <span style="font-size: 12px\; font-family: Arial\;">\n           
  Aquesta formaci? ?s competent per acreditar davant del COGITI la teva fo
 rmaci?.&nbsp\;<br>\n            <br>\n            Mes informaci?:&nbsp\;<
 a target="_blank" href="http://www.acreditacioncogitidpc.es/">http://www.
 acreditacioncogitidpc.e</a>s</span><br>\n            </td>\n        </tr>
 \n    </tbody>\n</table>\n<a target="_blank" href="http://www.acreditacio
 ncogitidpc.es"></a>
DTEND;TZID=Europe/Madrid:20140306T200000
DTSTAMP:20260423T094256Z
DTSTART;TZID=Europe/Madrid:20140306T160000
LOCATION:https://www.enginyerstarragona.cat/agenda/details/1026/1026-curs-
 de-formacio-per-a-tecnics-competents-en
SEQUENCE:0
SUMMARY:Curs de FORMACI? PER A T?CNICS COMPETENTS EN LA ELABORACI? DE PLAN
 S D?AUTOPROTECCI? EN L??MBIT DE CATALUNYA "NIVELL A-B"
UID:ET_Activitat_1026
URL:https://www.enginyerstarragona.cathttps://www.enginyerstarragona.cat/a
 genda/details/1026/1026-curs-de-formacio-per-a-tecnics-competents-en
END:VEVENT
END:VCALENDAR
