BEGIN:VCALENDAR
PRODID:-//github.com/rianjs/ical.net//NONSGML ical.net 2.2//EN
VERSION:2.0
BEGIN:VEVENT
CATEGORIES:Activitats
CREATED;TZID=Europe/Madrid:20260420T113545
DESCRIPTION:Es presentaran les eines b?siques de s?ntesi i optimitzaci? pe
 r a modelar decisions discretes (selecci? d'equips\, alternatives de diss
 eny\, etc.) i cont?nues (variables de proc?s com a consums de primeres ma
 t?ries\, temperatures\, etc.) i la seva aplicaci? a sistemes de producci?
  d'energia: plantes de producci? d'electricitat\, plantes de cogeneraci?\
 , xarxes de intercanvi de calor\, etc. L'objectiu de la jornada ?s propor
 cionar una panor?mi9ca de t?cniques de optimitzaci? discreta i cont?nua\,
  aix? com la seva aplicaci? en sistemes d'energia i proc?s<br>\n<b>Es pre
 sentaran estrategies per a :</b><br>\n1. La s?ntesi i disseny preliminar 
 de plantes de producci? i distribuci? d'energia <br>\n2. L'optimitzaci? d
 e les condicions d'operaci? d'una planta de producci? d'energia <br>\n<b>
 PROFESSORAT</b><br>\nIgnacio E. Grossman\, Carnegie Mellon University\, D
 ept. of Chemical Engineering Pittbusrgh (EE. UU.)<br><br>\n\n<b>PROGRAMA<
 /b><br><br>\n<b>6 de novembre</b>\n<br><br>\n\n<b>9.00 - 10.30 hores</b>\
 n<br>\nIntroducci? a l'optimitzaci? discreta i cont?nua<br>\nM?todes per 
 a l'optimitzaci? mixta sencera linial<br>\n<b>10.30 - 11.00 hores</b>\n<b
 r>\nPausa Caf?<br>\n<b>11.00 - 14.00 hores</b>\n<br>\nModel de transbordo
  d'integraci? de calor<br>\n\nM?todes per a l'optimitaci? mixta sencera n
 o linial<br>\n\nAplicaci? a la s?ntesi simult?nia de xarxes d'intercanvia
 dors de calor<br>\n\nSistemes de producci? d'energia <br>\n\nSistemes de 
 modelitzaci? i optimitzaci?<br><br>\n<b>7 de novembre de 2003</b><br><br>
 \n<b>9.00 - 10.30 hores</b>\n<br>\nT?cniques l?giques de modelitzaci?<br>
 \nM?todes per a la programaci? disjuntiva<br>\n<b>10.30 - 10.45 hores</b>
 \n<br>\nPausa Caf?<br>\n<b>11.00 - 14.00 hores</b>\n<br>\nOptimitzaci? es
 tructural de processos <br>\n\nS?ntesi de processos de separaci? <br>\n\n
 Optimitzaci? global de problemes bilinials<br>\n\nS?ntesi de xarxes de tr
 actaments d'aig?es<br><br>\n<b>PREU: </b>\n160 &#8364\;<br>\n\n<b>PER A M
 ?S INFORMACI? I INSCRIPCIONS</b><br>\nCREVER<br>\n\nAutovia de Salou s/n 
 - 43006 TARRAGONA<br>\n\nTel. 977 54 02 05<br>\n\nFax. 977 54 22 72 <br>\
 n\n<u><a href="mailto: racg@crever.urv.es" target="_blank">mailto: racg@c
 rever.urv.es</a></u> <br>\n\n\n\n\n\n\n\n\n\n\n\n\n\n\n\n\n\n\n\n\n\n\n\n
DTEND;TZID=Europe/Madrid;VALUE=DATE:20031108
DTSTAMP:20260420T093545Z
DTSTART;TZID=Europe/Madrid;VALUE=DATE:20031107
LOCATION:https://www.enginyerstarragona.cat/agenda/details/93/93-sintesi-i
 -optimitzacio-de-sistemes-de-producc
SEQUENCE:0
SUMMARY:SINTESI I OPTIMITZACI? DE SISTEMES DE PRODUCCI? D'ENERGIA
UID:ET_Activitat_93
URL:https://www.enginyerstarragona.cathttps://www.enginyerstarragona.cat/a
 genda/details/93/93-sintesi-i-optimitzacio-de-sistemes-de-producc
END:VEVENT
END:VCALENDAR
