BEGIN:VCALENDAR
PRODID:-//github.com/rianjs/ical.net//NONSGML ical.net 2.2//EN
VERSION:2.0
BEGIN:VEVENT
CATEGORIES:Activitats
CREATED;TZID=Europe/Madrid:20260425T031510
DESCRIPTION:<p><span style="font-size: 10pt\; font-family: arial\; color: 
 #7f7f7f\;"><strong>CODI CIRCULAR: 24/ 12</strong><br />\n<br />\n</span><
 span style="font-size: 10pt\; font-family: arial\; color: #7f7f7f\;"><spa
 n style="font-size: 13px\; color: #7f7f7f\;">Donat l&rsquo\;&egrave\;xit 
 de la primera i segona edici&oacute\; del curs que van tenir inici el mes
  de mar&ccedil\;\, i degut al gran nombre d&rsquo\;inscripcions\, que han
  fet generar llistes d&rsquo\;espera\, properament s'inciciar&agrave\; un
 a tercera edici&oacute\;.</span><span style="font-size: 13px\; color: #7f
 7f7f\;"><strong><br />\n</strong></span></span></p>\n<p><span style="font
 -family: arial\; font-size: 13px\; color: #333333\;"><strong></strong></s
 pan><span style="font-size: 10pt\; font-family: arial\; color: #7f7f7f\;"
 >El decret d&rsquo\;autoprotecci&oacute\; 82/2010 de 29 de juny\, aprova 
 el cat&agrave\;leg d&rsquo\;activitats i centres obligats a adoptar mesur
 es d&rsquo\;autoprotecci&oacute\; i fixa el contingut d&rsquo\;aquestes m
 esures\, i tamb&eacute\; estableix que els plans d&rsquo\;autoprotecci&oa
 cute\; els poden redactar exclusivament t&egrave\;cnics acreditats a tal 
 efecte.</span><span style="font-size: 10pt\; font-family: arial\; color: 
 #7f7f7f\;">El CETIT ha realitzat tots els tr&agrave\;mits d&rsquo\;homolo
 gaci&oacute\; com centre formador\, amb la col&middot\;laboraci&oacute\; 
 de l&rsquo\;Associaci&oacute\; d&rsquo\;Enginyers T&egrave\;cnics Industr
 ials i de Grau\, i ja <strong>disposa de l'acreditaci&oacute\; com a cent
 re de formaci&oacute\;</strong> de personal t&egrave\;cnic competent per 
 elaborar plans d'autoprotecci&oacute\;\, de l'Institut de Seguretat P&uac
 ute\;blica de Catalunya.</span></p>\n<p style="text-align: justify\;"><sp
 an style="font-size: 12px\; font-family: arial\; color: #000000\;"><span 
 style="font-size: 10pt\; color: #333333\;"></span><span style="font-size:
  10pt\; color: #7f7f7f\;">Comptem amb professorat especialista en cadascu
 n dels camps a desenvolupar.</span></span></p>\n<p style="text-align: jus
 tify\;"><span style="font-size: 12px\; font-family: arial\; color: #00000
 0\;"><span style="color: #7f7f7f\;"><strong><span style="font-size: 10pt\
 ;">OBJECTIU DEL CURS:</span></strong></span><span style="font-size: 10pt\
 ; color: #7f7f7f\;"> Dotar dels coneixements necessaris per elaborar plan
 s d'autoprotecci&oacute\; i per obtenir l'acreditaci&oacute\; com a perso
 nal t&egrave\;cnic competent en l'elaboraci&oacute\; de plans d'autoprote
 cci&oacute\; per a les activitats i centres d'inter&egrave\;s per a la pr
 otecci&oacute\; civil local\, d'acord amb el Decret 82/2010\, de 29 de ju
 ny.</span></span></p>\n<p style="text-align: justify\;"><span style="font
 -size: 12px\; font-family: arial\; color: #000000\;"><strong><span style=
 "color: #333333\;"></span><span style="font-size: 10pt\; color: #7f7f7f\;
 ">DESTINAT A:</span></strong><span style="font-size: 10pt\; color: #7f7f7
 f\;"> Persones amb titulaci&oacute\; universit&agrave\;ria que vulguin ac
 reditar-se i qualsevol t&egrave\;cnic que busca formaci&oacute\; com a t&
 egrave\;cnic competent per elaborar plans d&rsquo\;autoprotecci&oacute\;.
 </span></span></p>\n<p style="text-align: justify\;"><span style="font-si
 ze: 12px\; font-family: arial\; color: #000000\;"><span style="color: #7f
 7f7f\;"><strong><span style="font-size: 10pt\;">PROGRAMA DEL CURS DE FORM
 ACI&Oacute\; B&Agrave\;SICA (140 hores)</span></strong></span><span style
 ="font-size: 10pt\; color: #7f7f7f\;">: s'adjunta.</span></span></p>\n<p>
 <span style="font-size: 12px\; font-family: arial\; color: #7f7f7f\;"><st
 rong><span style="font-size: 10pt\;">EQUIP DOCENT:</span></strong></span>
 </p>\n<p style="line-height: 10pt\;"><span style="font-size: 12px\; font-
 family: arial\; color: #7f7f7f\;"><span style="font-size: 10pt\;">Joan Ca
 rles Franc&eacute\;s</span><span style="font-size: 10pt\;"> - Responsable
  T&egrave\;cnic de Protecci&oacute\; Civil</span></span></p>\n<p style="l
 ine-height: 10pt\;"><span style="font-size: 12px\; font-family: arial\; c
 olor: #7f7f7f\;"><span style="font-size: 10pt\;">Albert Ventosa</span><sp
 an style="font-size: 10pt\;"> - Inspector de Bombers </span></span></p>\n
 <p style="line-height: 10pt\;"><span style="font-size: 12px\; font-family
 : arial\; color: #7f7f7f\;"><span style="font-size: 10pt\;">Laia Guasch</
 span><span style="font-size: 10pt\;"> &ndash\; T&egrave\;cnica de Protecc
 i&oacute\; Civil</span></span></p>\n<p style="line-height: 10pt\;"><span 
 style="font-size: 12px\; font-family: arial\; color: #7f7f7f\;"><span sty
 le="font-size: 10pt\;">Sandra Guerrero</span><span style="font-size: 10pt
 \;"> &ndash\; T&egrave\;cnica de Protecci&oacute\; Civil</span></span></p
 >\n<p style="line-height: 10pt\;"><span style="font-size: 12px\; font-fam
 ily: arial\; color: #7f7f7f\;"><span style="font-size: 10pt\;">Marta Ort&
 iacute\;n</span><span style="font-size: 10pt\;"> &ndash\; T&egrave\;cnica
  de Protecci&oacute\; Civil</span></span></p>\n<p style="line-height: 10p
 t\;"><span style="font-size: 12px\; font-family: arial\; color: #7f7f7f\;
 "><span style="font-size: 10pt\;">Anton Escarr&eacute\;</span><span style
 ="font-size: 10pt\;"> - Responsable Acad&egrave\;mic del Curs</span></spa
 n></p>\n<p style="line-height: 10pt\;"><span style="font-size: 12px\; fon
 t-family: arial\; color: #7f7f7f\;"><span style="font-size: 10pt\;">Manue
 l Montesinos</span><span style="font-size: 10pt\;"> &ndash\; Coordinador 
 del Curs</span></span></p>\n<p><span style="font-size: 10pt\; color: #333
 333\;"><span style="font-weight: bold\; color: #7f7f7f\;">CALENDARI</span
 ><span style="color: #595959\;"><span style="font-weight: bold\; color: #
 7f7f7f\;">:</span><span style="color: #7f7f7f\;"><strong>&nbsp\;</strong>
 inici setembre.</span></span></span><span style="font-size: 10pt\; color:
  #333333\;"><br />\n<br />\n</span><span style="font-size: 12px\; color: 
 #7f7f7f\;"><strong><span style="font-size: 10pt\;">PREU DEL CURS:</span><
 /strong><span style="font-size: 10pt\;"> 500 &euro\;</span></span></p>\n<
 p><span style="font-size: 12px\; color: #7f7f7f\;"><strong><span style="f
 ont-size: 10pt\;">Preu COL&middot\;LEGIATS / ASSOCIATS: </span></strong><
 span style="font-size: 10pt\;">380 &euro\; ( inclosa la subvenci&oacute\;
  del CETIT/ AETIGT)</span></span></p>\n<p><span style="font-size: 12px\; 
 color: #7f7f7f\;"><strong><span style="font-family: 'times new roman'\;">
 <span style="font-size: 12px\; font-family: arial\;">FORMA DE PAGAMENT</s
 pan>:</span></strong><span style="font-family: 'times new roman'\;"><span
  style="font-size: 12px\; font-family: arial\;"> Transfer&egrave\;ncia ba
 nc&agrave\;ria o ingr&eacute\;s en efectiu al n&uacute\;mero de compte</s
 pan><span style="font-size: 12px\; font-family: arial\;"> 2013.3074.67.02
 10965978</span><span style="font-size: 12px\; font-family: arial\;"> de C
 atalunya Caixa (cal indicar al document justificatiu de pagament el nom d
 e la</span><span style="text-decoration: underline\; font-size: 12px\; fo
 nt-family: arial\;"> persona assistent i el nom de l&rsquo\;activitat</sp
 an><span style="font-size: 12px\; font-family: arial\;">).</span></span><
 /span><span style="font-size: 12px\; font-family: 'times new roman'\; col
 or: #7f7f7f\;">&nbsp\;</span><span style="font-size: 12px\; font-family: 
 'times new roman'\; color: #000000\;"></span></p>\n<p style="text-align: 
 justify\;"><span style="font-size: 12px\; color: #7f7f7f\;"><strong><span
  style="font-size: 10pt\;">LLOC: </span></strong><span style="font-size: 
 10pt\;">Avinguda de Roma\, 7 de Tarragona.</span></span></p>\n<p><span st
 yle="font-size: 10pt\; font-family: arial\; color: #333333\;"></span><spa
 n style="font-size: 10pt\; color: #7f7f7f\;">** Les admissions es gestion
 aran per estricte ordre d'inscripci&oacute\;\, donant prioritat als col&m
 iddot\;legiats i associats del CETIT **</span></p>\n<span style="font-siz
 e: 12px\; color: #000000\;"></span>\n<p>&nbsp\;</p>
DTEND;TZID=Europe/Madrid:20120512T213000
DTSTAMP:20260425T011510Z
DTSTART;TZID=Europe/Madrid:20120512T160000
LOCATION:https://www.enginyerstarragona.cat/agenda/details/892/892-iii-edi
 cio-curs-basic-de-formacio-de-tecnics
SEQUENCE:0
SUMMARY:III EDICI? CURS B?SIC DE FORMACI? DE T?CNICS COMPETENTS EN ELABORA
 CI? DE PLANS D?AUTOPROTECCI?
UID:ET_Activitat_892
URL:https://www.enginyerstarragona.cathttps://www.enginyerstarragona.cat/a
 genda/details/892/892-iii-edicio-curs-basic-de-formacio-de-tecnics
END:VEVENT
END:VCALENDAR
