BEGIN:VCALENDAR
PRODID:-//github.com/rianjs/ical.net//NONSGML ical.net 2.2//EN
VERSION:2.0
BEGIN:VEVENT
CATEGORIES:Activitats
CREATED;TZID=Europe/Madrid:20260425T130959
DESCRIPTION:<p style="text-align: justify\;">\n</p>\n<p style="text-align:
  justify\;"><span style="font-size: 12px\; color: #7f7f7f\;">La comissi&o
 acute\; d&rsquo\;actes socials\, culturals i de lleure del CETIT/ AETIGT 
 ha estat treballant aquests &uacute\;ltims mesos en la preparaci&oacute\;
  d&rsquo\;un viatge\, que com cada any\, oferim a tots els col&middot\;le
 giats i associats.</span></p>\n<p style="text-align: justify\;"> </p>\n<p
  style="text-align: justify\;"><span style="font-size: 12px\; color: #7f7
 f7f\;">Podem confirmar\, sempre i quan s&rsquo\;arribi al nombre m&iacute
 \;nim d&rsquo\;inscripcions\, la realitzaci&oacute\; d&rsquo\;aquest viat
 ge que ser&agrave\; de 12 dies de durada\, el mes de juliol de 2012.</spa
 n></p>\n<p style="text-align: justify\;"> </p>\n<p style="text-align: jus
 tify\;"><span style="font-size: 12px\; color: #7f7f7f\;">Us adjuntem l&rs
 quo\;itinerari informatiu del viatge que s&rsquo\;ha treballat i que ens 
 ha tram&egrave\;s l&rsquo\;agencia. </span></p>\n<h1 style="margin-left: 
 0cm\; text-indent: 0cm\;"> </h1>\n<h1 style="margin-left: 0cm\; text-inde
 nt: 0cm\;"><strong><span style="line-height: 150%\; font-size: 12px\; col
 or: #7f7f7f\;">PROMOVIATGES</span></strong></h1>\n<p style="text-align: j
 ustify\;"><strong><span style="font-size: 12px\; color: #7f7f7f\;">Sra. A
 nna Castilla</span></strong></p>\n<p style="text-align: justify\;"><span 
 style="color: #7f7f7f\;"><span style="font-size: 12px\;">Tel. 93 748 43 3
 0/&nbsp\;</span>93 748 13 31 &nbsp\; &nbsp\; &nbsp\; &nbsp\;&nbsp\;</span
 ></p>\n<p style="text-align: justify\;"><a href="http://www.promoviatges.
 com/"><span style="font-size: 12px\; color: #7f7f7f\;">http://www.promovi
 atges.com</span></a></p>\n<p style="text-align: justify\;"> </p>\n<p styl
 e="text-align: justify\;"><span style="font-size: 12px\; color: #7f7f7f\;
 "><strong>DATES:</strong> 4 al 16 de juliol de 2012 (dimecres a dilluns).
 </span></p>\n<p style="text-align: justify\;"> </p>\n<p style="text-align
 : justify\;"><span style="font-size: 12px\; color: #7f7f7f\;"><strong>NOM
 BRE M&Iacute\;NIM/M&Agrave\;XIM D&rsquo\;ASSISTENTS: </strong>35/ 50 </sp
 an></p>\n<p style="text-align: justify\;"><span style="font-size: 12px\; 
 color: #7f7f7f\;">Les <strong>inscripcions</strong> es portaran a terme d
 es de l&rsquo\;ag&egrave\;ncia i els terminis de pagament s&oacute\;n els
  seg&uuml\;ents: </span></p>\n<p style="text-align: justify\;"> </p>\n<p 
 style="text-align: justify\;"><span style="font-size: 12px\; color: #7f7f
 7f\;"><strong>PREU:</strong> 2995 &euro\;</span></p>\n<p style="text-alig
 n: justify\;"><span style="font-size: 12px\; color: #7f7f7f\;"><strong>PR
 IMER DIP&Ograve\;SIT:</strong>&nbsp\; 1000 &euro\;/ persona\, abans del 3
 0 de gener de 2012.</span></p>\n<p style="text-align: justify\;"><span st
 yle="font-size: 12px\; color: #7f7f7f\;"><strong>SEGON DIP&Ograve\;SIT</s
 trong>: 1000 &euro\;/ persona abans del 30 de mar&ccedil\; de 2012.</span
 ></p>\n<p style="text-align: justify\;"><span style="font-size: 12px\; co
 lor: #7f7f7f\;"><strong>TERCER DIP&Ograve\;SIT</strong>: 995 &euro\;/ per
 sona abans del 30 de juny de 2012.</span></p>\n<p style="text-align: just
 ify\;"> </p>\n<p style="text-align: justify\;"><span style="font-size: 12
 px\; color: #7f7f7f\;"><strong>NOTA:</strong> hi ha la possibilitat que e
 ns acompanyin persones no vinculades al CETIT/ AETIGT i companys dels dif
 erents col&middot\;legis de Catalunya\, sempre que les places no s&rsquo\
 ;hagin cobert per col&middot\;legiats del CETIT. S&rsquo\;obrir&agrave\; 
 una llista d&rsquo\;espera per rigor&oacute\;s ordre d&rsquo\;inscripci&o
 acute\;.</span></p>\n<p></p>
DTEND;TZID=Europe/Madrid;VALUE=DATE:20120716
DTSTAMP:20260425T110959Z
DTSTART;TZID=Europe/Madrid;VALUE=DATE:20120704
LOCATION:https://www.enginyerstarragona.cat/agenda/details/869/869-viatge-
 2012-la-costa-oest-dels-eeuu
SEQUENCE:0
SUMMARY:Viatge 2012. LA COSTA OEST DELS EE.UU.
UID:ET_Activitat_869
URL:https://www.enginyerstarragona.cathttps://www.enginyerstarragona.cat/a
 genda/details/869/869-viatge-2012-la-costa-oest-dels-eeuu
END:VEVENT
END:VCALENDAR
