BEGIN:VCALENDAR
PRODID:-//github.com/rianjs/ical.net//NONSGML ical.net 2.2//EN
VERSION:2.0
BEGIN:VEVENT
CATEGORIES:Activitats
CREATED;TZID=Europe/Madrid:20260421T035603
DESCRIPTION:<p style="text-align: justify\;"><span style="font-family: tah
 oma\; color: #7f7f7f\; font-size: 9pt\;"><strong>CODI CIRCULAR: 60/ 11</s
 trong><br />\n<br />\nEl proper mes d&rsquo\;octubre tindr&agrave\; inici
  un curs d&rsquo\;angl&egrave\;s\, amb professorat de l&rsquo\;Escola Ofi
 cial d&rsquo\;Idiomes\, de dos nivells\, independents un de l&rsquo\;altr
 e\, l&rsquo\;<strong>objectiu </strong>del qual<strong> </strong>&eacute\
 ;s que l&rsquo\;alumne pugui aprendre i practicar les estructures gramati
 cals de la llengua anglesa que correspongui\, segons el seu nivell. </spa
 n></p>\n<p style="text-align: justify\;"><strong><span style="font-family
 : tahoma\; color: #7f7f7f\; font-size: 9pt\;">NVELL A. Correspon a un niv
 ell baix.</span></strong></p>\n<ul>\n    <li><span style="font-family: ta
 homa\; color: #7f7f7f\; font-size: 9pt\;">Utilitzar l&rsquo\;angl&egrave\
 ;s. Fer adonar a l&rsquo\;alumne que l&rsquo\;angl&egrave\;s no &eacute\;
 s una llengua dif&iacute\;cil de dominar. Poder parlar (speaking)\, poder
  entendre (listening)\, llegir (reading) i escriure (writing) a un nivell
  B1\, nivell a marc europeu. </span></li>\n</ul>\n<p style="text-align: j
 ustify\;"><span style="color: #7f7f7f\;">&nbsp\;<strong><span style="font
 -family: tahoma\; font-size: 9pt\;">NIVELL B. Correspon a un nivell alt.<
 /span></strong></span></p>\n<p style="text-align: justify\;"><strong><spa
 n style="color: #7f7f7f\;"></span></strong></p>\n<ul>\n    <li><span styl
 e="font-family: tahoma\; color: #7f7f7f\; font-size: 9pt\;">Parlar el qua
 si RECORDAT angl&egrave\;s ja apr&egrave\;s i fer-lo &uacute\;til per tre
 ballar i viatjar. Poder parlar (speaking)\, poder entendre (listening)\, 
 llegir (reading) i escriure (writing) a un nivell B2\, nivell a marc euro
 peu. </span></li>\n</ul>\n<p style="text-align: justify\;"><span style="f
 ont-family: tahoma\; color: #7f7f7f\; font-size: 9pt\;">Amb aquest curs e
 s pret&eacute\;n que l&rsquo\;alumne es pugui sentir preparat per continu
 ar i estudiar l&rsquo\;idioma amb l&rsquo\;objectiu d&rsquo\;obtenir el n
 ivell m&eacute\;s alt\, corresponent al nivell a marc europeu\, a l&rsquo
 \;Escola Oficial d&rsquo\;Idiomes.</span></p>\n<p style="text-align: just
 ify\;"><span style="color: #7f7f7f\;"><strong><span style="font-family: t
 ahoma\; font-size: 9pt\;">Dirigit a</span></strong><span style="font-fami
 ly: tahoma\; font-size: 9pt\;"> tots aquells que vulguin divertir-se i a 
 la vegada\, adquirir una eina essencial de la nostra societat moderna\, u
 na utilitzaci&oacute\; bona i competent de la llengua anglesa.</span></sp
 an></p>\n<p style="text-align: justify\;"><span style="color: #7f7f7f\;">
 <strong><span style="font-family: tahoma\; font-size: 9pt\;">PROGRAMA: </
 span></strong><span style="font-family: tahoma\; font-size: 9pt\;">materi
 al interessant i estimulant per desenvolupar el coneixement de l&rsquo\;a
 lumne i la utilitzaci&oacute\; de les quatre tasques\, parlar\, llegir\, 
 escoltar (entendre) i escriure.</span></span></p>\n<p style="text-align: 
 justify\;"><span style="font-family: tahoma\; color: #7f7f7f\; font-size:
  9pt\;">El &ldquo\;writing&rdquo\;\, &eacute\;s a dir\, escriure\, ser&ag
 rave\; una activitat de deures per casa\, per aquells que ho vulguin fer.
 </span></p>\n<p style="text-align: justify\;"><span style="color: #7f7f7f
 \;"><strong><span style="font-family: tahoma\; font-size: 9pt\;">DURADA:<
 /span></strong><span style="font-family: tahoma\; font-size: 9pt\;"> 50 h
 ores aproximadament\, a cada nivell (6 mesos).</span></span></p>\n<p styl
 e="text-align: justify\;"><span style="color: #7f7f7f\;"><strong><span st
 yle="font-family: tahoma\; font-size: 9pt\;">PROVA DE NIVELL: </span></st
 rong><span style="font-family: tahoma\; font-size: 9pt\;">es far&agrave\;
  una prova de nivell (oral i escrita) per determinar els grups\, que tind
 r&agrave\; lloc el<strong> <span style="text-decoration: underline\;">28 
 de SETEMBRE&nbsp\; entre les 16 i les 17 h (&uacute\;ltima convocat&ograv
 e\;ria a les 16.30 h).</span></strong></span></span></p>\n<p style="text-
 align: justify\;"><span style="color: #7f7f7f\;"><strong><span style="fon
 t-family: tahoma\; font-size: 9pt\;">CALENDARI: </span></strong><span sty
 le="font-family: tahoma\; font-size: 9pt\;">del 3<strong> </strong>d&rsqu
 o\;octubre al 28 de mar&ccedil\;\, dilluns i dimecres de 15 a 17 hores (e
 xcepte festius\, setmana Santa i Nadal)</span></span></p>\n<p style="text
 -align: justify\;"><span style="color: #7f7f7f\;"><span style="font-famil
 y: tahoma\; font-size: 9pt\;">Nivell A. Dilluns i dimecres de 15 a 16 h<b
 r />\n</span><span style="font-family: tahoma\; font-size: 9pt\;">Nivell 
 B. Dilluns i dimecres de 16 a 17 h</span></span></p>\n<p style="text-alig
 n: justify\;"><span style="font-family: tahoma\; color: #7f7f7f\; font-si
 ze: 9pt\;">Entenem que els horaris poden ser incompatibles amb la feina\,
  per&ograve\; &eacute\;s la &uacute\;nica possibilitat que ens han ofert 
 per aquest curs escolar. L&rsquo\;any passat ja es va fer amb aquest hora
 ri i va ser tot un &egrave\;xit.</span></p>\n<p style="text-align: justif
 y\;"><strong><span style="background-color: #d9d9d9\; font-family: tahoma
 \; color: #7f7f7f\; font-size: 9pt\;">MATR&Iacute\;CULA: 70 &euro\; </spa
 n></strong></p>\n<p style="text-align: justify\;"><strong><span style="co
 lor: #7f7f7f\;"></span></strong></p>\n<p style="text-align: justify\;"><s
 trong><span style="font-family: tahoma\; color: #7f7f7f\; font-size: 9pt\
 ;">COL&middot\;LEGIATS: </span></strong><span style="color: #7f7f7f\;"><s
 pan style="font-family: tahoma\; font-size: 9pt\;">50 &euro\;/ mes<br />\
 n<br />\n</span><strong><span style="font-family: tahoma\; font-size: 9pt
 \;">COL&middot\;LEGIATS I ASSOCIATS: </span></strong><span style="font-fa
 mily: tahoma\; font-size: 9pt\;">45 &euro\;/ mes</span></span></p>\n<p st
 yle="text-align: justify\;"><span style="color: #7f7f7f\;"><strong><span 
 style="font-family: tahoma\; font-size: 9pt\;">NO COL&middot\;LEGIATS</sp
 an></strong><span style="font-family: tahoma\; font-size: 9pt\;">: 65 &eu
 ro\;/ mes</span></span></p>\n<p style="text-align: justify\;"><strong><sp
 an style="font-family: tahoma\; color: #7f7f7f\; font-size: 9pt\;">ANTICS
  ALUMNES (vinculats al CETIT): 50 % de descompte en el preu de la matr&ia
 cute\;cula.</span></strong></p>\n<p style="text-align: justify\;"><strong
 ><span style="color: #7f7f7f\;"></span></strong></p>\n<p style="text-alig
 n: justify\;"><span style="color: #7f7f7f\;"><strong><span style="font-fa
 mily: tahoma\; font-size: 8pt\;">NOTA: L&rsquo\;import total de curs &eac
 ute\;s la suma de la matr&iacute\;cula m&eacute\;s els pagaments mensuals
 . La no assist&egrave\;ncia al curs no eximeix l&rsquo\;obligaci&oacute\;
  de pagament del mateix***. <br />\n<br />\n</span></strong><strong><span
  style="font-family: tahoma\; font-size: 9pt\;">PROFESSOR: </span></stron
 g></span><span style="color: #7f7f7f\;"><span style="font-family: tahoma\
 ; font-size: 9pt\;">John Butler\,<strong> </strong>angl&egrave\;s natiu a
 mb experi&egrave\;ncia de m&eacute\;s de 25 anys al m&oacute\;n de l&rsqu
 o\;educaci&oacute\;\, 20 dels quals a la <span style="text-decoration: un
 derline\;">Escola</span><span style="text-decoration: underline\;"> Ofici
 al</span><span style="text-decoration: underline\;"> d&rsquo\;Idiomes</sp
 an> de Tarragona\, com a professor d&rsquo\;estudiants i professors.<br /
 >\n<br />\n</span><strong><span style="font-family: tahoma\; font-size: 9
 pt\;">CERTIFICACI&Oacute\;: </span></strong><span style="font-family: tah
 oma\; font-size: 9pt\;">el CETIT</span></span><span style="color: #7f7f7f
 \;"><span style="font-family: tahoma\; font-size: 9pt\;"> lliurar&agrave\
 ; un certificat d&rsquo\;assist&egrave\;ncia al curs pr&egrave\;via sol&m
 iddot\;licitud del participant. Assist&egrave\;ncia m&iacute\;nima obliga
 t&ograve\;ria del 80 % de les hores lectives. <br />\n<br />\n</span><str
 ong><span style="font-family: tahoma\; font-size: 9pt\;">LLOC: </span></s
 trong></span><span style="font-family: tahoma\; font-size: 9pt\;"><span s
 tyle="color: #7f7f7f\;">Avinguda de Roma\, 7 de Tarragona.</span><strong>
 <span style="color: #7f7f7f\;"> <br />\n<br />\n</span></strong></span><s
 trong><span style="font-family: tahoma\; color: #7f7f7f\; font-size: 9pt\
 ;">NOMBRE M&Iacute\;NIM / M&Agrave\;XIM D&rsquo\;ASSISTENTS: </span></str
 ong><span style="color: #7f7f7f\;"><span style="font-family: tahoma\; fon
 t-size: 9pt\;">6/ 25<br />\n<br />\n</span><span style="font-family: taho
 ma\; font-size: 13px\;"><strong><span style="font-size: 9pt\;">FORMA DE P
 AGAMENT:</span></strong><span style="font-size: 9pt\;"> Transfer&egrave\;
 ncia banc&agrave\;ria o ingr&eacute\;s en efectiu al n&uacute\;mero de co
 mpte </span>0081.0088.16.0001793085 del Banc de Sabadell<span style="font
 -size: 9pt\;"> (cal indicar al document justificatiu de pagament <span st
 yle="text-decoration: underline\;">el nom de la persona assistent i el no
 m de l&rsquo\;activitat</span>). </span></span><span style="font-family: 
 tahoma\; font-size: 9pt\;">En efectiu o cobrament a trav&eacute\;s del se
 u n&uacute\;mero de compte\, que haur&agrave\; de facilitar a l&rsquo\;ho
 ra de fer la inscripci&oacute\;.</span></span></p>
DTEND;TZID=Europe/Madrid:20111003T170000
DTSTAMP:20260421T015603Z
DTSTART;TZID=Europe/Madrid:20111003T150000
LOCATION:https://www.enginyerstarragona.cat/agenda/details/849/849-curs-an
 gles
SEQUENCE:0
SUMMARY:CURS ANGL?S
UID:ET_Activitat_849
URL:https://www.enginyerstarragona.cathttps://www.enginyerstarragona.cat/a
 genda/details/849/849-curs-angles
END:VEVENT
END:VCALENDAR
