BEGIN:VCALENDAR
PRODID:-//github.com/rianjs/ical.net//NONSGML ical.net 2.2//EN
VERSION:2.0
BEGIN:VEVENT
CATEGORIES:Activitats
CREATED;TZID=Europe/Madrid:20260425T203142
DESCRIPTION:<p class="MsoNormal" style="text-align: justify\; margin: 0cm 
 0cm 0pt\;"><span lang="CA" style="color: #7f7f7f\; font-size: 12px\;"><st
 rong>CODI</strong> <strong>CIRCULAR: 35/11 A</strong><br />\n<strong>ORGA
 NITZA:</strong> AETIGT<br />\n<br />\nL&rsquo\;AETIGT organitza el proper
  mes de maig una sortida cultural a la ciutat de Barcelona\, per visitar 
 el <b style="mso-bidi-font-weight: normal\;">PALAU DE <st1:PersonName Pro
 ductID="la Musica Catalana" w:st="on">LA MUSICA CATALANA</st1:PersonName>
 \, BARCELONA i </b>gaudir d&rsquo\;un<b style="mso-bidi-font-weight: norm
 al\;"> concert.<o:p></o:p></b></span></p>\n<p class="MsoNormal" style="te
 xt-align: justify\; margin: 0cm 0cm 0pt\;"><b style="mso-bidi-font-weight
 : normal\;"><span lang="CA" style="color: #7f7f7f\; font-size: 12px\;"><o
 :p>&nbsp\;</o:p></span></b></p>\n<p class="MsoNormal" style="text-align: 
 justify\; margin: 0cm 0cm 0pt\;"><b style="mso-bidi-font-weight: normal\;
 "><span lang="CA" style="color: #7f7f7f\; font-size: 12px\;">DATA: 14 de 
 maig de 2011 (dissabte)<o:p></o:p></span></b></p>\n<p class="MsoNormal" s
 tyle="text-align: justify\; margin: 0cm 0cm 0pt\;"><b style="mso-bidi-fon
 t-weight: normal\;"><span lang="CA" style="color: #7f7f7f\; font-size: 12
 px\;"><o:p>&nbsp\;</o:p></span></b></p>\n<p class="MsoNormal" style="text
 -align: justify\; margin: 0cm 0cm 0pt\;"><span lang="CA" style="color: #7
 f7f7f\; font-size: 12px\;">L&rsquo\;<b style="mso-bidi-font-weight: norma
 l\;">itinerari </b>de la sortida ser&agrave\; el seg&uuml\;ent: <o:p></o:
 p></span></p>\n<p class="MsoNormal" style="text-align: justify\; margin: 
 0cm 0cm 0pt\;"><span lang="CA" style="color: #7f7f7f\; font-size: 12px\;"
 ><o:p>&nbsp\;</o:p></span></p>\n<p class="MsoNormal" style="text-align: j
 ustify\; margin: 0cm 0cm 0pt\; tab-stops: 45.0pt\;"><span lang="CA" style
 ="color: #7f7f7f\; font-size: 12px\;">11.30 h Sortida des de Tortosa\, me
 rcat del peix.<o:p></o:p></span></p>\n<p class="MsoNormal" style="text-al
 ign: justify\; margin: 0cm 0cm 0pt\; tab-stops: 45.0pt\;"><span lang="CA"
  style="color: #7f7f7f\; font-size: 12px\;">12.30 h Sortida des de Reus\,
  Passeig Mata (davant la resid&egrave\;ncia dels jubilats).<o:p></o:p></s
 pan></p>\n<p class="MsoNormal" style="text-align: justify\; margin: 0cm 0
 cm 0pt\; tab-stops: 45.0pt\;"><span lang="CA" style="color: #7f7f7f\; fon
 t-size: 12px\;">12.45 h Sortida des de Tarragona\, Pla&ccedil\;a Imperial
  T&agrave\;rraco (davant <st1:PersonName ProductID="la Universitat" w:st=
 "on">la Universitat</st1:PersonName>).<o:p></o:p></span></p>\n<p class="M
 soNormal" style="text-align: justify\; margin: 0cm 0cm 0pt\; tab-stops: 4
 5.0pt\;"><span lang="CA" style="color: #7f7f7f\; font-size: 12px\;"><b st
 yle="mso-bidi-font-weight: normal\;">DINAR EN RUTA</b>. Es far&agrave\; u
 na parada per dinar d&rsquo\;una hora aproximadament.<o:p></o:p></span></
 p>\n<p class="MsoNormal" style="text-align: justify\; margin: 0cm 0cm 0pt
 \; tab-stops: 45.0pt\;"><span lang="CA" style="color: #7f7f7f\; font-size
 : 12px\;">15.30 h <b style="mso-bidi-font-weight: normal\;">Visita guiada
  </b>al <b style="mso-bidi-font-weight: normal\;">Palau de <st1:PersonNam
 e ProductID="LA M&Uacute\;SICA CATALANA" w:st="on"><st1:PersonName Produc
 tID="LA M&Uacute\;SICA" w:st="on">la M&uacute\;sica</st1:PersonName> Cata
 lana</st1:PersonName></b> (1 hora aproximadament).<o:p></o:p></span></p>\
 n<p class="MsoNormal" style="text-align: justify\; margin: 0cm 0cm 0pt\; 
 tab-stops: 45.0pt\;"><span lang="CA" style="color: #7f7f7f\; font-size: 1
 2px\;">16.30 h Temps lliure.<o:p></o:p></span></p>\n<p class="MsoNormal" 
 style="text-align: justify\; margin: 0cm 0cm 0pt\; tab-stops: 45.0pt\;"><
 span lang="CA" style="color: #7f7f7f\; font-size: 12px\;">21.30 h Punt de
  trobada al Palau de <st1:PersonName ProductID="la Musica Catalana" w:st=
 "on"><st1:PersonName ProductID="la Musica" w:st="on">la Musica</st1:Perso
 nName> Catalana</st1:PersonName> per gaudir del <b style="mso-bidi-font-w
 eight: normal\;">&ldquo\;CONCIERTO DE ARANJUEZ&rdquo\;</b> (durada d&rsqu
 o\;una hora i trenta minuts aproximadament).<o:p></o:p></span></p>\n<p cl
 ass="MsoNormal" style="text-align: justify\; text-indent: -45pt\; margin:
  0cm 0cm 0pt 45pt\; tab-stops: 45.0pt\;"><span lang="CA" style="color: #7
 f7f7f\; font-size: 12px\;"><o:p>&nbsp\;</o:p></span></p>\n<p class="MsoNo
 rmal" style="text-align: justify\; margin: 0cm 0cm 0pt\; tab-stops: 45.0p
 t\;"><span lang="CA" style="color: #7f7f7f\; font-size: 12px\;">*** A <st
 1:PersonName ProductID="LA FINALITZACI&Oacute\; DEL" w:st="on"><st1:Perso
 nName ProductID="LA FINALITZACI&Oacute\;" w:st="on">LA FINALITZACI&Oacute
 \;</st1:PersonName> DEL</st1:PersonName> CONCERT\, TORNADA AMB LES PARADE
 S CORRESPONENTS ***<o:p></o:p></span></p>\n<p style="text-align: justify\
 ;"><span style="color: #7f7f7f\; font-size: 12px\;"><b style="mso-bidi-fo
 nt-weight: normal\;"><span lang="CA" style="font-size: 12px\; mso-ansi-la
 nguage: ca\;">PALAU DE <st1:PersonName ProductID="LA M&Uacute\;SICA CATAL
 ANA." w:st="on">LA M&Uacute\;SICA CATALANA<span style="font-size: 12px\; 
 font-weight: normal\;">.</span></st1:PersonName><span style="font-size: 1
 2px\; font-weight: normal\;"> Constru&iuml\;t entre 1905 i 1908 per l&rsq
 uo\;arquitecte </span><strong>Llu&iacute\;s Dom&egrave\;nech i Montaner</
 strong></span></b><span lang="CA" style="font-size: 12px\; mso-ansi-langu
 age: ca\;"> com a seu de l&rsquo\;<strong>Orfe&oacute\; Catal&agrave\;</s
 trong> i constru&iuml\;t amb fons procedents de subscripci&oacute\; popul
 ar\, el Palau de <st1:PersonName ProductID="LA M&Uacute\;SICA CATALANA" w
 :st="on">la M&uacute\;sica Catalana</st1:PersonName> constitueix un patri
 moni simb&ograve\;lic i sentimental de tot un poble que s&rsquo\;identifi
 ca amb la seva hist&ograve\;ria.<o:p></o:p></span></span></p>\n<p style="
 text-align: justify\;"><span lang="CA" style="color: #7f7f7f\; font-size:
  12px\; mso-ansi-language: ca\;">La seva sala de concerts &minus\;una de 
 les m&eacute\;s singulars del m&oacute\;n&minus\; ha estat durant cent an
 ys l&rsquo\;escenari privilegiat de la vida concert&iacute\;stica\, nacio
 nal i internacional de la ciutat de Barcelona. Una perla arquitect&ograve
 \;nica del Modernisme catal&agrave\; que ha esdevingut\, amb el pas de le
 s d&egrave\;cades\, un punt de trobada ineludible de la vida cultural i s
 ocial de Catalunya i que &eacute\;s\, actualment\, la &uacute\;nica sala 
 de concerts modernista <strong>patrimoni de <st1:PersonName ProductID="la
  Humanitat" w:st="on">la Humanitat</st1:PersonName> per <st1:PersonName P
 roductID="la UNESCO" w:st="on">la UNESCO</st1:PersonName></strong> (4 de 
 desembre de 1997).<o:p></o:p></span></p>\n<p style="text-align: justify\;
 "><span lang="CA" style="color: #7f7f7f\; font-size: 12px\; mso-ansi-lang
 uage: ca\;">Les darreres d&egrave\;cades\, el Palau de <st1:PersonName Pr
 oductID="LA M&Uacute\;SICA CATALANA" w:st="on">la M&uacute\;sica Catalana
 </st1:PersonName> ha viscut la renovaci&oacute\; i consolidaci&oacute\; d
 e l&rsquo\;<strong>Orfe&oacute\; Catal&agrave\;</strong>\, la creaci&oacu
 te\; del <strong>Cor de Cambra del Palau de <st1:PersonName ProductID="LA
  M&Uacute\;SICA CATALANA" w:st="on">la M&uacute\;sica Catalana</st1:Perso
 nName></strong> (1990) i de l&rsquo\;<strong>Escola Coral de l&rsquo\;Orf
 e&oacute\; Catal&agrave\;</strong> (1999)\, i la remodelaci&oacute\; i am
 pliaci&oacute\; de l&rsquo\;edifici modernista per l&rsquo\;arquitecte Os
 car Tusquets amb l&rsquo\;auditori del Petit Palau i la nova Pla&ccedil\;
 a del Pala<o:p></o:p></span></p>\n<p style="text-align: justify\;"><span 
 lang="CA" style="color: #7f7f7f\; font-size: 12px\; mso-ansi-language: ca
 \;">El Palau de <st1:PersonName ProductID="LA M&Uacute\;SICA CATALANA" w:
 st="on">la M&uacute\;sica Catalana</st1:PersonName>\, marc emblem&agrave\
 ;tic de la cultura nacional de principis del segle XX\, romana\, avui dia
 \, viu i din&agrave\;mic\, com a equipament cultural obert al m&oacute\;n
 \, escenari de concerts de tots els g&egrave\;neres i estils\, actes cult
 urals\, socials i empresarials\, congressos\, confer&egrave\;ncies\, expo
 sicions\, etc. Tot un referent del dinamisme art&iacute\;stic i ciutad&ag
 rave\; de Barcelona.<o:p></o:p></span></p>\n<p style="text-align: justify
 \;"><span lang="CA" style="color: #7f7f7f\; font-size: 12px\; mso-ansi-la
 nguage: ca\;">El<b style="mso-bidi-font-weight: normal\;"> Concierto de A
 ranjuez </b>constitueix una de les obres m&eacute\;s c&egrave\;lebres de 
 Joaquin Rodrigo. Dedicaca al virtu&oacute\;s de la guitarra Regino Sainz 
 de <st1:PersonName ProductID="la Maza" w:st="on">la Maza</st1:PersonName>
 \, el compositor va plasmar tota la for&ccedil\;a del seu geni: inspirade
 s melodies\, ritmes andalusos i colorits <span style="font-size: 12px\; m
 so-spacerun: yes\;">&nbsp\;</span>paisatges. Des de la seva estrena al Pa
 lau de <st1:PersonName ProductID="LA M&Uacute\;SICA" w:st="on">la M&uacut
 e\;sica</st1:PersonName>\, s&rsquo\;ha convertit en una de les obres m&ea
 cute\;s difoses\, interpretades i gravades de la m&uacute\;sica cl&agrave
 \;ssica de tots els temps\, a m&eacute\;s\, va servir per atorgar al seu 
 autor un immediat reconeixement internacional i per elevar la guitarra a 
 un lloc destacat com instrument de concert.<o:p></o:p></span></p>\n<p cla
 ss="MsoNormal" style="text-align: justify\; margin: 0cm 0cm 0pt\;"><span 
 lang="CA" style="color: #7f7f7f\; font-size: 12px\;"><strong>EL PREU INCL
 OU:</strong> trasllat en autocar\, visita guiada al Palau de <st1:PersonN
 ame ProductID="la M&uacute\;sica" w:st="on">la M&uacute\;sica</st1:Person
 Name> i <i style="mso-bidi-font-style: normal\;">Concierto de Aranjuez.</
 i></span></p>\n<p class="MsoNormal" style="text-align: justify\; margin: 
 0cm 0cm 0pt\;"><span lang="CA" style="color: #7f7f7f\; font-size: 12px\;"
 ><o:p>&nbsp\;</o:p></span></p>\n<p class="MsoNormal" style="text-align: j
 ustify\; margin: 0cm 0cm 0pt\;"><span style="color: #7f7f7f\; font-size: 
 12px\;"><b><span lang="CA" style="font-size: 12px\;">FORMA DE PAGAMENT:</
 span></b><span lang="CA" style="font-size: 12px\;"> Transfer&egrave\;ncia
  banc&agrave\;ria o ingr&eacute\;s en efectiu al n&uacute\;mero de compte
  0081.0088.16.0001793085 del Banc de Sabadell\, (cal indicar al document 
 justificatiu de pagament <span style="text-decoration: underline\;">el no
 m de la persona assistent i el nom de l&rsquo\;activitat</span>)<b>.</b><
 o:p></o:p></span></span></p>\n<p class="MsoNormal" style="text-align: jus
 tify\; margin: 0cm 0cm 0pt\;"><span lang="CA" style="color: #7f7f7f\; fon
 t-size: 12px\;"><o:p>&nbsp\;</o:p></span></p>\n<p class="MsoNormal" style
 ="text-align: justify\; margin: 0cm 0cm 0pt\;"><span lang="CA" style="col
 or: #7f7f7f\; font-size: 12px\;">*** PER MOTIUS DE RESERVA DE LOCALITATS 
 &Eacute\;S MOLT IMPORTANT COMPLIR AMB EL TERMINI D'INSCRIPCI&Oacute\; I D
 E PAGAMENT***<o:p></o:p></span></p>
DTEND;TZID=Europe/Madrid:20110514T230000
DTSTAMP:20260425T183142Z
DTSTART;TZID=Europe/Madrid:20110514T110000
LOCATION:https://www.enginyerstarragona.cat/agenda/details/825/825-palau-d
 e-la-musica-catalana-visita-guiada-i-c
SEQUENCE:0
SUMMARY:PALAU DE LA M?SICA CATALANA\, VISITA GUIADA I "CONCIERTO DE ARANJU
 EZ"
UID:ET_Activitat_825
URL:https://www.enginyerstarragona.cathttps://www.enginyerstarragona.cat/a
 genda/details/825/825-palau-de-la-musica-catalana-visita-guiada-i-c
END:VEVENT
END:VCALENDAR
