BEGIN:VCALENDAR
PRODID:-//github.com/rianjs/ical.net//NONSGML ical.net 2.2//EN
VERSION:2.0
BEGIN:VEVENT
CATEGORIES:Activitats
CREATED;TZID=Europe/Madrid:20260421T055407
DESCRIPTION:L' Institut per a la Diversificaci&oacute\; i Estalvi de l'Ene
 rgia\, amb la col&middot\;laboraci&oacute\; de la Universitat Polit&egrav
 e\;cnica de Madrid\, ADENE (Ag&egrave\;ncia d'Energia de Portugal) i la U
 niversitat de Darmstadt (Alemania) organitza aquesta jornada <strong>GRAT
 U&Iuml\;TA.<br />\n<br />\n</strong>Aquesta jornada es celebrar&agrave\; 
 en el marc del Projecte <strong>10ACTION\, </strong>subvencionat pel Prog
 rama d'Energia Intel&middot\;ligent per Europa de la Uni&oacute\; Europea
 . <br />\n<br />\n<strong>OBJECTIU:</strong> abordar les implicacions que
  pel sector de la construcci&oacute\; tindr&agrave\; l'adopci&oacute\; de
  la Directiva 2010/31&nbsp\;relativa a l'efici&egrave\;ncia energ&egrave\
 ;tica dels edificis. Presentar en detall\, a nivel constructiu\, les case
 s guanyadores participants en l'edici&oacute\; Solar Decathlon Europe 201
 0\, mostrant el comportament de certs elements\, experi&egrave\;ncia i re
 sultats de les mateixes\, aix&iacute\; com mostrar experi&egrave\;ncies p
 ortades a terme en Europa en quant a projectes constru&iuml\;ts o en fase
  de construcci&oacute\; amb alta qualificaci&oacute\; energ&egrave\;tica.
 <br />\n<br />\n<strong>LLOC: </strong>Centre de Convencions 4\, sala 4.1
 \, Fira Barcelona - Recinto de Gran V&iacute\;a (Av. Joan Carles I\, 58 d
 e l'Hospitalet de Llobregat).<br />\n<br />\n<strong>HORARI: </strong>9 A
  18 hores.<br />\n<br />\n<strong>PER A M&Eacute\;S INFORMACI&Oacute\; SO
 BRE EL PROGRAMA I INSCRIPCIONS:</strong> <a href="http://www.ibevents.com
 /idae/">http://www.ibevents.com/idae/</a><br />\n<br />\n<br />\n<br />
DTEND;TZID=Europe/Madrid;VALUE=DATE:20110518
DTSTAMP:20260421T035407Z
DTSTART;TZID=Europe/Madrid;VALUE=DATE:20110518
LOCATION:https://www.enginyerstarragona.cat/agenda/details/822/822-edifici
 s-de-consum-energetic-casi-nul
SEQUENCE:0
SUMMARY:EDIFICIS DE CONSUM ENERG?TIC CASI NUL
UID:ET_Activitat_822
URL:https://www.enginyerstarragona.cathttps://www.enginyerstarragona.cat/a
 genda/details/822/822-edificis-de-consum-energetic-casi-nul
END:VEVENT
END:VCALENDAR
