BEGIN:VCALENDAR
PRODID:-//github.com/rianjs/ical.net//NONSGML ical.net 2.2//EN
VERSION:2.0
BEGIN:VEVENT
CATEGORIES:Activitats
CREATED;TZID=Europe/Madrid:20260420T114418
DESCRIPTION:<b>CODI CIRCULAR: 78/10<br>\nORGANITZA: CETIT</b><br><br>S'ha 
 organitzat una confer?ncia t?cnica ? comercial sobre L'EFICI?NCIA ENERG?T
 ICA EN INSTAL'LACIONS T?RMIQUES\, que portar? a terme l'empresa ROBERT BO
 SCH.<br><br>\nEs donaran a con?ixer els conceptes generals: combusti?\, c
 ondensaci?\, directives europees\, explotaci? optimitzada\, tipologia de 
 calderes\, funcionament i planificaci?.\n<br><br>\n<b>DATA:</b> dimarts\,
  30 de novembre de 2010\, de 18.30 a 20.30 h<br><br>\n\n<b>PROGRAMA DE LA
  JORNADA:</b><br><br>\n\n'	INTRODUCCI?<br>\n-	Breu descripci? del grup RO
 BERT BOSCH.\n<br>-	L'efici?ncia energ?tica i els beneficis de la condensa
 ci?.<br><br>\n\n'	CONCEPTES GENERALS\n<br>-	Principis de combusti?.\n<br>
 -	La tecnologia de condensaci? i de baixa temperatura.<br>\n-	Rendiments 
 de calderes i tipologia. Directiva 92/42/CEE.\n<br>-	Explotaci? optimitza
 da de la tecnologia de la condensaci?. <br><br>\n\n'	CALDERES DE CONDENSA
 CI?\n<br>-	Tipologia i principis constructius.<br>\n-	Funcionament.<br>\n
 -	Planificaci? de la instal'laci? i esquemes hidr?ulics.<br><br>\n\n'	CON
 CLUSIONS<br><br>\n\n<b>PONENT:</b> Diana Tirados\, Enginyera T?cnica Indu
 strial\, prescriptora departament de construcci? ROBERT BOSCH\, de les ma
 rques Junkers i Burdeus.<br><br>\n \n<b>LLOC:</b> A la seu del CETIT\, Av
 . de Roma\, 7 de Tarragona i transm?s per videoconfer?ncia a les instal'l
 acions de les Terres de l'Ebre\, carrer Mercaders\, 2 de Tortosa.<br><br>
 \n\n<b>CONFIRMACI? D'ASSIST?NCIA: </b>a l'administraci? del Col'legi al 9
 77 251 877 o a trav?s de l'adre?a electr?nica formacio@cetit.org.\n<br><b
 r>\n<b>TERMINI D'INSCRIPCI?:</b> fins completar-se l'aforament m?xim de l
 a Sala d'Actes.<br><br>\n\n<b>INSCRIPCI? GRATU?TA.</b>
DTEND;TZID=Europe/Madrid;VALUE=DATE:20101130
DTSTAMP:20260420T094418Z
DTSTART;TZID=Europe/Madrid;VALUE=DATE:20101129
LOCATION:https://www.enginyerstarragona.cat/agenda/details/796/796-confere
 ncia-eficiencia-energetica-en-installa
SEQUENCE:0
SUMMARY:Confer?ncia EFICI?NCIA ENERG?TICA EN INSTAL?LACIONS T?RMIQUES
UID:ET_Activitat_796
URL:https://www.enginyerstarragona.cathttps://www.enginyerstarragona.cat/a
 genda/details/796/796-conferencia-eficiencia-energetica-en-installa
END:VEVENT
END:VCALENDAR
