BEGIN:VCALENDAR
PRODID:-//github.com/rianjs/ical.net//NONSGML ical.net 2.2//EN
VERSION:2.0
BEGIN:VEVENT
CATEGORIES:Activitats
CREATED;TZID=Europe/Madrid:20260422T001935
DESCRIPTION:<b>PER INDISPONIBILITAT DEL PROFESSOR\, S'AJORNA EL CURS AL ME
 S DE JUNY</b><br><br>\n\n\n\n<b>CODI CIRCULAR: 33/10-A</b><br>\n<b>ORGANI
 TZA: AETIGT</b><br><br><br><b>Curs SEGURETAT INDUSTRIAL (Llei 12/2008) i 
 els Reglaments T?cnics de Seguretat </b><br><br>\n\n<b>OBJECTIU: </b>prop
 orcionar les nocions b?siques essencials que s'hauran de con?ixer per a q
 ue les activitats industrials hagin de complir la reglamentaci? de segure
 tat i la seva legalitzaci?.\n<br><br>\n<b>PROGRAMA DEL CURS (24 hores): <
 /b><br><br>\n\n1.	Explicaci? de l'aparici? i els continguts b?sics de la 
 nova Llei 12/2008 del Parlament de Catalunya en mat?ria de Seguretat Indu
 strial\, la seva situaci? en quant a l'aplicaci? i les futures implicacio
 ns que comportar? (Ag?ncia Catalana de Seguretat Industrial).<br><br>\n\n
 2.	Revisi? dels conceptes b?sics que hauran de complimentar de forma m?ni
 ma en els diferents reglaments t?cnics i legislaci? referent a les activi
 tats m?s habituals de les instal?lacions industrials:<br><br>\n\n-	Llei d
 'Intervenci? Integral de l'Autoritat Ambiental 3/1998.<br>\n-	Reglament e
 lectrot?cnic de baixa tensi?. <br>\n-	Instal?lacions transformadores.<br>
  \n-	Reglament d'instal?lacions t?rmiques en edificis.<br>\n-	Reglament a
 parells a pressi?.<br>\n-	Reglament d'aparells elevadors.<br> \n-	Reglame
 nt d'emmagatzematge de productes qu?mics. <br>\n-	Reglament d'accidents g
 reus. <br>\n-	Control de la legionel?losi. <br>\n-	Codi T?cnic de l'Edifi
 caci?. <br>\n-	Reglament d'instal?lacions de protecci? contra incendis.<b
 r> \n-	Llei del soroll. <br>\n-	Reglamentaci? dels usos i contaminaci? de
  l'aigua.<br> \n-	Reglamentaci? de residus industrials.<br>\n-	Llei de PR
 L.<br>\n-	Adequaci? de m?quines.<br>\n-	Altres lleis i reglaments aplicab
 les.<br><br>\n\n3.	Documentaci? m?nima essencial per a l'inici de les act
 ivitats. <br><br>\n\n4.	Transici? de les activitats legalitzades amb l'an
 terior Reglament d'activitats molestes\, insalubres\, nocives i perillose
 s (RAMINP)\, tant legalitzades\, en tr?mit cursat o no iniciat.<br><br>\n
 5.	Tallers de legalitzaci? d'instal?lacions industrials: exercicis i exem
 ples de situacions t?piques i com resoldre-les. <br><br>\n\n \n\n\n<b>\nP
 REU COL?LEGIAT/ ASSOCIAT:</b> 340 ?<br>\n<b>PREU NO ASSOCIAT/ NO COL?LEGI
 AT:</b> 455 ?\n<br><b>DESCOMPTE ESPECIAL SI REUNEIXES LES DUES CONDICIONS
  (COL?LEGIAT I ASSOCIAT) </b><br><br>\n\n<b>A M?S AQUEST CURS ES POT TRAM
 ITAR:<br>\nFORMACI? SUBVENCIONADA per treballadors del r?gim general ( ex
 closos aut?noms i ETT)<br>\nNou servei gratu?t de la gesti? del cr?dit an
 ual de les empreses per a la formaci? dels seus treballadors.<br><br>\n\n
 <b>Bonifica't\, a trav?s del cr?dit disponible de la seva empresa\, fins 
 a 323 ?/ persona</b><br><br>\n\n\n\n		\n\n\n\n\nCONTACTA'NS I T'INFORMARE
 M\, LA GESTI? ?S GRATU?TA!</b><br><br>\n<b>CALENDARI: </b>4\, 5\, 11\, 12
 \, 18 i 19 de juny de 2010 (divendres i dissabtes). Divendres de 16.30 a 
 20.30 i dissabtes de 9.30 a 13.30 h<br><br>\n\n<b>DOCUMENTACI?:</b> es ll
 iurar? documentaci? de seguiment.<br><br>\n\n<b>CERTIFICACI?: </b>el CETI
 T lliurar? un certificat d'assist?ncia al curs pr?via sol?licitud del par
 ticipant. Assist?ncia m?nima obligat?ria del 80 % de les hores lectives. 
 <br><br>\n\n<b>LLOC:</b> Avinguda de Roma\, 7 de Tarragona. <br><br>\n\n<
 b>NOMBRE M?NIM / M?XIM D'ASSISTENTS:</b> 15<br><br>\n\n<b>FORMA DE PAGAME
 NT:</b> Transfer?ncia banc?ria o ingr?s en efectiu al n?mero de compte 00
 81.0088.16.0001793085 del Banc de Sabadell\, (cal indicar al document jus
 tificatiu de pagament el nom de la persona assistent i el nom de l'activi
 tat).<br><br>\n\n<b>CONFIRMACI? D'ASSIST?NCIA: </b>a l'administraci? del 
 Col?legi al 977 251 877 o 902 076 777 o a trav?s de l'adre?a electr?nica 
 formacio@cetit.org.<br><br>\n\n<b>TERMINI D'INSCRIPCI? I DE PAGAMENT:</b>
  28 de maig 2010 o fins completar-se el nombre m?xim d'inscripcions si ?s
  abans del termini.\n\n
DTEND;TZID=Europe/Madrid;VALUE=DATE:20100604
DTSTAMP:20260422T221935Z
DTSTART;TZID=Europe/Madrid;VALUE=DATE:20100603
LOCATION:https://www.enginyerstarragona.cat/agenda/details/758/758-curs-se
 guretat-industrial-llei-122008-i-els-r
SEQUENCE:0
SUMMARY:Curs SEGURETAT INDUSTRIAL (Llei 12/2008) i els Reglaments T?cnics 
 de Seguretat
UID:ET_Activitat_758
URL:https://www.enginyerstarragona.cathttps://www.enginyerstarragona.cat/a
 genda/details/758/758-curs-seguretat-industrial-llei-122008-i-els-r
END:VEVENT
END:VCALENDAR
