BEGIN:VCALENDAR
PRODID:-//github.com/rianjs/ical.net//NONSGML ical.net 2.2//EN
VERSION:2.0
BEGIN:VEVENT
CATEGORIES:Activitats
CREATED;TZID=Europe/Madrid:20260422T100653
DESCRIPTION:<b>CODI CIRCULAR: 48/09</b><br><br>\nDes de l'any passat la Un
 iversitat de Vic ens ofereix la possibilitat de col?laborar conjuntament 
 per poder oferir-vos els ESTUDIS HOMOLOGATS EN ORGANITZACI? INDUSTRIAL (R
 D 1933/1999 del 3 de desembre).<br><br>\nAquesta carrera ?s el complement
  ideal per promocionar-se en l'empresa (privada o a l'administraci? p?bli
 ca) ja que permet adquirir coneixements de gesti? aplicada. ?s una carrer
 a de segon cicle amb una durada aproximada de dos anys (150 cr?dits) a la
  qual s'accedeix directament amb el t?tol d'enginyer t?cnic industrial\, 
 ?s a dir\, no has de cursar cap complement de formaci? per accedir-hi.<br
 ><br>\nAmb la modalitat semipresencial podr?s compatibilitzar els estudis
  amb l'activitat professional a trav?s d'un campus virtual des d'on podr?
 s obtenir tot el material de les assignatures. <br><br>\n\nEl CETIT us pr
 oporcionar? els espais per a les sessions de videoconfer?ncies\, ex?mens 
 i d'estudi. Amb aquesta estructura es poden formar grups de treball que u
 s facilitaran la feina creant un esperit de grup i col?laboraci? molt ?ti
 l tant des del punt de vista pr?ctic com de motivaci? i ajuda de refor?.\
 n<br><br>\nAmb l'entrada en vigor del Nou Espai Europeu d'Educaci? Superi
 or (EEES) s'est? produint un canvi en la composici? de les titulacions un
 iversit?ries. Segons l'actual calendari\, a partir del curs 2010-2011 no 
 es podran iniciar ja els estudis de les actuals titulacions d'enginyeria 
 t?cnica. En aquest cas\, en tractar-se d'una enginyeria de segon cicle\, 
 com a m?nim es continuar? incorporant nous alumnes a quart (primer de seg
 on cicle) fins al curs 2012-2013. La idea ?s que els estudiants que comen
 cen l'enginyeria t?cnica el proper curs puguin completar els seus estudis
  amb el segon cicle amb igualtat d'oportunitats respecte a les persones q
 ue l'han cursat abans. <br><br>\n\nSi has realitzat l'MBA a la URV\, et s
 eran reconeguts 7\,5 cr?dits de lliure elecci?. Tamb? es poden recon?ixer
  7\,5 cr?dits de lliure elecci? si est?s desenvolupant una activitat prof
 essional relacionada amb els estudis que es proposen. <br><br>\n\nSi tens
  cap dubte o en vols m?s informaci?\, el proper dia <b>9 de setembre a le
 s 19 hores</b> tindr? lloc una <b>sessi? informativa </b>a la seu del CET
 IT a Tarragona\, que ser? transmesa per videoconfer?ncia a les instal?lac
 ions de les Terres de l'Ebre.<br><br>\n\nAquesta iniciativa que el CETIT 
 t'ofereix et ser? profitosa tant laboralment com personalment\, i et perm
 etr? ampliar els teus coneixements professionals.<br><br>\n\nM?s informac
 i?: <br>http://www.uvic.cat/eps/estudis/engorgind/ca/inici.html<br><br>\n
 \nPrograma i assignatures: <br>http://www.uvic.cat/central/campus/gabinet
 /ca/guies/eps/o_industrial.pdf<br><br>\n
DTEND;TZID=Europe/Madrid;VALUE=DATE:20090909
DTSTAMP:20260422T080653Z
DTSTART;TZID=Europe/Madrid;VALUE=DATE:20090908
LOCATION:https://www.enginyerstarragona.cat/agenda/details/716/716-estudis
 -homologats-en-organitzacio-industrial
SEQUENCE:0
SUMMARY:ESTUDIS HOMOLOGATS EN ORGANITZACI? INDUSTRIAL
UID:ET_Activitat_716
URL:https://www.enginyerstarragona.cathttps://www.enginyerstarragona.cat/a
 genda/details/716/716-estudis-homologats-en-organitzacio-industrial
END:VEVENT
END:VCALENDAR
