BEGIN:VCALENDAR
PRODID:-//github.com/rianjs/ical.net//NONSGML ical.net 2.2//EN
VERSION:2.0
BEGIN:VEVENT
CATEGORIES:Activitats
CREATED;TZID=Europe/Madrid:20260422T135057
DESCRIPTION:<b>FUNDACI? UNIVERSITAT ROVIRA I VIRGILI </b><br><br>\n\nEl pr
 ograma es desenvolupar? a trav?s de classes te?riques i pr?ctiques amb so
 ftware espec?fic de cada m?dul. Les mat?ries impartides s'han estructurat
  en 11 m?duls atenent criteris tem?tics. Durant el curs es facilitar? als
  participants la documentaci? de les sessions. <br><br>\n\n<b>ADRE?AT A:<
 /b> enginyers t?cnics industrials. Enginyers industrials\, arquitectes\, 
 arquitectes t?cnics\, enginyers de camins... i professionals d'empreses d
 'instal?lacions en obres i urbanitzacions\, enginyeries o oficines t?cniq
 ues.<br><br>\n<b>OBJECTIUS:</b> facilitar als assistents al curs\, les ei
 nes suficients per desenvolupar-se de forma adient en el disseny de les i
 nstal?lacions i serveis que habitualment es troben en qualsevol urbanitza
 ci? urbana o industrial. <br><br>\n\n<b>DURADA: </b>220 hores. <br>\n<b>D
 ATA: </b>del 2 d'octubre de 2007 al 15 de juliol de 2008.<br>\n<b>HORARI:
  </b>dimarts i dijous de 18 a 21 hores.<br>\n<b>LLOC: </b>ETSE. Aules 218
  i 109\nAv. Pa?sos Catalans\, 26. Tarragona.<br>\n<b>PREU: </b>2100 ? <br
 >\n<b>M?S INFORMACI?: </b>Fundaci? URV\, CENTRE PERMANENT . Tel. 902 400 
 110 Susana Paxton.\n
DTEND;TZID=Europe/Madrid;VALUE=DATE:20071002
DTSTAMP:20260422T115057Z
DTSTART;TZID=Europe/Madrid;VALUE=DATE:20071001
LOCATION:https://www.enginyerstarragona.cat/agenda/details/536/536-curs-es
 pecialista-universitari-en-installacio
SEQUENCE:0
SUMMARY:Curs ESPECIALISTA UNIVERSITARI EN INSTAL?LACIONS I SERVEIS EN URBA
 NITZACIONS
UID:ET_Activitat_536
URL:https://www.enginyerstarragona.cathttps://www.enginyerstarragona.cat/a
 genda/details/536/536-curs-especialista-universitari-en-installacio
END:VEVENT
END:VCALENDAR
