BEGIN:VCALENDAR
PRODID:-//github.com/rianjs/ical.net//NONSGML ical.net 2.2//EN
VERSION:2.0
BEGIN:VEVENT
CATEGORIES:Activitats
CREATED;TZID=Europe/Madrid:20260420T055812
DESCRIPTION:S'ha organitzat una confer?ncia sobre <b>NOVES APLICACIONS EN 
 L'?MBIT DE VENTILACI? (CTE): APARCAMENTS I HABITATGES</b> que anir? a c?r
 rec de l'empresa SOLER & PALAU\, especialitzada en ventilaci?\, tant a ni
 vell industrial com dom?stic.<br><br>\n\n<b>OBJECTIU:</b> desenvolupar el
 s punts m?s importants referents a la ventilaci? en aparcaments i habitat
 ges\, com l'evacuaci? de fums en cas d'incendi i CO als aparcaments\, i l
 'aplicaci? dels sistemes de ventilaci? permanent en el cas dels habitatge
 s. \n<br><br>\n<b>CONTINGUT: </b>	<br>Ventilaci? d'aparcaments: <br>	DB S
 I 3 evacuaci? d'ocupants.<br>\n		DB HS 3 qualitat de l'aire interior. <br
 ><br>\n	Ventilaci? d'habitatges:	DB HS 3 qualitat de l'aire interior. <br
 ><br>\n					\n<b>DOCUMENTACI?: </b>es lliurar? documentaci? referent a la
  confer?ncia.<br><br>\n\n<b>PONENT: </b>Sr. Joan Pessarrodona Segu?s\, En
 ginyer T?cnic Industrial. Responsable del servei d'assessoria t?cnica de 
 Soler & Palau.<br><br>\n\n<b>DATA I HORARI: </b>10 de maig de 2007\, de 1
 9 a 20 hores.<br><br>\n\n<b>LLOC: </b>Avinguda de Roma\, 7 de Tarragona i
  transm?s per videoconfer?ncia a les instal?lacions  de les Terres de l'E
 bre\, carrer Mercaders\, 2 de Tortosa.<br><br>\n\n<b>CONFIRMACI? D'ASSIST
 ?NCIA: </b>?s necessari confirmar l'assist?ncia a l'administraci? del Col
 ?legi al  977 251 877 o 902 076 777 o a trav?s de l'adre?a electr?nica fo
 rmacio@cetit.org.<br><br>\n\n<b>TERMINI D'INSCRIPCI?:</b> 3 de maig de 20
 07 o fins completar-se l'aforament m?xim de la Sala d'Actes si ?s abans d
 el termini.<br><br>\n<b>INSCRIPCI? GRATU?TA.</b>
DTEND;TZID=Europe/Madrid;VALUE=DATE:20070510
DTSTAMP:20260420T035812Z
DTSTART;TZID=Europe/Madrid;VALUE=DATE:20070509
LOCATION:https://www.enginyerstarragona.cat/agenda/details/521/521-confere
 ncia-sobre-noves-aplicacions-en-lambit
SEQUENCE:0
SUMMARY: Confer?ncia sobre NOVES APLICACIONS EN L'?MBIT DE VENTILACI? (CTE
 ): APARCAMENTS I HABITATGES
UID:ET_Activitat_521
URL:https://www.enginyerstarragona.cathttps://www.enginyerstarragona.cat/a
 genda/details/521/521-conferencia-sobre-noves-aplicacions-en-lambit
END:VEVENT
END:VCALENDAR
