BEGIN:VCALENDAR
PRODID:-//github.com/rianjs/ical.net//NONSGML ical.net 2.2//EN
VERSION:2.0
BEGIN:VEVENT
CATEGORIES:Activitats
CREATED;TZID=Europe/Madrid:20260424T155908
DESCRIPTION:El passat dia 5 de maig va entrar en vigor el Decret 82/2005 d
 e 31 de maig\, pel qual s'aprova el Reglament de desenvolupament de la ll
 ei 6/2001\, de 31 de maig\, d'ordenaci? ambiental de l'enllumenat per a l
 a protecci? del medi nocturn<br><br>\n\nAquest reglament\, d'obligat comp
 liment\, determina les caracter?stiques de les instal?lacions i dels apar
 ells d'il?luminaci? en funci? de les zones de protecci? en qu? estan ubic
 ats i regula el funcionament de l'enllumenat exterior\, a fi de prevenir 
 i corregir els efectes pertorbadors de la contaminaci? lum?nica.<br><br>\
 n\nPer aquesta ra? s'organitza aquest curs de <b>CONTAMINACI? L?MINICA</b
 > que est? dividit en 2 m?duls totalment independents un de l'altre :<br>
 <br>\n\n<b>M?dul 1. LA CONTAMINACI? LUM?NICA  (6 hores) </b><br><br>\n\n1
 .	Qu? ?s? Com es produeix?<br>\n2.	Conseq??ncies negatives d'aquesta cont
 aminaci?. Com minimitzar els seus efectes<br>\n3.	Reglamentaci? aplicable
  a Catalunya<br>\n\n3.1. 	 La llei 6/2001 de 31 de maig<br>\nCap?tol I:  
 Disposicions generals: exempcions  d'aplicaci?. Definicions<br>\nCap?tol 
 II: R?gim regulador dels enllumenats: zonificaci?\, limitacions i prohibi
 cions<br>\n	  Caracter?stiques de les instal?lacions i els aparells d'enl
 lumenat<br>\nCap?tol III: Actuacions de les administracions p?bliques<br>
 \nCap?tol IV :R?gim econ?mic<br>\nCap?tol V: R?gim sancionador i potestat
  d'inspecci? i control<br>\n\n3.2.	El Decret 82/2005 de 3 de maig <br>\nC
 ap?tol I: Disposicions generals: ?mbit d'aplicaci?. Conceptes b?sics i de
 finicions<br>\nCap?tol II: R?gim regulador de la il?luminaci?: <br>\n?	Zo
 nificaci? de Catalunya segons la protecci? del territori de la C.L<br>\n?
 	Caracter?stiques d'instal?lacions i aparells d'il?luminaci? exterior <br
 >\n?	Funcionament de la il?luminaci? exterior <br>\nCap?tol III: R?gim d'
 intervenci? administrativa<br>\n?	Organitzaci? administrativa: compet?nci
 es de la D. G. Q. A de la OPCL  i dels municipis<br>\n?	Documentaci? dels
  projectes d'il?luminaci? exterior<br>\n-	Projectes d'il?luminaci? exteri
 or <br>\n-	Activitats sotmeses al r?gim d'intervenci? integral de l'admin
 istraci? ambiental	<br>\n-	Activitats i infrastructures sotmeses a avalua
 ci? d'impacte ambiental<br>\nCap?tol IV: R?gim d'inspecci?\, de control i
  sancionador<br>\n\n4.	Exemples pr?ctics<br><br>\n\n<b>M?dul 2. IL?LUMINA
 CI? EFICIENT I SOSTENIBLE ( 10 hores) </b><br><br>\n\n1.	Conceptes b?sics
  <br>\n2.	L?mpades i equips eficients<br>\n3.	C?lculs fotom?trics <br>\n4
 .	Sistemes d'estalvi d'energia en il?luminaci?<br>\n5.	Estudi de l'enllum
 enat en fase de projecte <br>\n6.	Plans directors\, auditories i plans d'
 adequaci?<br>\n7.	Manteniment d'instal?lacions d'enllumenat <br>\n8.	Reci
 clatge dels materials d'enllumenat<br><br>\n\n\n\n\n\n\n\n\n\n\n <b>PROFE
 SSOR:</b>Sr. Josep M Oll? i Martorell\, Professor associat al Departament
  d'Enginyeria el?ctrica\, electr?nica i autom?tica de l'ETSE i T?cnic Mun
 icipal d'enllumenat<br><br>\n\n<b>CALENDARI:</b><br>	 M?dul 1- 12 i 14 de
  desembre de 2005 de 18.30  a 21.30 hores<br>\n		 M?dul 2- 9\, 11\, 16\, 
 18 de gener de 2006\, de 19 a 21.30 hores<br><br>\n\n <b>LLOC DE REALITZA
 CI?:</b>A la seu del CETIT\, Av. de Roma\, 7 de Tarragona<br><br>\n<b>NOM
 BRE M?N. / M?X. D'ASSISTENTS: </b>15/25  assistents<br><br>\n\n<b>PREU M?
 DUL 1 PER A COL?LEGIAT / NO COL?LEGIAT: </b>40 / 60 ?<br>\n<b>PREU M?DUL 
 2 PER A  COL?LEGIAT / NO COL?LEGIAT:</b> 50 / 70 ?<br><br>\n\n <b>CONFIRM
 ACI? D'ASSIST?NCIA:</b>?s necessari confirmar l'assist?ncia a l'administr
 aci? del Col?legi al 977 251 877 o 902 076 777 i\, si ho prefereixes\, ta
 mb? ho pots fer a trav?s de la nova adre?a electr?nica formacio@cetit.org
  (la teva inscripci? no ser? efectiva fins que es rebi la confirmaci? per
  part del Col?legi). <br><br>\n\n<b>FORMA DE PAGAMENT:</b> Transfer?ncia 
 banc?ria o ingr?s en efectiu al n?mero de compte 0081.0088.19.0001081810\
 , del Banc de Sabadell (?s necessari indicar al document justificatiu de 
 pagament el nom de la persona assistent i el nom de l'activitat) \nNOTA: 
 No es considerar? ferma la inscripci? fins que el pagament no sigui efect
 iu. Abans de realitzar el pagament cal verificar si resten places.\n
DTEND;TZID=Europe/Madrid;VALUE=DATE:20060118
DTSTAMP:20260424T135908Z
DTSTART;TZID=Europe/Madrid;VALUE=DATE:20060117
LOCATION:https://www.enginyerstarragona.cat/agenda/details/378/378-contami
 ncacio-luminica
SEQUENCE:0
SUMMARY:CONTAMINCACI? LUM?NICA
UID:ET_Activitat_378
URL:https://www.enginyerstarragona.cathttps://www.enginyerstarragona.cat/a
 genda/details/378/378-contamincacio-luminica
END:VEVENT
END:VCALENDAR
