BEGIN:VCALENDAR
PRODID:-//github.com/rianjs/ical.net//NONSGML ical.net 2.2//EN
VERSION:2.0
BEGIN:VEVENT
CATEGORIES:Activitats
CREATED;TZID=Europe/Madrid:20260423T114136
DESCRIPTION:Amb aquestes jornades es vol donar suport t?cnic i informaci? 
 per a la confecci? d'aquests projectes<br><br>\n<b>PROGRAMA: </b><br><br>
 \n<b>1er. Dia</b><br>\nLlei 3/1998 del 27 de febrer\, Intervenci? Integra
 l de l'Administraci? Ambiental (IIAA)<br>\nDecret 136/1999 del 18 de maig
 \, pel qual s'aprova el Reglament<br>\nGeneral de Desplegament de la Llei
  3798<br>\nDecret 143/2003 del 10 de juny\, que modifica el Decret  136/1
 999 i adapta els annexos de la IIAA<br><br>\n<b>2n. Dia</b><br>\nNorma b?
 sica de l'edificaci?<br>\nCondicions de protecci? contra incendis en els 
 edificis ? NBE-CPI/96<br><br>\n<b>3er. Dia</b><br>\nDecret 239/1999 de 31
  d'agost\, pel qual s'aprova el CAT?LEG D'ESPECTACLES<br>\nOrdenan?a Muni
 cipal d'Usos d'Establiments P?blics <br>\nPlans de Seguretat \, emerg?nci
 a i evacuaci?<br><br>\n<b>4t. Dia </b><br>\nMEDI AMBIENT: Residus\, conta
 minaci? ac?stica\, contaminaci? atmosf?rica<br>\nINSTAL?LACIONS ESPEC?FIQ
 UES: Ventilaci?\, Codi d'Accessibilitat de Catalunya<br><br>\n\n<b>DATES 
 DE REALITZACI?</b><br>\nSeu del CETIT\, a Tarragona\, Av. de Roma\, 7: de
 l 3 al 6 d'octubre <br>\nSeu del CETIT\, a les T. Ebre\, c. Mercaders\, 2
 \, entresol (Tortosa ): del 17 al 20 d'octubre <br><br>\n\n<b>HORARI: </b
 > de 18 a 21 hores<br>\n<b>PREU COL?LEGIAT / NO COL?LEGIAT: </b> 70 / 85 
 ?<br>\n<b>NOMBRE M?NIM D'ASSISTENTS:</b> 15 assistents <br>\n<b>DOCUMENTA
 CI?:</b> Es lliurar? una c?pia de tota la normativa que s'indica al progr
 ama de les jornades <br><br>\n\n<b>FORMA DE PAGAMENT:</b> Transfer?ncia b
 anc?ria o ingr?s en efectiu al n?mero de compte 0081.0088.19.0001081810\,
  del Banc de Sabadell (?s necessari indicar al document justificatiu de p
 agament el nom de la persona assistent i el nom de l'activitat) \n<b>NOTA
 : </b>No es considerar? ferma la inscripci? fins que el pagament no sigui
  efectiu. Abans de realitzar el pagament cal verificar si resten places.<
 br><br>\n\n\n<b>CONFIRMACI? D'ASSIST?NCIA:</b> ?s necessari confirmar l'a
 ssist?ncia a l'administraci? del Col?legi al  977 251 877 o 902 076 777 i
 \, si ho prefereixes\, tamb? ho pots fer a trav?s de la nova adre?a elect
 r?nica formacio@cetit.org (la teva inscripci? no ser? efectiva fins que e
 s rebi la confirmaci? per part del Col?legi). <br><br>\n\n<b>TERMINI D'IN
 SCRIPCI?</b>: 1 setmana abans de l'inici de les jornades\n\n\n\n\n\n\n\n\
 n\n\n
DTEND;TZID=Europe/Madrid;VALUE=DATE:20051017
DTSTAMP:20260423T094136Z
DTSTART;TZID=Europe/Madrid;VALUE=DATE:20051016
LOCATION:https://www.enginyerstarragona.cat/agenda/details/340/340-realitz
 acio-de-projectes-dactivitats-tarragon
SEQUENCE:0
SUMMARY:REALITZACI? DE PROJECTES D'ACTIVITATS\, TARRAGONA I T. EBRE
UID:ET_Activitat_340
URL:https://www.enginyerstarragona.cathttps://www.enginyerstarragona.cat/a
 genda/details/340/340-realitzacio-de-projectes-dactivitats-tarragon
END:VEVENT
END:VCALENDAR
