BEGIN:VCALENDAR
PRODID:-//github.com/rianjs/ical.net//NONSGML ical.net 2.2//EN
VERSION:2.0
BEGIN:VEVENT
CATEGORIES:Activitats
CREATED;TZID=Europe/Madrid:20260423T022026
DESCRIPTION:Formant part dels actes l?dics que normalment s'organitzen dur
 ant tot l'any de manera especial\,  s'ha organitzat un viatge a CROACIA  
 per un bon nombre de col?legiats.<br>\n<br>\n\n	\nJunt amb la present tro
 bareu l'itinerari d'aquest viatge de 10 dies de durada\, on podrem visita
 r les ciutats m?s importants com Zagreb\, Pula\, Zadar\, Split i Dubronik
 .<br>\n<br>\n<b>PREU PER PERSONA: </b>\n1485?<br>\n<br>\n\nEl Col?legi co
 l?laborar? amb un petit ajut amb un fons a repartir entre tots els col?le
 giats que hi vagin i un acompanyant directe\, que en aquests moments\, de
 gut a no estar tancada la inscripci?\, encara est? per determinar (la qua
 ntitat us ser? abonada presentant el resguard de pagament del viatge\, un
 a vegada finalitzat aquest)\n
DTEND;TZID=Europe/Madrid;VALUE=DATE:20030630
DTSTAMP:20260423T002026Z
DTSTART;TZID=Europe/Madrid;VALUE=DATE:20030629
LOCATION:https://www.enginyerstarragona.cat/agenda/details/27/27-viatge-de
 stiu-2003
SEQUENCE:0
SUMMARY:VIATGE D'ESTIU 2003
UID:ET_Activitat_27
URL:https://www.enginyerstarragona.cathttps://www.enginyerstarragona.cat/a
 genda/details/27/27-viatge-destiu-2003
END:VEVENT
END:VCALENDAR
