BEGIN:VCALENDAR
PRODID:-//github.com/rianjs/ical.net//NONSGML ical.net 2.2//EN
VERSION:2.0
BEGIN:VEVENT
CATEGORIES:Activitats
CREATED;TZID=Europe/Madrid:20260422T041854
DESCRIPTION:Tractem d'organitzar un viatge per a tots els col?legiats que 
 estiguin interessats\, ?s per aix? que us proposem un llistat amb 3 viatg
 es\, perqu? ens indiqueu quin d'ells us agradaria realitzar:<br>\n<br>\n\
 n\nMAIG\, NORD D'ESPANYA 5 dies - 1050 ? aproximadament <br>\n\nSETEMBRE\
 , SU?SA (Ginebra\, Lausan\, Berna ...)\, 6 dies - 1600 ? aproximadament <
 br>\n\nDESEMBRE\, ARGENTINA-PATAGONIA\, 17 dies- 2400 ? aproximadament<br
 >\n<br>\n\n\n<b>TERMINI: </b>\nindiqueu-nos el viatge que voleu realitzar
  abans del 31 de mar? de 2005\, a l'administraci? del CETIT\, 977251877/9
 02076777 o per correu electr?nic a l'adre?a formacio@cetit.org
DTEND;TZID=Europe/Madrid;VALUE=DATE:20050331
DTSTAMP:20260422T021854Z
DTSTART;TZID=Europe/Madrid;VALUE=DATE:20050330
LOCATION:https://www.enginyerstarragona.cat/agenda/details/248/248-viatges
 -2005
SEQUENCE:0
SUMMARY:VIATGES 2005
UID:ET_Activitat_248
URL:https://www.enginyerstarragona.cathttps://www.enginyerstarragona.cat/a
 genda/details/248/248-viatges-2005
END:VEVENT
END:VCALENDAR
