BEGIN:VCALENDAR
PRODID:-//github.com/rianjs/ical.net//NONSGML ical.net 2.2//EN
VERSION:2.0
BEGIN:VEVENT
CATEGORIES:Obres i Construcci?
CREATED;TZID=Europe/Madrid:20260426T055243
DESCRIPTION:<table class="table">\n	<tbody><tr><td style="width:100px\; te
 xt-align: left\;"><strong>Organitza:&nbsp\;</strong></td><td style="text-
 align: left\;">COGITI FORMACI?N</td></tr>\n	<tr>\n		<td style="width:100p
 x\; text-align: left\;"><strong>Dates:</strong></td>\n		<td style="text-a
 lign: left\;">Del 15 de desembre al 15 de&nbsp\; febrer de 2026</td>\n	</
 tr>\n	\n	\n	<tr>\n		<td style="width:100px\; text-align: left\;"><strong>
 Durada:</strong></td>\n		<td style="text-align: left\;">120 hores\, 9 set
 manes</td>\n	</tr>\n	\n	\n	\n	<tr><td style="width:100px\; text-align: le
 ft\;"><strong>Objectius:&nbsp\;</strong></td><td style="text-align: left\
 ;">Promoure l'adquisici? de coneixements sobre l'?s de la metodologia BIM
  (Building Information Modeling) en la contractaci? p?blica a trav?s del 
 Programa formatiu ideat dirigits a professionals en tot el territori naci
 onal\, en sectors econ?mics afectats per la implantaci? gradual de requis
 its BIM en les licitacions p?bliques.<br></td></tr>\n	\n	\n\n<tr><td styl
 e="width:100px\; text-align: left\;"><strong>Programaci?:&nbsp\;</strong>
 </td><td style="text-align: left\;"><p><strong>M?dul 1:</strong> Concepte
 s b?sics del BIM</p><p><strong>M?dul 2:</strong> Creaci? de models BIM</p
 ><p><strong>M?dul 3:</strong> Extracci? de la documentaci? del model</p><
 p><strong>M?dul 4: </strong>Infografies i recorreguts virtuals</p><p><str
 ong>M?dul 5:</strong> Tecnologies avan?ades que potencien a les tecnologi
 es BIM</p><p><strong>M?dul 6: </strong>An?lisi i c?lculs energ?tics de mo
 dels BIM amb CYPETHERM HE+</p><p><strong>M?dul 7:</strong> Mesurament aut
 om?tic des de models<br></p></td></tr><tr><td style="width:100px\; text-a
 lign: left\;"><strong>&nbsp\;Nota:</strong></td><td style="text-align: le
 ft\;">&nbsp\;Les inscripcions es portem a terme i es gestionen des del CO
 GITI. Tamb? pots sol?licitar la inscripci? al nostre web i posteriorment 
 et farem arribar l'enlla? directe d'inscripci? definitiva.</td></tr></tbo
 dy></table>
DTEND;TZID=Europe/Madrid:20221205T200000
DTSTAMP:20260426T035243Z
DTSTART;TZID=Europe/Madrid:20221205T170000
LOCATION:https://www.enginyerstarragona.cat/agenda/details/2215/2215-curs-
 on-line-formacio-en-metodologia-bim-buil
SEQUENCE:0
SUMMARY:[Curs on line] FORMACI? EN METODOLOGIA BIM (BUILDING INFORMATION M
 ODELING) APLICAT A LA CONTRACTACI? P?BLICA   (216303)
UID:ET_Activitat_2215
URL:https://www.enginyerstarragona.cathttps://www.enginyerstarragona.cat/a
 genda/details/2215/2215-curs-on-line-formacio-en-metodologia-bim-buil
END:VEVENT
END:VCALENDAR
