BEGIN:VCALENDAR
PRODID:-//github.com/rianjs/ical.net//NONSGML ical.net 2.2//EN
VERSION:2.0
BEGIN:VEVENT
CATEGORIES:Emmagatzematge de productes qu?mics
CREATED;TZID=Europe/Madrid:20260421T035524
DESCRIPTION:<table class="table">\n	<tbody><tr>\n		<td style="width:100px\
 ; text-align: left\;"><strong>Dirigit a:</strong></td>\n		<td style="text
 -align: left\;">Professionals en enginyeria\, estudiants d'enginyeria o c
 i?ncies qu?miques\, i grau superior de formaci? professional\, comandamen
 ts intermedis\, operaris dintre del seu pla de carrera i a tot aquell pro
 fessional que tingui una activitat vinculada a la ind?stria.<br></td>\n	<
 /tr>\n	<tr>\n		<td style="width:100px\; text-align: left\;"><strong>Dates
 :</strong></td>\n		<td style="text-align: left\;">11 d'abril (dijous)</td
 >\n	</tr>\n	<tr>\n		<td style="width:100px\; text-align: left\;"><strong>
 Horari:</strong></td>\n		<td style="text-align: left\;">A les 11:00h</td>
 \n	</tr>\n	\n	<tr>\n		<td style="width:100px\; text-align: left\;"><stron
 g>Durada:</strong></td>\n		<td style="text-align: left\;">1 hora</td>\n	<
 /tr>\n	<tr>\n		<td style="width:100px\; text-align: left\;"><strong>Progr
 amaci?:</strong></td>\n		<td style="text-align: left\;"><p>? Per qu? cal 
 emmagatzemar&nbsp\;PPQQ&nbsp\;fora de la nostra empresa?</p><p>? Qu? ?s u
 n contracte d'emmagatzematge de&nbsp\;PPQQ</p><p>? Tipus i f?rmules m?s u
 suals</p><p>? Condicions que cal deixar reflectides al contracte</p><p>? 
 Altres serveis que cal considerar</p><p>? Assegurances</p><p>? Destinacio
 ns&nbsp\;duaneres<br></p></td>\n	</tr>\n	\n	\n	<tr>\n		<td style="width:1
 00px\; text-align: left\;"><strong>Objectius:</strong></td>\n		<td style=
 "text-align: justify\;">Es vol donar una primera visi? de com cal contrac
 tar qualsevol activitat comercial amb el client\, posant l'exemple d'un e
 mmagatzematge de&nbsp\;PPQQ.Com a objectiu\, ?s remarcar els continguts m
 ?nims que cal tenir en compte i la forma i manera de fer-ho\, i com ha de
  quedar reflectit al contracte.</td>\n	</tr>\n	\n	<tr>\n		<td style="widt
 h: 100px\; text-align: justify\;"><strong>Modalitat:</strong></td>\n		<td
  style="text-align: justify\;"><strong>On line streaming.</strong> Permet
  la retransmissi? en directe del curs a trav?s de l'aula virtual amb la p
 lataforma CISCO WEBEX. \nEs podr? realitzar des del lloc que desitgi\, am
 b ordinador\, m?bil o tableta\, i permet realitzar el seguiment del curs 
 en directe amb el professor/a\, \nparticipar en la resoluci? dels exercic
 is\, preguntar els dubtes in situ\, escoltar les consultes dels altres as
 sistents i seguir les anotacions del professor/a a la pissarra. Una vegad
 a finalitzada la formaci? els assistents podran consultar les gravacions 
 del curs a la seva ?rea privada\, si aquestes han estat pr?viament autori
 tzades pel professor/a del curs o entitat gestora.\n</td>\n	</tr>\n\n	\n\
 n</tbody></table>
DTEND;TZID=Europe/Madrid:20240411T120000
DTSTAMP:20260421T015524Z
DTSTART;TZID=Europe/Madrid:20240411T110000
LOCATION:https://www.enginyerstarragona.cat/agenda/details/2032/2032-webin
 ar-emmagatzematge-de-ppqq-tipus-contract
SEQUENCE:0
SUMMARY:[WEBINAR] EMMAGATZEMATGE DE PPQQ\, TIPUS CONTRACTACI?. On line str
 eaming
UID:ET_Activitat_2032
URL:https://www.enginyerstarragona.cathttps://www.enginyerstarragona.cat/a
 genda/details/2032/2032-webinar-emmagatzematge-de-ppqq-tipus-contract
END:VEVENT
END:VCALENDAR
