BEGIN:VCALENDAR
PRODID:-//github.com/rianjs/ical.net//NONSGML ical.net 2.2//EN
VERSION:2.0
BEGIN:VEVENT
CATEGORIES:Altres
CREATED;TZID=Europe/Madrid:20260424T234041
DESCRIPTION:<table class="table">\n	<tbody><tr>\n		<td style="width:100px\
 ; text-align: left\;"><strong>Organitza:</strong></td>\n		<td style="text
 -align: left\;">COGITI</td>\n	</tr>\n	<tr>\n		<td style="width:100px\; te
 xt-align: left\;"><strong>Dates:</strong></td>\n		<td style="text-align: 
 left\;">29 de setembre (dimecres)</td>\n	</tr>\n	<tr>\n		<td style="width
 :100px\; text-align: left\;"><strong>Horari:</strong></td>\n		<td style="
 text-align: left\;">De les 12.30 a les 13.30 hores</td>\n	</tr>\n	\n	<tr>
 \n		<td style="width:100px\; text-align: left\;"><strong>Durada:</strong>
 </td>\n		<td style="text-align: left\;">1 hora</td>\n	</tr>\n	<tr>\n		<td
  style="width:100px\; text-align: left\;"><strong>Programaci?:</strong></
 td>\n		<td style="text-align: left\;"><p>12.30 h. Benvinguda D. Jos? Anto
 nio Gald?n. Vicepresident UP</p><p>12.35 h. Pon?ncies:</p><ul><li>D. RA?L
  V?ZQUEZ.. CyberRisk Manager Banc Sabadell.</li><li>D. JOS? CARLOS MANZAN
 O. Director Prevenci? del frau Banc Sabadell</li><li>D. ANA ARNAIZ. Direc
 ci? Prevenci? del frau Banc Sabadell.</li></ul><p>13.25 h. Clausura tanca
 ment. D. REBECA S?NCHEZ. Directora Convenis Nacionals Banc Sabadell.</p><
 /td>\n	</tr>\n	\n	\n	<tr>\n		<td style="width:100px\; text-align: left\;"
 ><strong>Nota</strong>:</td>\n		<td style="text-align: left\;">Les inscri
 pcions es porten a terme a trav?s del COGITI\, pr?via sol?licitud a la no
 stra web. Us farem arribar un document d'informaci? amb les instruccions 
 a seguir..</td>\n	</tr>\n	\n	\n\n</tbody></table>
DTEND;TZID=Europe/Madrid:20210929T130000
DTSTAMP:20260424T214041Z
DTSTART;TZID=Europe/Madrid:20210929T120000
LOCATION:https://www.enginyerstarragona.cat/agenda/details/1743/1743-webin
 ar-cogiti-ciberseguretat-amenaces-i-prev
SEQUENCE:0
SUMMARY:[Webinar COGITI] CIBERSEGURETAT: AMENACES I PREVENCI? DEL FRAU
UID:ET_Activitat_1743
URL:https://www.enginyerstarragona.cathttps://www.enginyerstarragona.cat/a
 genda/details/1743/1743-webinar-cogiti-ciberseguretat-amenaces-i-prev
END:VEVENT
END:VCALENDAR
