BEGIN:VCALENDAR
PRODID:-//github.com/rianjs/ical.net//NONSGML ical.net 2.2//EN
VERSION:2.0
BEGIN:VEVENT
CATEGORIES:Activitats
CREATED;TZID=Europe/Madrid:20260422T201638
DESCRIPTION:<table class="table">\n	<tbody><tr><td style="width:100px\; te
 xt-align: left\;"><strong>Modalitat:&nbsp\;</strong></td><td style="text-
 align: left\;">On line streaming. Permet la retransmissi? en directe del 
 curs a trav?s de l'aula virtual amb la plataforma CISCO WEBEX. Es podr? r
 ealitzar des del lloc que desitgi\, amb ordinador\, m?bil o tableta\, i p
 ermet realitzar el seguiment del curs en directe amb el professor/a\, par
 ticipar en la resoluci? dels exercicis\, preguntar els dubtes in situ\, e
 scoltar les consultes dels altres assistents i seguir les anotacions del 
 professor/a a la pissarra. Una vegada finalitzada la formaci? els assiste
 nts podran consultar les gravacions del curs a la seva ?rea privada\, si 
 aquestes han estat pr?viament autoritzades pel professor/a del curs o ent
 itat gestora.&nbsp\;&nbsp\;</td></tr><tr>\n		<td style="width:100px\; tex
 t-align: left\;"><strong>Dirigit a:</strong></td>\n		<td style="text-alig
 n: left\;">T?cnics i\nresponsables de Manteniment\, tant per als que dese
 nvolupen funcions de manteniment\nel?ctric i desitgen actualitzar coneixe
 ments\, com per als qui tinguin inter?s a\niniciar-se en l'especialitat d
 e les instal?lacions el?ctriques.\n\nS'inclouen\nespecialment aspectes d'
 organitzaci? i reglamentaris de manera que tamb? pot\nser d'inter?s per a
 ls que no exerceixin directament les funcions de manteniment\nd'instal?la
 cions el?ctriques\, per? s? que necessiten controlar-les.</td>\n	</tr>\n	
 <tr>\n		<td style="width:100px\; text-align: left\;"><strong>Dates:</stro
 ng></td>\n		<td style="text-align: left\;">13 i 14 d'octubre&nbsp\; (dime
 cres i dijous)</td>\n	</tr>\n	<tr>\n		<td style="width:100px\; text-align
 : left\;"><strong>Horari:</strong></td>\n		<td style="text-align: left\;"
 >De les 15.30 a les 19.30 hores</td>\n	</tr>\n	<tr>\n		<td style="width:1
 00px\; text-align: left\;"><strong>Assistents:</strong></td>\n		<td style
 ="text-align: left\;">6/25</td>\n	</tr>\n	<tr>\n		<td style="width:100px\
 ; text-align: left\;"><strong>Durada:</strong></td>\n		<td style="text-al
 ign: left\;">8 hores lectives</td>\n	</tr>\n	<tr>\n		<td style="width:100
 px\; text-align: left\;"><strong>Programaci?:</strong></td>\n		<td style=
 "text-align: left\;"><p>Els sistemes\nel?ctrics i la qualitat de subminis
 traments el?ctrics \n\n<strong>ASPECTES\nREGLAMENTARIS D'INSTAL?LACIONS E
 L?CTRIQUES</strong>\n</p><p>\n-&nbsp\;&nbsp\;&nbsp\;&nbsp\;&nbsp\;&nbsp\;
 &nbsp\;&nbsp\;\nReglamentaci? aplicable: Q?estions b?siques.\n</p><p>\n-&
 nbsp\;&nbsp\;&nbsp\;&nbsp\;&nbsp\;&nbsp\;&nbsp\;&nbsp\;\nPosada en servei
  d'instal?lacions noves\, ampliacions i reformes.</p><p>\n\n-&nbsp\;&nbsp
 \;&nbsp\;&nbsp\;&nbsp\;&nbsp\;&nbsp\;&nbsp\;\nEmpresa autoritzada per a m
 anteniment el?ctric de BT i d'AT.</p><p>\n\n-&nbsp\;&nbsp\;&nbsp\;&nbsp\;
 &nbsp\;&nbsp\;&nbsp\;&nbsp\;\nNovetats de el nou RD 337/2014</p><p>\n\n-&
 nbsp\;&nbsp\;&nbsp\;&nbsp\;&nbsp\;&nbsp\;&nbsp\;&nbsp\;\nInspeccions peri
 ?diques.\n</p><p>\n<strong>OPERATIVA DEL\nMANTENIMENT EL?CTRIC</strong>\n
 </p><p>\n-&nbsp\;&nbsp\;&nbsp\;&nbsp\;&nbsp\;&nbsp\;&nbsp\;&nbsp\;\nMante
 niment d'instal?lacions de posada a terra.\n</p><p>\n-&nbsp\;&nbsp\;&nbsp
 \;&nbsp\;&nbsp\;&nbsp\;&nbsp\;&nbsp\;\nManteniment d'instal?lacions de BT
  i AT.</p><p>\n\n-&nbsp\;&nbsp\;&nbsp\;&nbsp\;&nbsp\;&nbsp\;&nbsp\;&nbsp\
 ;\nManteniment d'enllumenat.\n</p><p>\n-&nbsp\;&nbsp\;&nbsp\;&nbsp\;&nbsp
 \;&nbsp\;&nbsp\;&nbsp\;\nManteniment de locals de caracter?stiques especi
 als.</p><p>\n\n-&nbsp\;&nbsp\;&nbsp\;&nbsp\;&nbsp\;&nbsp\;&nbsp\;&nbsp\;\
 nManteniment de locals de p?blica concurr?ncia\, ITC-BT 028 de\nl'REBT i 
 verificacions segons </p><p><strong>UNVE 202.009.\n\nMANTENIMENT DE\nSIST
 EMES DE PROTECCI? CONTRA DESC?RREGUES ATMOSF?RIQUES I SOBRETENSIONS</stro
 ng></p><p>\n\n-&nbsp\;&nbsp\;&nbsp\;&nbsp\;&nbsp\;&nbsp\;&nbsp\;&nbsp\;\n
 Parallamps.\n</p><p>\n-&nbsp\;&nbsp\;&nbsp\;&nbsp\;&nbsp\;&nbsp\;&nbsp\;&
 nbsp\;\nDescarregadors de sobretensi?.\n</p><p>\n<strong>SEGURETAT I FIAB
 ILITAT\nEL?CTRICA EN ELS TREBALLS DE MANTENIMENT</strong></p><p>\n\n-&nbs
 p\;&nbsp\;&nbsp\;&nbsp\;&nbsp\;&nbsp\;&nbsp\;&nbsp\;\nAccions del corrent
  en el cos hum?.\n</p><p>\n-&nbsp\;&nbsp\;&nbsp\;&nbsp\;&nbsp\;&nbsp\;&nb
 sp\;&nbsp\;\nProtecci? contra Contactes directes i indirectes.\n</p><p>\n
 <strong>REAL DECRET\n614/2001: </strong>Disposicions m?nimes per a la pro
 tecci? de la salut i seguretat dels\ntreballadors davant el risc el?ctric
 .\n\nManteniment\ncorrectiu\, Els harm?nics\, problem?tica i soluci?.\n</
 p><p>\n<strong>INSTRUMENTACI? I\nMESURES EL?CTRIQUES\n\nVERIFICACIONS\,\n
 AMIDAMENTS I ASSAIGS</strong>\n</p><p>\n-&nbsp\;&nbsp\;&nbsp\;&nbsp\;&nbs
 p\;&nbsp\;&nbsp\;&nbsp\;\nMesures en instal?lacions de posada a terra.</p
 ><p>\n\n-&nbsp\;&nbsp\;&nbsp\;&nbsp\;&nbsp\;&nbsp\;&nbsp\;&nbsp\;\nMesura
  de tensions de pas i contacte.\n</p><p>\n-&nbsp\;&nbsp\;&nbsp\;&nbsp\;&n
 bsp\;&nbsp\;&nbsp\;&nbsp\;\nA?llaments.\n</p><p>\n-&nbsp\;&nbsp\;&nbsp\;&
 nbsp\;&nbsp\;&nbsp\;&nbsp\;&nbsp\;\nProva de diferencials.</p><p>\n\n-&nb
 sp\;&nbsp\;&nbsp\;&nbsp\;&nbsp\;&nbsp\;&nbsp\;&nbsp\;\nRigidesa diel?ctri
 ca.\n</p><p>\n-&nbsp\;&nbsp\;&nbsp\;&nbsp\;&nbsp\;&nbsp\;&nbsp\;&nbsp\;\n
 Il?luminaci?.\n</p><p>\n<strong>T?CNIQUES\nAVAN?ADES DE MANTENIMENT EL?CT
 RIC</strong>\n</p><p>\n-&nbsp\;&nbsp\;&nbsp\;&nbsp\;&nbsp\;&nbsp\;&nbsp\;
 &nbsp\;\nTermografies.</p><p>\n\n-&nbsp\;&nbsp\;&nbsp\;&nbsp\;&nbsp\;&nbs
 p\;&nbsp\;&nbsp\;\nUltrasons.\n</p><p>\n-&nbsp\;&nbsp\;&nbsp\;&nbsp\;&nbs
 p\;&nbsp\;&nbsp\;&nbsp\;\nAn?lisi de Corrents.\n</p><p>\n-&nbsp\;&nbsp\;&
 nbsp\;&nbsp\;&nbsp\;&nbsp\;&nbsp\;&nbsp\;\nAn?lisi d'oli de refrigeraci? 
 de transformadors.\n</p><p>\n-&nbsp\;&nbsp\;&nbsp\;&nbsp\;&nbsp\;&nbsp\;&
 nbsp\;&nbsp\;\nIl?luminaci?.\n</p><p>\n<strong>DESENVOLUPAMENT\nDEL PLA D
 E MANTENIMENT EL?CTRIC</strong></p></td>\n	</tr>\n	<tr>\n		<td style="wid
 th:100px\; text-align: left\;"><strong>Documentaci?:</strong></td>\n		<td
  style="text-align: left\;">La documentaci? estar? disponible a la plataf
 orma entre 24 i 48 hores abans de l?inici de la formaci?. En el cas que h
 i hagi documentaci? addicional una vegada finalitzada la formaci?\, us la
  facilitarem posteriorment.</td>\n	</tr>\n	<tr>\n		<td style="width:100px
 \; text-align: left\;"><strong>Certificaci?:</strong></td>\n		<td style="
 text-align: left\;">Una vegada finalitzada l?acci? formativa\, els alumne
 s obtindran un certificat d?assist?ncia que es podran descarregar a la pl
 ataforma.  </td>\n	</tr>\n	<tr>\n		<td style="width:100px\; text-align: l
 eft\;"><strong>Objectius:</strong></td>\n		<td style="text-align: left\;"
 ><p>El\ncurs exposa\, des del punt de vista t?cnic i de gesti? dels aspec
 tes m?s rellevants\nque ha de considerar-se en un adequat manteniment en 
 les instal?lacions\nel?ctriques\, atenent a criteris de seguretat\, fiabi
 litat i efici?ncia en la\nconservaci? i explotaci? de les instal?lacions\
 , tot aix? des d'una perspectiva\neminentment pr?ctica.\n</p><p>\nEl\nMan
 teniment de les instal?lacions el?ctriques ofereix singularitats enfront\
 nd'altres sistemes: s?n instal?lacions que presenten un risc\, el que imp
 lica un\nadequat manteniment dels elements de protecci?\, per? a m?s el f
 uncionament de\nla majoria del<span style="background-color: transparent\
 ;">s equips dep?n de la fiabilitat de subministrament el?ctric\, de\nmane
 ra que un error en aquest tipus de les instal?lacions\, el?ctriques compo
 rtar?\nimportants conseq??ncies derivades en altres sistemes. \n\nEl\ncur
 s ha de permetre als assistents\, l'adquisici? dels coneixements suficien
 ts\nper preparar i gestionar el pla de manteniment el?ctric\, tant d'inst
 al?lacions\nd'AT\, com de BT.</span></p></td>\n	</tr>\n	<tr>\n		<td style
 ="width:100px\; text-align: left\;"><strong>Bonificacions:</strong></td>\
 n		<td style="text-align: left\;">Gestionem els tr?mits per tal que pugui
 s beneficiar-te de la bonificaci? corresponent per formaci?.</td>\n	</tr>
 \n	<tr>\n		<td style="width:100px\; text-align: left\;"><strong>Instrucci
 ons per bonificar:</strong></td>\n		<td style="text-align: left\;">\n1. S
 ol?licita els impresos al CETIT a formacio@enginyerstarragona.cat\n2. Apo
 rta tota la informaci? 10 dies naturals abans de l'inici del curs.\n3. NO
 TA IMPORTANT:  les bonificacions es porten a terme per mitj? d'una assess
 oria externa. Aquells que vulguin acollir-se a la bonificaci? de qualsevo
 l acci? formativa\, el preu s'incrementar? en un  20 % ( que tamb? es pod
 r? bonificar i recuperar).\n</td>\n	</tr>\n\n</tbody></table>
DTEND;TZID=Europe/Madrid:20211014T193000
DTSTAMP:20260422T181638Z
DTSTART;TZID=Europe/Madrid:20211013T153000
LOCATION:https://www.enginyerstarragona.cat/agenda/details/1737/1737-curs-
 on-line-streaming-manteniment-dinstallac
SEQUENCE:0
SUMMARY:[Curs on line streaming] MANTENIMENT D'INSTAL?LACIONS EL?CTRIQUES
UID:ET_Activitat_1737
URL:https://www.enginyerstarragona.cathttps://www.enginyerstarragona.cat/a
 genda/details/1737/1737-curs-on-line-streaming-manteniment-dinstallac
END:VEVENT
END:VCALENDAR
