BEGIN:VCALENDAR
PRODID:-//github.com/rianjs/ical.net//NONSGML ical.net 2.2//EN
VERSION:2.0
BEGIN:VEVENT
CATEGORIES:Activitats
CREATED;TZID=Europe/Madrid:20260423T084100
DESCRIPTION:<table class="table">\n	<tbody><tr>\n		<td style="width:100px\
 ; text-align: left\;"><strong>Dirigit a:</strong></td>\n		<td style="text
 -align: left\;">Alumnes amb un nivell elemental/intermedi que vulguin mil
 lorar la seva comprensi? i expressi? oral en llengua anglesa. Es tracta d
 e gaudir i conversar en angl?s sense pressa ni pressi?.&nbsp\;</td>\n	</t
 r>\n	<tr>\n		<td style="width:100px\; text-align: left\;"><strong>Dates:<
 /strong></td>\n		<td style="text-align: left\;">INICI 7 de maig (tots els
  dijous)</td>\n	</tr>\n	<tr>\n		<td style="width:100px\; text-align: left
 \;"><strong>Horari:</strong></td>\n		<td style="text-align: left\;">De le
 s 17.00 a les 18.30 h</td>\n	</tr>\n	<tr>\n		<td style="width:100px\; tex
 t-align: left\;"><strong>Assistents:</strong></td>\n		<td style="text-ali
 gn: left\;">M?xim 7 alumnes</td>\n	</tr>\n	<tr>\n		<td style="width:100px
 \; text-align: left\;"><strong>Durada:</strong></td>\n		<td style="text-a
 lign: left\;">14 sessions de 1 hora i 30 minuts</td>\n	</tr>\n	<tr>\n		<t
 d style="width:100px\; text-align: left\;"><strong>Programaci?:</strong><
 /td>\n		<td style="text-align: left\;"><p>\n\n\n\n\n\n\n\nEn les diferent
 s sessions s?abordaran les situacions m?s comuns en les que podem necessi
 tar l?angl?s:</p><ul><li>\n\nPresentacions i informaci? b?sica.\n</li><li
 >Personalitat i car?cter.\nViatgem: a l?aeroport\, a l?avi?\, a l?hotel.<
 /li><li>\nMoure?ns per&nbsp\; la ciutat: direccions\, llocs destacats\, a
  la botiga\, al restaurant.\n</li><li>En l?entorn professional: presentac
 i? de la nostra empresa. </li><li>Tracte amb prove?dors i clients. El m?n
  comercial i de les vendes.\n</li><li>L?entorn digital\, les noves tecnol
 ogies i la seva terminologia.&nbsp\;</li></ul><p>\n\nCada sessi? ser? com
 pletament pr?ctica i seguir? el mateix gui?:&nbsp\;\n</p><ul><li>\nVocabu
 lari clau</li><li>\nGram?tica imprescindible\n</li><li>Pronunciaci? i exp
 ressions&nbsp\;</li><li>\nSituacions reals\nSpeak!\n<br></li></ul></td>\n
 	</tr>\n	\n	<tr>\n		<td style="width:100px\; text-align: left\;"><strong>
 Certificaci?:</strong></td>\n		<td style="text-align: left\;">Una vegada 
 finalitzada l?acci? formativa\, els alumnes obtindran un certificat d?ass
 ist?ncia que es podran descarregar a la plataforma.  </td>\n	</tr>\n	\n	\
 n	\n\n</tbody></table>
DTEND;TZID=Europe/Madrid:20200507T183000
DTSTAMP:20260423T064100Z
DTSTART;TZID=Europe/Madrid:20200507T170000
LOCATION:https://www.enginyerstarragona.cat/agenda/details/1531/1531-curs-
 on-line-speaking
SEQUENCE:0
SUMMARY:[CURS ON LINE] SPEAKING
UID:ET_Activitat_1531
URL:https://www.enginyerstarragona.cathttps://www.enginyerstarragona.cat/a
 genda/details/1531/1531-curs-on-line-speaking
END:VEVENT
END:VCALENDAR
