BEGIN:VCALENDAR
PRODID:-//github.com/rianjs/ical.net//NONSGML ical.net 2.2//EN
VERSION:2.0
BEGIN:VEVENT
CATEGORIES:Activitats
CREATED;TZID=Europe/Madrid:20260419T202634
DESCRIPTION:<table class="table">\n	<tbody>\n	<tr>\n		<td style="width:100
 px\; text-align: left\;"><strong>Dates:</strong></td>\n		<td style="text-
 align: left\;">22 d'abril (dimecres)<br></td>\n	</tr>\n	<tr>\n		<td style
 ="width:100px\; text-align: left\;"><strong>Horari:</strong></td>\n		<td 
 style="text-align: left\;">De les 10 a les 11.30 h</td>\n	</tr>\n	\n	<tr>
 \n		<td style="width:100px\; text-align: left\;"><strong>Durada:</strong>
 </td>\n		<td style="text-align: left\;">1 hora i 30 minuts&nbsp\;</td>\n	
 </tr>\n	<tr>\n		<td style="width:100px\; text-align: left\;"><strong>Prog
 ramaci?:</strong></td>\n		<td style="text-align: left\;">Mem?ries CTE de 
 CYPE Enginyers ?s un programa dissenyat per a generar i gestionar un proj
 ecte d?edificaci? (Mem?ria del projecte b?sic\, Mem?ria del projecte b?si
 c + execuci?\, Plans\, Plec de condicions\, Amidaments i Pressupost) amb 
 el contingut i l?ordre establerts en Annex I -Contingut del Projecte- de 
 la Part I del CTE i en el Manual del Projecte Arquitect?nic del CSCAE. Pe
 rmet desenvolupar qualsevol tipus de projecte mitjan?ant assistents d?int
 roducci? de dades\, inclusi? de documents en format PDF\, introducci? de 
 textos o associaci? a obres d?altres programes de CYPE. A difer?ncia d?al
 tres programes\, que han sorgit per a facilitar al projectista l?elaborac
 i? de la documentaci? d?un projecte d?edificaci?\, Mem?ries CTE de CYPE E
 nginyers no es limita a guiar a l?usuari per a emplenar la informaci? que
  ha de contenir el projecte\, sin? que a m?s reuneix i coordina aquesta i
 nformaci? per a crear un document sense contradiccions\, amb un estil lit
 erari uniforme i amb una maquetaci? personalitzada. En conseq??ncia\, gen
 era un document de qualitat\, que evita errors d?interpretaci? i duplicit
 at de documents.<br></td>\n	</tr>\n	\n	\n	\n	\n	\n\n<tr><td style="width:
 100px\; text-align: left\;"><strong>Inscripcions:</strong></td><td style=
 "text-align: left\;">Per a la correcta inscripci? CYPE necessita que envi
 eu per correu electr?nic a <a href="http://soporte.catalunya@cype.com">so
 porte.catalunya@cype.com</a>&nbsp\;les seg?ents dades: Curs al qual vol a
 ssistir\; Llic?ncia (en el cas que tingueu)\; Nom\; Cognoms\; Empresa\; P
 rofessi?\; Adre?a\; Poblaci?\; Codi postal\; Tel?fon\; Correu electr?nic\
 ;</td></tr></tbody></table>
DTEND;TZID=Europe/Madrid:20200422T113000
DTSTAMP:20260419T182634Z
DTSTART;TZID=Europe/Madrid:20200422T100000
LOCATION:https://www.enginyerstarragona.cat/agenda/details/1514/1514-curso
 s-online-cype-introduccio-al-programa-de
SEQUENCE:0
SUMMARY:[Cursos online CYPE]  Introducci? al Programa de Mem?ries CTE
UID:ET_Activitat_1514
URL:https://www.enginyerstarragona.cathttps://www.enginyerstarragona.cat/a
 genda/details/1514/1514-cursos-online-cype-introduccio-al-programa-de
END:VEVENT
END:VCALENDAR
