BEGIN:VCALENDAR
PRODID:-//github.com/rianjs/ical.net//NONSGML ical.net 2.2//EN
VERSION:2.0
BEGIN:VEVENT
CATEGORIES:Activitats
CREATED;TZID=Europe/Madrid:20260424T234010
DESCRIPTION:<table class="table">\n	<tbody>\n	<tr>\n		<td style="width:100
 px\; text-align: left\;">Dates:</td>\n		<td style="text-align: left\;">2 
 d'abril (dijous)</td>\n	</tr>\n	<tr><td style="width:100px\; text-align: 
 left\;">&nbsp\;Organitza:&nbsp\;</td><td style="text-align: left\;">ITEC 
 (Institut Tecnologia de la Construcci?)</td></tr><tr>\n		<td style="width
 :100px\; text-align: left\;">Horari:</td>\n		<td style="text-align: left\
 ;">11.00 h</td>\n	</tr>\n	\n	<tr>\n		<td style="width:100px\; text-align:
  left\;">Durada:</td>\n		<td style="text-align: left\;">1 hora</td>\n	</t
 r>\n	<tr>\n		<td style="width:100px\; text-align: left\;">Programaci?:</t
 d>\n		<td style="text-align: left\;"><span style="color: rgb(85\, 85\, 85
 )\; font-family: Roboto\, Arial\, Helvetica\, sans-serif\; font-size: 15p
 x\;">Metodologia introduct?ria d?aplicaci? de l?est?ndard eCOB\, basada e
 n sis pasos desenvolupats sobre l?exemple d?un objecte BIM. Sessi? comple
 ment?ria amb la del 31 de mar? a les 16:00 h.</span></td>\n	</tr>\n	\n	\n
 	\n	\n	\n\n<tr><td style="width:100px\; text-align: left\;">Ponent:&nbsp\
 ;</td><td style="text-align: left\;"><font color="#333333"><a href="https
 ://es.linkedin.com/in/ferran-bermejo-nualart-8172b630" target="_blank" re
 l="noopener noreferrer" style="transition-property: color\, background-co
 lor\, border-color\; transition-duration: 0.2s\; transition-timing-functi
 on: linear\; color: rgb(54\, 120\, 173)\; font-family: Roboto\, Arial\, H
 elvetica\, sans-serif\; font-size: 15px\; background-color: rgb(255\, 255
 \, 255)\;">Ferran Bermejo</a><span style="color: rgb(85\, 85\, 85)\; font
 -family: Roboto\, Arial\, Helvetica\, sans-serif\; font-size: 15px\;">&nb
 sp\;i&nbsp\;</span><a href="https://es.linkedin.com/in/melenapla" target=
 "_blank" rel="noopener noreferrer" style="transition-property: color\, ba
 ckground-color\, border-color\; transition-duration: 0.2s\; transition-ti
 ming-function: linear\; color: rgb(54\, 120\, 173)\; font-family: Roboto\
 , Arial\, Helvetica\, sans-serif\; font-size: 15px\; background-color: rg
 b(255\, 255\, 255)\;">Elena Pla</a><br></font></td></tr><tr><td style="wi
 dth:100px\; text-align: left\;"><br></td><td style="text-align: left\;"><
 p>LA INSCRIPCI? ?S GRATU?TA</p></td></tr></tbody></table>
DTEND;TZID=Europe/Madrid:20200401T120000
DTSTAMP:20260424T214010Z
DTSTART;TZID=Europe/Madrid:20200401T110000
LOCATION:https://www.enginyerstarragona.cat/agenda/details/1499/1499-webin
 ar-itec-6-passos-per-a-crear-objectes-bi
SEQUENCE:0
SUMMARY:[Webinar ITEC] 6 passos per a crear objectes BIM amb eCOB
UID:ET_Activitat_1499
URL:https://www.enginyerstarragona.cathttps://www.enginyerstarragona.cat/a
 genda/details/1499/1499-webinar-itec-6-passos-per-a-crear-objectes-bi
END:VEVENT
END:VCALENDAR
