BEGIN:VCALENDAR
PRODID:-//github.com/rianjs/ical.net//NONSGML ical.net 2.2//EN
VERSION:2.0
BEGIN:VEVENT
CATEGORIES:Activitats
CREATED;TZID=Europe/Madrid:20260420T155920
DESCRIPTION:<table cellpadding="5" cellspacing="0" class="agenda-tmpl">\n 
        <tbody><tr>\n            <td style="width: 148px\;" valign="top" c
 lass="pivot">\n                Codi circular:</td>\n            <td style
 ="text-align: justify\;">&nbsp\;<br>05/19</td>\n        </tr>\n        <t
 r>\n            <td valign="top" class="pivot">\n                Dates:</
 td>\n            <td>&nbsp\;<br>5 de febrer (dimarts)</td>\n        </tr>
 \n        <tr>\n            <td valign="top" class="pivot">\n            
     Horari:</td>\n            <td>&nbsp\;<br>De les 9.00 a les 18.00 hore
 s (1 hora per dinar. El preu inclou el dinar)</td>\n        </tr>\n    <t
 r>\n        <td valign="top" class="pivot">\n            Lloc:\n        <
 /td>\n        <td>&nbsp\;<br>A les instal?lacions de les Terres de l'Ebre
 \, Carrer Mercaders\, 2 de&nbsp\;<br>&nbsp\;Tortosa.\n            <br><br
 ></td>\n    </tr>\n        <tr>\n            <td valign="top" class="pivo
 t">\n                Assistents m?nim/m?xim:</td>\n            <td>&nbsp\
 ;6/25</td>\n        </tr>\n        <tr>\n            <td valign="top" cla
 ss="pivot">\n                Durada:</td>\n            <td>&nbsp\;<br>8 h
 ores</td>\n        </tr>\n        <tr>\n            <td valign="top" clas
 s="pivot">\n                Professorat:</td>\n            <td>&nbsp\;<br
 ><strong>Ricard Nogu?s Parra</strong>. Enginyer Consultor d'Organitzaci? 
 i Formador.<br>Soci Director d'ORGANIZE Enginyers Consultors d'Organitzac
 i?.</td>\n        </tr>\n        <tr>\n            <td valign="top" class
 ="pivot" style="text-align: justify\;">\n                Objectius:</td>\
 n            <td style="text-align: justify\;">&nbsp\;<br>&nbsp\;Com a en
 ginyer o t?cnic coneix les responsabilitats dels agents <br>&nbsp\;interv
 inents a una obra\, les funcions d'un cap d'obra i&nbsp\;dels encarregats
 ?<br>&nbsp\;Coneix els sistemes de gesti? per a millorar la rendibilitat 
 i obtenir<br>&nbsp\;m?s benefici? Sap com s'ha de&nbsp\;crear una UTE i q
 uins tipus hi ha? Sap <br>&nbsp\;quines s?n les tipologies de contractes 
 de les obres? I com s'han de fer<br>&nbsp\;les certificacions i les factu
 res segons aquests contractes?<br><br>&nbsp\;Les respostes les trobar? en
  aquest curs\, ja que d'una banda\, permet la <br>&nbsp\;capacitaci? prof
 essional per exercir d'Enginyer&nbsp\;d'Obres\, a m?s a m?s <br>&nbsp\;d'
 oferir als assistents una visi? general i una visi? espec?fica&nbsp\;del 
 m?n<br>&nbsp\;de les obres de construcci?&nbsp\;i instal?lacions t?cnique
 s. Tamb? s'exposen <br>&nbsp\;els aspectes m?s&nbsp\;importants i fonamen
 tals per a la seva gesti?\, amb la<br>&nbsp\;finalitat de saber on ?s a c
 ada moment (activitat\, rendibilitat\, etc ...)<br>&nbsp\;Tot aix? amb un
 a doble finalitat: en primer lloc&nbsp\;donar compliment als <br>&nbsp\;c
 ompromisos&nbsp\;essencials de les obres per part dels agents intervinent
 s i <br>&nbsp\;en segon lloc\, que el&nbsp\;treball conjunt que ha de&nbs
 p\;desenvolupar el Cap <br>&nbsp\;d'Obra amb el seu Encarregat d'Obra de 
 les obres que gestionen siguin<br>&nbsp\;els m?s eficients possibles per 
 aconseguir fer-les m?s rendibles\, per tal <br>&nbsp\;d'augmentar el bene
 fici de l'empresa.<br><br>&nbsp\;El curs s'enfoca des d'un caire pedag?gi
 c\, de debat i de di?leg\, a trav?s <br>&nbsp\;de la te?rica\, el brainst
 orming&nbsp\;i la resoluci?&nbsp\;de dos casos.<br><br>&nbsp\;</td>\n    
     </tr>\n        <tr>\n            <td valign="top" class="pivot">\n   
              Continguts:</td>\n            <td>&nbsp\;<br>&nbsp\;La capac
 itaci? professional per tal de gestionar obres i con?ixer com <br>&nbsp\;
 aconseguir incrementar la rendibilitat de les obres de construcci? i <br>
 &nbsp\;instal?lacions t?cniques a trav?s del millor model de gesti?<br><b
 r>&nbsp\;PROGRAMA DEL CURS:<br><br>&nbsp\;1.&nbsp\; &nbsp\;L'OBRA<br>&nbs
 p\; &nbsp\; &nbsp\; &nbsp\;1.1 DEFINICI?<br>&nbsp\; &nbsp\; &nbsp\; &nbsp
 \;1.2 FASE PR?VIA<br>&nbsp\; &nbsp\; &nbsp\; &nbsp\;1.3 ORGANIGRAMA INTER
 N<br>&nbsp\; &nbsp\; &nbsp\; &nbsp\;1.4 INICI DE L'OBRA<br><br>&nbsp\;2.&
 nbsp\; &nbsp\;L'ENTORN DE L'OBRA&nbsp\;<br>&nbsp\; &nbsp\; &nbsp\; &nbsp\
 ;2.1 DEFINICI?<br>&nbsp\; &nbsp\; &nbsp\; &nbsp\;2.2 ENTITATS<br>&nbsp\; 
 &nbsp\; &nbsp\; &nbsp\;2.3 ORGANIGRAMA EXTERN<br>&nbsp\; &nbsp\; &nbsp\; 
 &nbsp\;2.4 NORMATIVA GENERAL<br><br>&nbsp\;3&nbsp\; &nbsp\; ELS REPRESENT
 ANTS DE L'EMPRESA A L'OBRA<br>&nbsp\; &nbsp\; &nbsp\; &nbsp\;3.1 L'ENGINY
 ER D'OBRES COM A CAP D'OBRA. PERFIL PROFESSIONAL<br>&nbsp\; &nbsp\; &nbsp
 \; &nbsp\;3.2 L'ENCARREGAT D'OBRA<br>&nbsp\; &nbsp\; &nbsp\; &nbsp\;3.3 L
 'EQUIP HUM? DIRECTE: SOTS-CONTRACTISTES I/O PERSONAL<br>&nbsp\; &nbsp\; &
 nbsp\; &nbsp\; &nbsp\; &nbsp\; &nbsp\;PROPI<br>&nbsp\; &nbsp\; &nbsp\; &n
 bsp\;3.4 EQUIP DE SUPORT<br><br>&nbsp\;4.&nbsp\; &nbsp\;GESTI? DE L'OBRA<
 br>&nbsp\; &nbsp\; &nbsp\; &nbsp\;4.1 CLASSES DE CONTRACTE<br>&nbsp\; &nb
 sp\; &nbsp\; &nbsp\;4.2 LA UNI? TEMPORAL D'EMPRESES<br>&nbsp\; &nbsp\; &n
 bsp\; &nbsp\;4.3 MODEL DE GESTI?<br>&nbsp\; &nbsp\; &nbsp\; &nbsp\;4.4 CO
 NCEPTES DE GESTI? EN L'?MBIT DE L'OBRA&nbsp\;<br>&nbsp\; &nbsp\; &nbsp\; 
 &nbsp\;4.5 CLAUS DE CONTROL DE L'OBRA<br>&nbsp\; &nbsp\; &nbsp\; &nbsp\;4
 .6 AN?LISI DE L'OBRA&nbsp\;<br>&nbsp\; &nbsp\; &nbsp\; &nbsp\; &nbsp\; &n
 bsp\; &nbsp\;4.6.1 AN?LISI T?CNICA<br>&nbsp\; &nbsp\; &nbsp\; &nbsp\; &nb
 sp\; &nbsp\; &nbsp\;4.6.2 AN?LISI DELS RECURSOS MATERIALS I DE L'EQUIP HU
 M?<br>&nbsp\; &nbsp\; &nbsp\; &nbsp\; &nbsp\; &nbsp\; &nbsp\;4.6.3 PLANIF
 ICACI? DE L'OBRA<br>&nbsp\; &nbsp\; &nbsp\; &nbsp\; &nbsp\; &nbsp\; &nbsp
 \;4.6.4 AN?LISI ECON?MICA<br>&nbsp\; &nbsp\; &nbsp\; &nbsp\; &nbsp\; &nbs
 p\; &nbsp\;4.6.5 EVOLUCI? DE L'ACTIVITAT<br>&nbsp\; &nbsp\; &nbsp\; &nbsp
 \;4.7 NORMATIVA DE QUALITAT\, PREVENCI? I MEDI AMBIENT<br>&nbsp\; &nbsp\;
  &nbsp\; &nbsp\;4.8 DOCUMENTACI?<br>&nbsp\; &nbsp\; &nbsp\; &nbsp\;4.9 CO
 MPROMISOS DE LA GESTI? D'OBRA<br><br>&nbsp\;5.&nbsp\; &nbsp\;HABILITATS P
 ERSONALS<br>&nbsp\; &nbsp\; &nbsp\; &nbsp\;5.1 GESTOR DEL TEMPS: ORDRE I 
 ORGANITZACI?<br>&nbsp\; &nbsp\; &nbsp\; &nbsp\;5.2 L?DER TREBALL D'EQUIP&
 nbsp\;<br>&nbsp\; &nbsp\; &nbsp\; &nbsp\;5.3 COMUNICADOR<br>&nbsp\; &nbsp
 \; &nbsp\; &nbsp\;5.4 GESTOR DEL CONFLICTE<br>&nbsp\; &nbsp\; &nbsp\; &nb
 sp\;5.5 NEGOCIADOR<br><br>&nbsp\;6.&nbsp\; &nbsp\; AN?LISI I RESOLUCI? DE
  CASOS. RESUM I CONCLUSI?.<br>&nbsp\; &nbsp\; &nbsp\; &nbsp\;<br><br></td
 >\n        </tr>\n        <tr>\n            <td valign="top" class="pivot
 ">Destinataris:</td>\n            <td>&nbsp\;<br>&nbsp\;Enginyers\, Engin
 yers T?cnics\, Arquitectes\, Arquitectes T?cnics o T?cnics<br>&nbsp\;en g
 eneral ...&nbsp\;que volen capacitar-se en&nbsp\;l'?mbit de la gesti? de 
 les obres\, <br>&nbsp\;especialment aquells que volen exercir o ja exerce
 ixen com a Enginyers<br>&nbsp\;d'Obra\,&nbsp\;Caps d'Obra\, Gestors d'Obr
 a\, ...&nbsp\;</td>\n        </tr>\n         <tr>\n            <td valign
 ="top" class="pivot">\n                Documentaci?:</td>\n            <t
 d>&nbsp\;<br>&nbsp\;Es lliurar? documentaci? de seguiment.</td>\n        
 </tr>\n         \n        <tr>\n            <td valign="top" class="pivot
 ">\n                Bonificacions:</td>\n            <td>&nbsp\;<br>&nbsp
 \;Gestionem els tr?mits per tal que puguis beneficiar-te de la bonificaci
 ?<br>&nbsp\;corresponent per formaci?. \n            </td>\n        </tr>
 \n         <tr><td valign="top" class="pivot">Instruccions per bonificar:
 </td><td>&nbsp\; <br>&nbsp\; 1. Sol.licita els impresos al CETIT a formac
 io@enginyerstarragona.cat<br>&nbsp\; 2. Aporta tota la informaci? 7 dies 
 naturals abans de l'inici del curs.<br>&nbsp\; 3. NOTA IMPORTANT:&nbsp\;&
 nbsp\;les gestions de&nbsp\;les&nbsp\;<br>&nbsp\; &nbsp\; &nbsp\; bonific
 acions es porten a terme per mitj? d'una&nbsp\;assessoria externa.<br>&nb
 sp\; &nbsp\; &nbsp\; Aquells que vulguin acollir-se a la bonificaci? de q
 ualsevol acci?<br>&nbsp\; &nbsp\; &nbsp\; formativa\, el preu&nbsp\;&nbsp
 \;s'incrementar? en un 20%&nbsp\; (que tamb? es podr?<br>&nbsp\; &nbsp\; 
 &nbsp\; bonificar i recuperar)</td></tr><tr>\n            <td valign="top
 " class="pivot">\n                Forma de pagament:</td>\n            <t
 d>&nbsp\;<br>&nbsp\;Cobrament a trav?s del seu n?mero de compte\, que hau
 r? de facilitar <br>&nbsp\;a l?hora de \n                fer la&nbsp\;ins
 cripci?.</td>\n        </tr>\n         <tr>\n            <td valign="top"
  class="pivot">\n                Certificaci?:</td>\n            <td><br>
 &nbsp\;Es lliurar? un certificat d'acreditaci? i assist?ncia a la finalit
 zaci? de la <br>&nbsp\;formaci?. Aquells&nbsp\;que sol?licitin bonificar 
 el cus a trav?s de la Fundaci?<br>&nbsp\;Tripartita para la Formaci?n en 
 el Empleo\,&nbsp\; tamb? tindran un certificat<br>&nbsp\;em?s per \n     
            la FTFE.</td>\n        </tr>\n         <tr>\n            <td v
 align="top" class="pivot">\n                Acreditaci? Professional:</td
 >\n            <td>&nbsp\;<br>&nbsp\;Aquesta formaci? ?s competent per ac
 reditar davant del COGITI la<br>&nbsp\;teva formaci?. <br>&nbsp\;Mes info
 rmaci?: <a href="http://www.acreditacioncogitidpc.es" target="_blank">htt
 p://www.acreditacioncogitidpc.es</a></td>\n        </tr>\n        </tbody
 ></table>
DTEND;TZID=Europe/Madrid;VALUE=DATE:20190206
DTSTAMP:20260420T135920Z
DTSTART;TZID=Europe/Madrid;VALUE=DATE:20190205
LOCATION:https://www.enginyerstarragona.cat/agenda/details/1366/1366-a-les
 -terres-de-lebre-lenginyer-de-gestio-dob
SEQUENCE:0
SUMMARY:[A LES TERRES DE L'EBRE] L'ENGINYER DE GESTI? D'OBRES
UID:ET_Activitat_1366
URL:https://www.enginyerstarragona.cathttps://www.enginyerstarragona.cat/a
 genda/details/1366/1366-a-les-terres-de-lebre-lenginyer-de-gestio-dob
END:VEVENT
END:VCALENDAR
