BEGIN:VCALENDAR
PRODID:-//github.com/rianjs/ical.net//NONSGML ical.net 2.2//EN
VERSION:2.0
BEGIN:VEVENT
CATEGORIES:Activitats
CREATED;TZID=Europe/Madrid:20260426T021029
DESCRIPTION:<table class="table">\n        <tbody><tr>\n            <td st
 yle="width: 148px\;" valign="top" class="pivot">\n                Codi ci
 rcular:</td>\n            <td>42/18&nbsp\; &nbsp\; &nbsp\; &nbsp\; &nbsp\
 ; &nbsp\; &nbsp\; &nbsp\; &nbsp\;&nbsp\;</td>\n        </tr>\n        <tr
 >\n            <td valign="top" class="pivot">\n                Dates:</t
 d>\n            <td>INICI 25 de setembre (DIMARTS)&nbsp\; &nbsp\; &nbsp\;
  &nbsp\; &nbsp\; &nbsp\; &nbsp\;&nbsp\;</td>\n        </tr>\n        <tr>
 \n            <td valign="top" class="pivot">\n                Horari:</t
 d>\n            <td>25 de setembre&nbsp\; de 18:00 a 20:00&nbsp\; &nbsp\;
  &nbsp\; &nbsp\; &nbsp\; &nbsp\; &nbsp\; &nbsp\; &nbsp\;&nbsp\;</td>\n   
      </tr>\n    <tr>\n        <td valign="top" class="pivot">\n          
   Lloc:\n        </td>\n        <td>SALA ACTES COAATT&nbsp\;<br>RAMBLA FA
 NCESC MACI?\, 6 BAIXOS&nbsp\;<br>TARRAGONA (TARRAGONA )<br></td>\n    </t
 r>\n        \n        <tr>\n            <td valign="top" class="pivot">Pr
 esentaci?:</td>\n            <td><span style="font-variant-numeric: norma
 l\; font-variant-east-asian: normal\; text-align: justify\;"><div style="
 text-align: left\;">El decret d?autoprotecci? 30/2015 de 3 de mar?\, modi
 fica el cat?leg d?activitats i centres obligats a adoptar mesures d?autop
 rotecci? i fixa el contingut d?aquestes mesures\, i tamb? estableix que e
 ls plans d?autoprotecci? els poden redactar exclusivament t?cnics acredit
 ats a tal efecte.</div></span><br style="font-variant-numeric: normal\; f
 ont-variant-east-asian: normal\; text-align: justify\;"><span style="font
 -variant-numeric: normal\; font-variant-east-asian: normal\; text-align: 
 justify\;">Existeixen dos nivells d'acreditaci?:</span><br style="font-va
 riant-numeric: normal\; font-variant-east-asian: normal\; text-align: jus
 tify\;"><span style="font-variant-numeric: normal\; font-variant-east-asi
 an: normal\; text-align: justify\;"></span><br style="font-variant-numeri
 c: normal\; font-variant-east-asian: normal\; text-align: justify\;"><spa
 n style="font-variant-numeric: normal\; font-variant-east-asian: normal\;
  text-align: justify\;">- La B?SICA "d'?mbit local": permet realitzar els
  PLANS D'AUTOPROTECCI? que el decret recull en aquesta categoria\, i que 
 s?n activitats de menor risc\, per ocupaci? o per tipus d'activitat\, i q
 ue avalua i homologa el mateix Ajuntament.</span><br style="font-variant-
 numeric: normal\; font-variant-east-asian: normal\; text-align: justify\;
 "><span style="font-variant-numeric: normal\; font-variant-east-asian: no
 rmal\; text-align: justify\;"></span><br style="font-variant-numeric: nor
 mal\; font-variant-east-asian: normal\; text-align: justify\;"><span styl
 e="font-variant-numeric: normal\; font-variant-east-asian: normal\; text-
 align: justify\;">- La SUPERIOR "d'?mbit de Catalunya": recull tota la re
 sta d'activitats amb un ?mbit d'afectaci? m?s general\, pel risc que comp
 orten o b? per l'ocupaci? que tenen. Aquests plans d'autoprotecci? els av
 alua la Direcci? General de Protecci? Civil i homologa la Comissi? de Pro
 tecci? Civil de Catalunya</span><span lang="CA" style="font-variant-numer
 ic: normal\; font-variant-east-asian: normal\; text-align: justify\;"><st
 1:personname w:st="on" productid="la Direcci? General"></st1:personname><
 /span><span style="font-variant-numeric: normal\; font-variant-east-asian
 : normal\; text-align: justify\;">\, i per obtenir-la ?s imprescindible t
 enir la formaci? en l'?mbit local.</span><br style="font-variant-numeric:
  normal\; font-variant-east-asian: normal\; text-align: justify\;"><span 
 style="font-variant-numeric: normal\; font-variant-east-asian: normal\; t
 ext-align: justify\;"></span><br style="font-variant-numeric: normal\; fo
 nt-variant-east-asian: normal\; text-align: justify\;"><span style="font-
 variant-numeric: normal\; font-variant-east-asian: normal\; text-align: j
 ustify\;">Pot accedir a aquesta formaci? qualsevol persona amb titulaci? 
 universit?ria\, tot i que el car?cter del treball que es desenvolupa\, o 
 declina cap a t?cnics de l'?mbit de la construcci? o industrial.</span><b
 r></td>\n        </tr>\n        <tr><td valign="top" class="pivot">Requis
 its:</td><td><span style="font-variant-numeric: normal\; font-variant-eas
 t-asian: normal\; text-align: justify\;">El departament exigeix\, a part 
 del diploma assegurant que s'ha aprovat el curs\, una titulaci? universit
 ?ria.</span><br style="font-variant-numeric: normal\; font-variant-east-a
 sian: normal\; text-align: justify\;"><span style="font-variant-numeric: 
 normal\; font-variant-east-asian: normal\; text-align: justify\;"></span>
 <br style="font-variant-numeric: normal\; font-variant-east-asian: normal
 \; text-align: justify\;"><span style="font-variant-numeric: normal\; fon
 t-variant-east-asian: normal\; text-align: justify\;">Al finalitzar el cu
 rs\, el COAATT com a centre acreditat per a la impartici? de cursos per a
  t?cnics habilitats en plans d'autoprotecci? emetr?\, si ?s el cas\, un d
 iploma per poder sol?licitar l'acreditaci? al departament d'interior.</sp
 an><br style="font-variant-numeric: normal\; font-variant-east-asian: nor
 mal\; text-align: justify\;"><span style="font-variant-numeric: normal\; 
 font-variant-east-asian: normal\; text-align: justify\;"></span><br style
 ="font-variant-numeric: normal\; font-variant-east-asian: normal\; text-a
 lign: justify\;"><span style="font-variant-numeric: normal\; font-variant
 -east-asian: normal\; text-align: justify\;">En&nbsp\;</span><a href="htt
 p://interior.gencat.cat/ca/arees_dactuacio/proteccio_civil/paus_hermes/#F
 W_bloc_8c88dcb0-01dc-11e4-926b-000c29676f2e_5" style="font-variant-numeri
 c: normal\; font-variant-east-asian: normal\; text-align: justify\;">aque
 st enlla?</a><span style="font-variant-numeric: normal\; font-variant-eas
 t-asian: normal\; text-align: justify\;">&nbsp\;podreu veure el procedime
 nt i condicions per a la sol?licitud de l?acreditaci?.</span><br style="f
 ont-variant-numeric: normal\; font-variant-east-asian: normal\; text-alig
 n: justify\;"><span style="font-variant-numeric: normal\; font-variant-ea
 st-asian: normal\; text-align: justify\;">&nbsp\;&nbsp\;</span><br style=
 "font-variant-numeric: normal\; font-variant-east-asian: normal\; text-al
 ign: justify\;"><span style="font-variant-numeric: normal\; font-variant-
 east-asian: normal\; text-align: justify\;">L?admissi? el curs ser? per e
 stricte ordre d?inscripci?\, i es portar? a terme amb un m?nim de 5 alumn
 es.</span><br></td></tr><tr>\n            <td valign="top" class="pivot">
 \n                Professorat:</td>\n            <td><span style="font-va
 riant-numeric: normal\; font-variant-east-asian: normal\; text-align: jus
 tify\;">El tutor del curs ?s el&nbsp\;</span><a href="http://www.apatgn.o
 rg/c/document_library/get_file?uuid=15fa03e6-a597-42ab-be9d-5576c856dd95&
 amp\;groupId=377086" style="font-variant-numeric: normal\; font-variant-e
 ast-asian: normal\; text-align: justify\;">Sr. Joan Carles&nbsp\; Franc?s
  Tudel</a><span style="font-variant-numeric: normal\; font-variant-east-a
 sian: normal\; text-align: justify\;">\,&nbsp\; llicenciat en geografia i
  t?cnic en protecci? civil.</span>&nbsp\; &nbsp\; &nbsp\; &nbsp\; &nbsp\;
  &nbsp\; &nbsp\; &nbsp\; &nbsp\;&nbsp\;</td>\n        </tr>\n        <tr>
 \n            <td valign="top" class="pivot">Metodologia:</td>\n         
    <td><span style="font-variant-numeric: normal\; font-variant-east-asia
 n: normal\; text-align: justify\;">Cada nivell constar? d?una sessi? intr
 oduct?ria\, i els corresponents m?duls de continguts te?rics de seguiment
  online. Un cop finalitzat cada m?dul s'haur? de realitzar una autoavalua
 ci? per saber els coneixements adquirits\, i un exercici pr?ctic. Al fina
 l de cada nivell\, la realitzaci? dels exercicis pr?ctics que s'han reali
 tzat amb cada m?dul ens ajudaran a compondre un treball final que ?s un p
 la d'autoprotecci?.<br></span><br style="font-variant-numeric: normal\; f
 ont-variant-east-asian: normal\; text-align: justify\;"><span style="font
 -variant-numeric: normal\; font-variant-east-asian: normal\; text-align: 
 justify\;">Les sessions introduct?ries\, es realitzar? a les instal?lacio
 ns del COAATT. Tindran una durada de dues hores i s?n de car?cter obligat
 ori.<br></span><br style="font-variant-numeric: normal\; font-variant-eas
 t-asian: normal\; text-align: justify\;"><span style="font-variant-numeri
 c: normal\; font-variant-east-asian: normal\; text-align: justify\;">A pa
 rtir d?aquest moment s?aniran obrint els m?duls de forma correlativa\, ca
 da setmana. Al final de cada nivell es realitzar? un examen que es realit
 zar? presencialment.</span><br style="font-variant-numeric: normal\; font
 -variant-east-asian: normal\; text-align: justify\;"><span style="font-va
 riant-numeric: normal\; font-variant-east-asian: normal\; text-align: jus
 tify\;">Un cop superat l?examen es podr? entregar el treball final.<br></
 span><br style="font-variant-numeric: normal\; font-variant-east-asian: n
 ormal\; text-align: justify\;"><span style="font-variant-numeric: normal\
 ; font-variant-east-asian: normal\; text-align: justify\;">Per a cada niv
 ell aprovat s?entregar? un diploma amb el qual podeu accedir a l?acredita
 ci?.</span><br style="font-variant-numeric: normal\; font-variant-east-as
 ian: normal\; text-align: justify\;"><span style="font-variant-numeric: n
 ormal\; font-variant-east-asian: normal\; text-align: justify\;">Durant t
 ot el per?ode es pot contactar amb el tutor o l?administrador\, via corre
 u electr?nic per resoldre dubtes\, i o fer tutories pel desenvolupament d
 el projecte.&nbsp\;</span><br></td>\n        </tr>\n        \n        \n 
         <tr>\n            <td valign="top" class="pivot">Contingut:</td>\
 n            <td><p>Nivell Superior<br><br>Introducci? als plans d'autopr
 otecci? per la protecci? civil de Catalunya. Decret 30/2015.<br>Redacci? 
 d'un PAU d'inter?s per a la protecci? civil de Catalunya.<br><strong><br>
 M?DUL A1</strong><br>&nbsp\; &nbsp\; &nbsp\; Risc en instal?lacions SEVES
 O. Normativa.<br>&nbsp\; &nbsp\; &nbsp\; Risc en el transport de mat?ries
  perilloses. Normativa.<br><br><strong>M?DUL A2&nbsp\;</strong><br>&nbsp\
 ; &nbsp\; &nbsp\; Risc biol?gic. Normativa.<br>&nbsp\; &nbsp\; &nbsp\; Ri
 sc radiol?gic. Normativa.<br>&nbsp\; &nbsp\; &nbsp\; Risc en la mineria. 
 Normativa.<br>&nbsp\; &nbsp\; &nbsp\; Serveis b?sics.<br><br><strong>M?DU
 L A3&nbsp\;</strong><br>&nbsp\; &nbsp\; &nbsp\; Risc en preses i embassam
 ents.<br>&nbsp\; &nbsp\; &nbsp\; Risc en carreteres\, t?nels\, ports\, ae
 roports.<br>&nbsp\; &nbsp\; &nbsp\; Planificaci? i execuci? de simulacres
 .<br><br><strong>M?DUL A4&nbsp\;</strong><br>&nbsp\; &nbsp\; &nbsp\; Prev
 enci? d'incendis. Edificis de gran al?ada.<br>&nbsp\; &nbsp\; &nbsp\; Pre
 venci? d'incendis. Caracteritzaci? d'edificis.&nbsp\;<br>&nbsp\; &nbsp\; 
 &nbsp\; Prevenci? d'incendis. Llei 3/2010.</p></td>\n        </tr>\n     
     \n        \n         <tr>\n            <td valign="top" class="pivot"
 >\n                Forma de pagament:</td>\n            <td>Cobrament a t
 rav?s del seu n?mero de compte\, que haur? de facilitar a l?hora de \n   
              fer la inscripci?.</td>\n        </tr>\n         <tr>\n     
        <td valign="top" class="pivot">\n                Certificaci?:</td
 >\n            <td>Es lliurar? un certificat d'acreditaci? i assist?ncia 
 a la finalitzaci? de la \n                formaci?.&nbsp\;</td>\n        
 </tr>\n         <tr>\n            <td valign="top" class="pivot">\n      
           Acreditaci? Professional:</td>\n            <td>Aquesta formaci
 ? ?s competent per acreditar davant del COGITI la teva formaci?. <br>M?s 
 informaci?: <a href="http://www.acreditacioncogitidpc.es" target="_blank"
 >http://www.acreditacioncogitidpc.es</a></td>\n        </tr>\n        <tr
 ><td valign="top" class="pivot">NOTA:&nbsp\;</td><td>El CETIT i el Col?le
 gi d'Aparelladors i Arquitectes T?cnics de Tarragona tenen subscrit un ac
 ord de col?laboraci? on els col?legiats del CETIT es poden beneficiar del
  mateix preu de la quota d'inscripci? que els col?legiats del COAATT. Per
  poder fer efectiva la inscripci? caldr? formalitzar-la a trav?s del nost
 re web.&nbsp\;&nbsp\;</td></tr><tr><td valign="top" class="pivot">IMPORTA
 NT:&nbsp\;</td><td>La no assist?ncia a l'activitat no suposa la devoluci?
  de l'import. Per tal de poder fer el retorn de l'import\, cal comunicar 
 la no assist?ncia 72 hores abans al c/e: informaci?@enginyerstarragona.ca
 t&nbsp\;<br></td></tr></tbody></table>
DTEND;TZID=Europe/Madrid:20180925T200000
DTSTAMP:20260426T001029Z
DTSTART;TZID=Europe/Madrid:20180925T180000
LOCATION:https://www.enginyerstarragona.cat/agenda/details/1346/1346-canvi
 -de-dates-curs-on-line-de-formacio-per-a
SEQUENCE:0
SUMMARY:CANVI DE DATES!!! [CURS] "ON LINE" DE FORMACI? PER A T?CNICS COMPE
 TENTS EN LA ELABORACI? DE PLANS D?AUTOPROTECCI?  "NIVELL SUPERIOR"
UID:ET_Activitat_1346
URL:https://www.enginyerstarragona.cathttps://www.enginyerstarragona.cat/a
 genda/details/1346/1346-canvi-de-dates-curs-on-line-de-formacio-per-a
END:VEVENT
END:VCALENDAR
