BEGIN:VCALENDAR
PRODID:-//github.com/rianjs/ical.net//NONSGML ical.net 2.2//EN
VERSION:2.0
BEGIN:VEVENT
CATEGORIES:Activitats
CREATED;TZID=Europe/Madrid:20260421T151648
DESCRIPTION:<b>SOSTENIMENT I UNIVERSALITZACI? DEL BENESTAR: LA IMPLICACI? 
 DE LA SOCIETAT</b><p> \n\n\nLes trobades interprofessionals cosntitueixen
  espais de trobada i de reflexi? amb vocaci? transversal i multidisciplin
 ?ria entre els diferents col?lectius professionals al voltant de temes d'
 inter?s com? i relacionats amb eixos program?tics del F?rum: multicultura
 l\, sostenibilitat i creaci? de condicions per a la pau<p> \n\nL'actual e
 scenari mundial\, d'expansi? de les noves tecnologies globalitzades\, d'e
 nvelliment de la poblaci? de les societats desenvolupades\, de shocks cul
 turals persistents i de marcades difer?ncies econ?miques entre pa?sos\, o
 bliga a plantejar-se de nou la viabilitat d'un benestar sostenible i per 
 a tothom<p> \n\nUna viabilitat sobre la que\, sens dubte\, els profession
 als de tots els ?mbits tenen quelcom a dir. <p> \n\n\n\nDes de les comarq
 ues de Tarragona\, i des de l'esfor? conjunt de tots els col?legis profes
 sionals\, institucions i altres entitats implicades\, hem organitzat aque
 stes Jornades\, que no volen ser un fet puntual i tranquilitzador de conc
 i?ncies\, sin? d'an?lisi de situaci?\, de reflexi? i d'implicaci? en l'ob
 jectiu com? de solidaritat ben entesa\, consensuant la "Declaraci? de Tar
 ragona" que sigui un punt de partida d'estrat?gies internacionals de sine
 rgia dirigides a salvaguardar el benestar propi dels pa?sos desenvolupats
  i aconseguir la universalitzaci? d'aquestes necessitats b?siques. <p> \n
 \n<b>PROGRAMA</b>\n<br><br>\n\n\n<b>Divendres\, 6 de febrer de 2004</b>\n
 <p> \n<b>09.30 h</b>\n\n Recepci?\, lliurament d'acreditacions i material
  <br>\n\n<b>10.00 h</b>\n Acte d'inauguraci?:<br>\n\nExcm. Sr. Josep Mari
 a Bertran\n President del Col?legi Oficial de Metges de Tarragona. Portav
 eu dels col?legis professionals organitzadors de les Jornades. <br>\n\nIl
 ?lma. Sra. Josefina Cambra Gin? Responsable de l'?mbit dels professionals
  del F?rum de les Cultures\, Barcelona 2004<br>\n\nIl?lm. Sr. Joan Aregio
 . President de la Diputaci? de Tarragona<br>\n\nMolt Hble. Sr. Ernest Ben
 ach Pascual\nPresident del Parlament de Catalunya<br>\n<b>10.45 h</b>\n P
 ausa caf? <br>\n\n<b>11.00 h</b>\n Taula rodona:<br>\n\nFactors de sosten
 iment del benestar\n<br>\n\nModera:<br>\n\nFrancesc Sanuy\nAdvocat\, memb
 re del Gabinet Font\, escriptor i generador d'opini?<br>\n\nPonents:<br>\
 n\nTecnologia\n<br>\n\nJoan Maj?.\n Enginyer\, president del Information 
 Society Forum<br>\n\nHumanisme<br>\n\nEduard Punset Economista\, director
  de Redes<br>\n\nEfici?ncia laboral<br>\n\nAntonio Guti?rrez\n Observator
 i de la globalitzaci?. UB. <br>\n\nIdentitat<br>\n\nJoaquim FerrerHistori
 ador<br>\n<b>13.00 h</b>\n Col?loqui <br>\n\n<b>13.30 h. </b>\nPrimera co
 nfer?ncia magistral:<br>\n\n\n\nPol?tica solid?ria: una utop?a?\n<br>\nMi
 quel ?ngel Moratinos Cuyaub?.\n Diplom?tic\, representatn especial de la 
 Unio Europea a l'Orient Mitj?<br>\n<b>16.30 h</b>\n Taula Rodona:<br>\n\n
 Implicaci? dels professionals en l'objectiu de benestar per a tothom.<br>
 \nModera <br>\n\nJoan Corbella. Metge psiquiatre.<br>\nPonents<br>\nH?bit
 at<br>\nRosa RullArquitecte\, premi FAD de l'opini? d'arquitectura<br>\n\
 nProfessionalisme<br>\n\nEugeni Gay. \nAdvocat\, Magistrat del Tribunal C
 onstitucional<br>\n\nGesti? eficient i valors professionals<br>\nXavier M
 endoza.\n Deg? d'ESADE Business School<br>\n\n?tica\n <br>\n\nVict?ria Ca
 mps.\n Catedr?tica d'?tica a la UAB\, presidenta de la Fundaci? V?ctor Gr
 ?fols i Lucas<br>\n\n<b>18.30 h</b>\n Col?loqui <br><br>\n\n<b>Dissabte\,
  7 de febrer de 2004</b>\n<p> \n<b>11.00 h</b>\n Segona confer?ncia magis
 tral:<br>\n\nSalut\, la gran prioritat.<br>\n\nFederico Mayor Zaragoza.\n
  Cient?fic\, president de la Fundaci? Cultura de Paz. <br>\n<b>12.30 h.</
 b>\n Acte de cloenda: <br>\n\nJoan Miquel Nadal<br>\n\nFederico Mayor Zar
 agoza.<br>\nMn. Josep Cabayol <br>\n\n"Declaraci? de Tarragona sobre la U
 niversalitzaci? del benestar"\n<br>\n\nLlegeix Mn. Josep Cabayol\n\,missi
 oner a Rwanda<p> \n\n<b>DESTINATARIS</b>\n<br>\n\nTots els professionals 
 interessats en con?ixer esl eixos program?tics del F?rum sobre diversitat
  cultural\, desenvolupament sostenible i condicions per a la pau\, per ta
 l d'assumir la responsabilitat que els correpson des dels seus ?mbits d'a
 ctuaci?<p> \n\nLes entitats p?bliques i privades interessades en contribu
 ir en l'assoliment d'un benestar sostenible i universal<p> \n\n<b>LLOC</b
 ><br>\n\n\nAntiga audi?ncia de Tarragona<br>\n\nPl. del Pallol s/n<br>\n\
 nTarragona<p> \n\n<b>INFORMACI? I INSCRIPCIONS</b>\n <br>\n<u><a href="ht
 tp://www.comt.es/jornadesforum.htm" target="_blank">http://www.comt.es/jo
 rnadesforum.htm</a></u> \n<br>\n\n<u><a href="mailto:jornadesforum@comt.e
 s" target="_blank">jornadesforum@comt.es</a></u> \n\n<br>\n\nTel. 977 231
  012 (Sra. Rosabel Monn?)<br>\n\nFax: 977 23 62 08 <br>\n\n\n\n
DTEND;TZID=Europe/Madrid;VALUE=DATE:20040207
DTSTAMP:20260421T131648Z
DTSTART;TZID=Europe/Madrid;VALUE=DATE:20040206
LOCATION:https://www.enginyerstarragona.cat/agenda/details/129/129-cicle-d
 e-trobades-interprofessionals-forum-ba
SEQUENCE:0
SUMMARY:CICLE DE TROBADES INTERPROFESSIONALS. F?RUM BARCELONA 2004
UID:ET_Activitat_129
URL:https://www.enginyerstarragona.cathttps://www.enginyerstarragona.cat/a
 genda/details/129/129-cicle-de-trobades-interprofessionals-forum-ba
END:VEVENT
END:VCALENDAR
