BEGIN:VCALENDAR
PRODID:-//github.com/rianjs/ical.net//NONSGML ical.net 2.2//EN
VERSION:2.0
BEGIN:VEVENT
CATEGORIES:Activitats
CREATED;TZID=Europe/Madrid:20260422T203845
DESCRIPTION:Amb motiu del 75? aniversari de l'associacionisme de la nostra
  professi?\, s'ha organitzat una confer?ncia\, exposici? i demostraci? so
 bre rob?tica\, que tindr? lloc a les instal?lacions de l'Escola T?cnica S
 uperior d'Enginyeria.<br>\n<br>\nLa Rob?tica ?s un ?rea d'enormes expecta
 tives de futur\, amb un indiscutible potencial d'aplicaci? a tots els ?mb
 its de l'activitat humana. En aquesta confer?ncia es realitzar? un breu r
 ep?s de les aplicacions pr?ctiques dels robots: des de les ja tradicional
 s a la ind?stria\, fins a les m?s innovadores\, encara en fase experiment
 al\, les quals permeten donar-nos una visi? bastant acurada de com ser? l
 a Rob?tica que es duen a terme a l'Escola T?cnica Superior d'Enginyeria d
 e la URV\, tant des del punt de vista de recerca com de doc?ncia. Finalme
 nt\, es realitzar? una visita guiada pels laboratoris de Rob?tica del Cen
 tre.<br>\n<br>\n<b>LLOC DE REALITZACI?:</b>\n<br>\nSala de Graus\, Escola
  T?cnica Superior d'Enginyeria <br>\n\nCampus Sescelades<br>\n\nAv. Pa?so
 s Catalans\, 26<br>\n          \n43007 Tarragona  <br>\n            		   
                        \n<b>PROGRAMA DE LA JORNADA</b>\n<br>\n\n\n<i>18.0
 0 hores ?</b>\n Inauguraci? de la jornada a c?rrec del senyors\,<br>\n\n	
 <b>Santiago Crivill? i Andreu</b>\n\, Deg? del Col?legi d'Enginyers T?cni
 cs Industrials de Tarragona <br>\n\n<b>Josep Domingo i Ferrer</b>\n\, Dir
 ector de l'Escola T?cnica Superior d'Enginyeria <br>\n\n\n<i>18.10 hores 
 ? </i>\nInici de la confer?ncia a c?rrec dels professors de l'ETSE\, els 
 senyors<br>\n\n<b>Miguel Angel  Garc?a Garc?a</b>\n\, Responsable del gru
 p de Rob?tica i Visi? \nIntel?ligents (RIVI)<br>\n\n<b>Albert Oller i Puj
 ol</b>\n\, Responsable del subgrup de Rob?tica M?bil del RIVI<br>\n\n\n<i
 >19.10 hores ? </i>\nVisita guiada i demostraci? als laboratoris de rob?t
 ica de l'ETSE <br>\n\n<b>CONFIRMACI? D'ASSIST?NCIA: </b>\nCal confirmar a
 ssist?ncia a secretaria del Col?legi al  tel. 977.25.18.77.\n
DTEND;TZID=Europe/Madrid;VALUE=DATE:20030314
DTSTAMP:20260422T183845Z
DTSTART;TZID=Europe/Madrid;VALUE=DATE:20030313
LOCATION:https://www.enginyerstarragona.cat/agenda/details/12/12-jornada-s
 obre-robotica-a-letse
SEQUENCE:0
SUMMARY:JORNADA SOBRE ROB?TICA A L'ETSE
UID:ET_Activitat_12
URL:https://www.enginyerstarragona.cathttps://www.enginyerstarragona.cat/a
 genda/details/12/12-jornada-sobre-robotica-a-letse
END:VEVENT
END:VCALENDAR
