BEGIN:VCALENDAR
PRODID:-//github.com/rianjs/ical.net//NONSGML ical.net 2.2//EN
VERSION:2.0
BEGIN:VEVENT
CATEGORIES:Activitats
CREATED;TZID=Europe/Madrid:20260424T235149
DESCRIPTION:Presentaci? del nou servei de <b>VISAT TELEM?TIC del CETIT</b>
 <br><br>\nEl visat telem?tic del CETIT permet als col?legiats tramitar pe
 r Internet la sol?licitud\, presentaci? i recollida de la documentaci? a 
 visar. Cada col?legiat t? la seva firma digital<br>\nAdministrador de vis
 ats segons estat de tramitaci? dels documents de cada col?legiat<br>\n\nE
 ls documents a visar s'adjunten a la sol?licitud de visat en format elect
 r?nic <br>\nDades del treball a visar i segell de visat electr?nic<br><br
 >\n\nAmb aquest nou sistema volem aconseguir\,<br>\nNou servei de millora
  al col?legiat<br>\nAgilitat en la tramitaci? de documents<br>\nEstalvi d
 e temps i supressi? de despla?aments<br>\nBiblioteca de projectes persona
 litzada  per a cada col?legiat <br>\nSeguretat digital garantida<br>\nApl
 icaci? de les tecnologies de la informaci? i de les comunicacions<br>\n<b
 r>\n<b>PONENTS: </b>\n<br>\nSr. Santiago Crivill? i Andreu\, Deg? del CET
 IT<br>\n\nSr. Armando Sicilia i Monge\,Vocal President Exercici lliure de
 l CETIT<br>\nSr. Jordi Samaranch i Marc?\, Gerent d'Institucions i Col?le
 ctius - Banc de Sabadell<br>\nSr. Carlos Bode i Vallespin\, Director Gene
 ral E-xtendnow<br>\n\n\n\n<b>DATA DE REALITZACI?: </b>\n11 de desembre de
  2003<br>\n<b>HORARI:</b>\n 20.00 hores<br>\n<b>LLOC DE REALITZACI?: </b>
 \nA la Sala d'Actes de la seu del Col?legi\, Av. de Roma\, 7 de Tarragona
 <br>\nCAL CONFIRMAR L'ASSIST?NCIA A L'ADMINISTRACI? DEL COL?LEGI\, TEL. 9
 02 076 777\n\n\n\n\n
DTEND;TZID=Europe/Madrid;VALUE=DATE:20031212
DTSTAMP:20260424T215149Z
DTSTART;TZID=Europe/Madrid;VALUE=DATE:20031211
LOCATION:https://www.enginyerstarragona.cat/agenda/details/115/115-nou-ser
 vei-de-visat-telematic
SEQUENCE:0
SUMMARY:NOU SERVEI DE VISAT TELEM?TIC
UID:ET_Activitat_115
URL:https://www.enginyerstarragona.cathttps://www.enginyerstarragona.cat/a
 genda/details/115/115-nou-servei-de-visat-telematic
END:VEVENT
END:VCALENDAR
