BEGIN:VCALENDAR
PRODID:-//github.com/rianjs/ical.net//NONSGML ical.net 2.2//EN
VERSION:2.0
BEGIN:VEVENT
CATEGORIES:Activitats
CREATED;TZID=Europe/Madrid:20260419T141552
DESCRIPTION:<table class="table">\n        <tbody><tr>\n            <td st
 yle="width: 148px\;" valign="top" class="pivot">\n                Codi ci
 rcular:</td>\n            <td>24/15&nbsp\;</td>\n        </tr>\n        <
 tr>\n            <td valign="top" class="pivot">\n                Dates:<
 /td>\n            <td>5 i 7 de maig (dimarts i dijous)&nbsp\;</td>\n     
    </tr>\n        <tr>\n            <td valign="top" class="pivot">\n    
             Horari:</td>\n            <td>17.00 a les 20.00 hores&nbsp\;<
 /td>\n        </tr>\n    <tr>\n        <td valign="top" class="pivot">\n 
            Lloc:\n        </td>\n        <td>Seu del CETIT\, Av. de Roma\
 , 7 de Tarragona.<br>\n            Si el nombre de confirmacions d'assist
 ?ncia de col?legiats a les Terres de l'Ebre\, ?s igual o superior al m?ni
 m estipulat a l'activitat\, el CETIT/ AETIGT organitzar?\, en la mateixa 
 modalitat\, l'acci? formativa a les instal?lacions de Tortosa.  \n       
  </td>\n    </tr>\n        <tr>\n            <td valign="top" class="pivo
 t">\n                Assistents m?nim/m?xim:</td>\n            <td>6/25</
 td>\n        </tr>\n        <tr>\n            <td valign="top" class="piv
 ot">\n                Durada:</td>\n            <td>6 hores&nbsp\;</td>\n
         </tr>\n        <tr>\n            <td valign="top" class="pivot">\
 n                Professorat:</td>\n            <td>Alfred Arias Barrio\,
 &nbsp\;Enginyer qu?mic per l'Institut Qu?mic de Sarri? de la Universitat 
 Ramon Llull de Barcelona (URL).&nbsp\;Enginyer Industrial per la&nbsp\;Un
 iversitat Ramon Llull de Barcelona (URL). M?ster en Petroqu?mica Aplicada
  per Instituto Petroqu?mica Aplicada de la Universitat Polit?cnica de Cat
 alunya de Barcelona (UPC). Professor Titular del MBA-URV (Universitat Rov
 ira i Virgili de Tarragona) de les assignatures ?Habilidades Directivas?\
 , ?Building Your Leadership Signature?&nbsp\;i ?Gesti?n de Personas? Inno
 vation Support / Learning / Management Systems. Dow Chimical Ib?rica S.L&
 nbsp\;&nbsp\; &nbsp\; &nbsp\; &nbsp\; &nbsp\; &nbsp\; &nbsp\; &nbsp\; &nb
 sp\;&nbsp\;</td>\n        </tr>\n        <tr>\n            <td valign="to
 p" class="pivot">\n                Objectius:</td>\n            <td>Enten
 dre la din?mica d'equips (avantatges i esfor? addicional).<br>Etapes per 
 a la construcci? i desenvolupament d'equips.<br>Model\, caracter?stiques&
 nbsp\; i components d'?xit d'equips d'alt rendiment.&nbsp\;<br>Din?miques
  i aspectes que es donen "dia a dia" dels equips i com afrontar-los.&nbsp
 \; &nbsp\; &nbsp\; &nbsp\; &nbsp\; &nbsp\; &nbsp\; &nbsp\; &nbsp\;&nbsp\;
 </td>\n        </tr>\n        <tr>\n            <td valign="top" class="p
 ivot">\n                Continguts:</td>\n            <td>Els 3 component
 s claus dels equips d'alt rendiment.<br>Les 9 caracter?stiques cr?tiques 
 dels equips d'alt rendiment.<br>El&nbsp\;<em>team charter.</em><br>Etapes
  del desenvolupament dels equips.<br>La formula de l'apoderament.&nbsp\; 
 &nbsp\; &nbsp\; &nbsp\; &nbsp\; &nbsp\; &nbsp\; &nbsp\; &nbsp\;&nbsp\;</t
 d>\n        </tr>\n        <tr>\n            <td valign="top" class="pivo
 t">\n                Destinataris:</td>\n            <td>\n              
   &nbsp\;<br>- Personal amb responsabilitats de direcci? que hagin de com
 unicar i negociar freq?entment.&nbsp\;<br>- Personal que hagi de liderar 
 i gestionar equips i reunions molt sovint ( m?s del 20 % del total de la 
 jornada laboral) a nivell de departament\, projectes\, etc.<br></td>\n   
      </tr>\n         <tr>\n            <td valign="top" class="pivot">\n 
                Documentaci?:</td>\n            <td>Es lliurar? documentac
 i? de seguiment.</td>\n        </tr>\n         <tr>\n            <td vali
 gn="top" class="pivot">\n                Que ?s la FTFE?</td>\n          
   <td>La FUNDACI?N TRIPARTITA PARA LA FORMACI?N EN EL EMPLEO ?s l'?rgan q
 ue regula\, \n                controla i administra el cr?dit anual que t
 otes les empreses disposen per formar \n                als seus treballa
 dors. Amb aquest cr?dit les bonificacions es dedueixen a trav?s \n       
          dels pagaments a la Seguritat Social\, per mitj? dels TCs. Qui p
 ot bonificar? \n                Treballadors que cotitzin en el r?gim gen
 eral.<span class="style1"><br></span></td>\n        </tr>\n        <tr>\n
             <td valign="top" class="pivot">\n                Instruccions
  per bonificar:</td>\n            <td>\n                <p>Sol?licita els
  impresos al CETIT<br>Aporta tota la informaci? 7 dies naturals abans de 
 l'inici del curs.</p>\n            </td>\n        </tr>\n         <tr>\n 
            <td valign="top" class="pivot">\n                Forma de paga
 ment:</td>\n            <td>Cobrament a trav?s del seu n?mero de compte\,
  que haur? de facilitar a l?hora de \n                fer la inscripci?.<
 /td>\n        </tr>\n         <tr>\n            <td valign="top" class="p
 ivot">\n                Certificaci?:</td>\n            <td>Es lliurar? u
 n certificat d'acreditaci? i assist?ncia a la finalitzaci? de la \n      
           formaci?. Aquells que sol?licitin bonificar el cus a trav?s de 
 la Fundaci? \n                Tripartita para la Formaci?n en el Empleo\,
  tamb? tindran un certificat em?s per \n                la FTFE.</td>\n  
       </tr>\n         <tr>\n            <td valign="top" class="pivot">\n
                 Acreditaci? Professional:</td>\n            <td>Aquesta f
 ormaci? ?s competent per acreditar davant del COGITI la teva formaci?. <b
 r>Mes informaci?: <a href="http://www.acreditacioncogitidpc.es" target="_
 blank">http://www.acreditacioncogitidpc.es</a></td>\n        </tr>\n     
    </tbody></table>
DTEND;TZID=Europe/Madrid:20150505T200000
DTSTAMP:20260419T121552Z
DTSTART;TZID=Europe/Madrid:20150505T170000
LOCATION:https://www.enginyerstarragona.cat/agenda/details/1138/1138-curs-
 bonificat-presencial-sobre-construccio-d
SEQUENCE:0
SUMMARY:Curs BONIFICAT PRESENCIAL sobre CONSTRUCCI? D'EQUIPS D'ALT RENDIME
 NT
UID:ET_Activitat_1138
URL:https://www.enginyerstarragona.cathttps://www.enginyerstarragona.cat/a
 genda/details/1138/1138-curs-bonificat-presencial-sobre-construccio-d
END:VEVENT
END:VCALENDAR
