BEGIN:VCALENDAR
PRODID:-//github.com/rianjs/ical.net//NONSGML ical.net 2.2//EN
VERSION:2.0
BEGIN:VEVENT
CATEGORIES:Activitats
CREATED;TZID=Europe/Madrid:20260423T222516
DESCRIPTION:<table class="agenda-tmpl" style="top: 79px\; width: 554px\; h
 eight: 583px\;" cellspacing="0" cellpadding="5">\n        <tbody><tr>\n  
           <td class="pivot" valign="top">Codi circular:</td>\n           
  <td>102/14&nbsp\;</td>\n        </tr>\n        <tr><td class="pivot" val
 ign="top">Organitza:&nbsp\;</td><td>Fundaci? Universitat Rovira i Virgili
 &nbsp\;</td></tr><tr>\n            <td class="pivot" valign="top">\n     
            Dates:</td>\n            <td style="text-align: left\;">\n    
             <br>del 03/11/14 al 30/07/15&nbsp\;</td>\n        </tr>\n    
     <tr>\n            <td class="pivot" valign="top">\n                Ho
 rari:</td>\n            <td style="text-align: left\;"><br>Dilluns i dime
 cres de les 16.00 a les 20.00 hores</td>\n        </tr>\n    <tr>\n      
   <td class="pivot" valign="top">\n            Lloc:\n        </td>\n    
     <td style="text-align: left\;"><br>Aules de Formaci? de la Vall de l'
 Arrabassada Diputaci? de Tarragona c/ Carles Riba\, n?m. 6 baixos Tarrago
 na<br></td>\n    </tr>\n        \n        <tr>\n            <td class="pi
 vot" valign="top">\n                Durada:</td>\n            <td style="
 text-align: left\;"><br>300 h&nbsp\;</td>\n        </tr>\n        <tr>\n 
            <td class="pivot" valign="top">\n                Professorat:<
 /td>\n            <td style="text-align: left\;">\n                <br><a
  href="http://www.fundacio.urv.cat/diploma_d_especialitzacio_en_dret_urba
 nistic/of/CAT/EDURDA-I3-2014-9">Clic aqu?</a></td>\n        </tr>\n      
   <tr>\n            <td class="pivot" valign="top">\n                Obje
 ctius:</td>\n            <td style="text-align: left\;">\n               
  <br>Formar t?cnics superiors i mitjans que ocupen llocs de treball a l'A
 dministraci? local\, aix? com titulats superiors i mitjans que volen acce
 dir a la funci? p?blica.&nbsp\;</td>\n        </tr>\n        <tr>\n      
       <td class="pivot" valign="top">\n                Continguts:</td>\n
             <td style="text-align: left\;"><br>vegeu enlla?os d'inter?s&n
 bsp\;</td>\n        </tr>\n        <tr>\n            <td class="pivot" va
 lign="top">\n                Destinataris:</td>\n            <td style="t
 ext-align: left\;">\n                <br>Diplomats en gesti? i administra
 ci? d'empreses\, en gesti? i Administraci? p?blica o en relacions laboral
 s\, i amb altres titulacions de grau mitj? que permetin l'acc?s als cosso
 s de t?cnics del grup B.&nbsp\;</td>\n        </tr>\n         \n         
 \n        \n         \n         \n         <tr>\n            <td class="p
 ivot" valign="top">\n                M?S INFORMACI?:</td>\n            <t
 d><a href="http://www.fundacio.urv.cat/diploma_d_especialitzacio_en_dret_
 urbanistic/of/CAT/EDURDA-I3-2014-9 ">Clic aqu?</a><br></td>\n        </tr
 >\n        </tbody></table>\n\n<br>
DTEND;TZID=Europe/Madrid:20141103T200000
DTSTAMP:20260423T202516Z
DTSTART;TZID=Europe/Madrid:20141103T160000
LOCATION:https://www.enginyerstarragona.cat/agenda/details/1097/1097-diplo
 ma-despecialitzacio-en-dret-urbanistic-f
SEQUENCE:0
SUMMARY:DIPLOMA D'ESPECIALITZACI? EN DRET URBAN?STIC (FURV)
UID:ET_Activitat_1097
URL:https://www.enginyerstarragona.cathttps://www.enginyerstarragona.cat/a
 genda/details/1097/1097-diploma-despecialitzacio-en-dret-urbanistic-f
END:VEVENT
END:VCALENDAR
