BEGIN:VCALENDAR
PRODID:-//github.com/rianjs/ical.net//NONSGML ical.net 2.2//EN
VERSION:2.0
BEGIN:VEVENT
CATEGORIES:Activitats
CREATED;TZID=Europe/Madrid:20260421T034825
DESCRIPTION:Aquest curs est? dirigit a:\n<br>\n\nT?cnics de nivell alt o e
 specialistes: tots els graus d'enginyeria i similars<br>\n\nT?cnics de ni
 vell mitj?: formaci? professional avan?ada o centrada en la especialitat<
 br>\n\nProfessionals lliures o assalariats que vulguin introduir-se o apr
 ofundir l'?rea de la climatitzaci?<br>\n\n<b>OBJECTIUS:</b>\nDissenyar i 
 calcular\, amb l'ajut de tres programes especialitzats (les caracter?stiq
 ues  i utilitzaci? d'aquests es difondran dins d'un curs de f?sica aplica
 da).<br>\n\n<b>TIPUS DE DOC?NCIA: </b>\nPresentaci? informatitzada en Pow
 er Point i projecci? de transpar?ncies\, tot seguint els apunts del curs 
 lliurat als assistents (aclariments de dubtes sobre pissarra)<br>\n\n\n<b
 >DOCUMENTACI?: </b>\nEs lliuraran apunts detallats del curs d'introducci?
 .<br>\n\n\n<b>HORARI: </b>\nde 19.00 a 21.30 hores.<br>\n\n\n<b>DURADA: <
 /b>\n30 hores<br>\n\n\n<b>NOMBRE M?NIM/M?XIM D'ASSISTENTS: </b>\n15/25 al
 umnes<br>\n\n\n\n<b>LLOC DE REALITZACI?: </b>\nA la seu del Col?legi\, Av
 . de Roma\, 7 de Tarragona\n<br>\n\n<b>PREU COL?LEGIAT/NO COL?LEGIAT: </b
 >\n 85 /110 ?\n<br>\n\n\n\n<b>TERMINI D'INSCRIPCIONS:</b>\n 24 de febrer 
 de 2003 o fins completar-se el nombre m?xim d'assistents.<br>\n\n\n<b>CON
 FIRMACI? D'ASSIST?NCIA: </b>\nCal confirmar assist?ncia\, a secretaria de
 l Col?legi\, abans del termini d'inscripci?.<br>\n\n\n
DTEND;TZID=Europe/Madrid;VALUE=DATE:20030410
DTSTAMP:20260421T014825Z
DTSTART;TZID=Europe/Madrid;VALUE=DATE:20030409
LOCATION:https://www.enginyerstarragona.cat/agenda/details/10/10-disseny-i
 -calcul-informatitzat-dinstallacions
SEQUENCE:0
SUMMARY:DISSENY I CALCUL INFORMATITZAT D'INSTAL?LACIONS D'AIRE CONDICIONAT
  I CONDUCTES DE VENTILACI?
UID:ET_Activitat_10
URL:https://www.enginyerstarragona.cathttps://www.enginyerstarragona.cat/a
 genda/details/10/10-disseny-i-calcul-informatitzat-dinstallacions
END:VEVENT
END:VCALENDAR
