BEGIN:VCALENDAR
PRODID:-//github.com/rianjs/ical.net//NONSGML ical.net 2.2//EN
VERSION:2.0
BEGIN:VEVENT
CATEGORIES:Activitats
CREATED;TZID=Europe/Madrid:20260423T185124
DESCRIPTION:<p style="text-align: justify\;"><span style="font-size: 12px\
 ; font-family: Arial\; color: #7f7f7f\;"><strong>CODI CIRCULAR: 19/13</st
 rong><br />\n<br />\nFins fa uns anys\, moltes empreses adoptaven una pos
 ici&oacute\; reactiva en quan a la part comercial. No s&rsquo\;ha donat m
 olta import&agrave\;ncia a aquesta part del negoci\, tot prioritzant l&rs
 quo\;esfor&ccedil\;\, per exemple\, en l&rsquo\;activitat productiva. A m
 &eacute\;s\, l&rsquo\;enginyer no est&agrave\; &ldquo\;ensinistrat&rdquo\
 ; de base per la venda\, sin&oacute\; que habitualment te una utilitat di
 ferent per l&rsquo\;empresa.&nbsp\;<br />\n</span></p>\n<div style="text-
 align: justify\;"><span style="font-size: 12px\; font-family: Arial\; col
 or: #7f7f7f\;"><span style="text-align: left\; font-size: 12px\;">Avui en
  dia\, tothom a la nostra feina som comercials d&rsquo\;una manera o altr
 a. Tot aix&ograve\; ha canviat per dos motius fonamentals<br />\n</span><
 span style="text-align: left\; font-size: 12px\;"><br />\n1. El client ca
 da vegada &eacute\;s mes exigent i demana que el seu contacte (habitualme
 nt un comercial) tingui l&rsquo\;habilitat de resoldre problemes\, aporta
 r solucions i conegui t&egrave\;cnicament els productes.<br />\n</span></
 span><span style="text-align: left\;"><span style="font-size: 12px\; font
 -family: Arial\; color: #7f7f7f\;"><br />\n2. Una demanda enormement fluc
 tuant i\, de mitja significativament baixa amb respecte a anys anteriors.
  Aix&ograve\; fa\, que les empreses donin mes import&agrave\;ncia a la po
 tenciaci&oacute\; comercial i que l&rsquo\;enfocament de l&rsquo\;empresa
  sigui de cara mes al client i menys al proc&eacute\;s.</span><br />\n</s
 pan><span style="text-align: left\; color: #7f7f7f\;"><br />\n<span style
 ="font-size: 12px\; font-family: Arial\;">\nEn aquest sentit\, </span></s
 pan><span style="text-align: left\; font-size: 12px\; font-family: Arial\
 ; color: black\;"><strong style="color: #7f7f7f\;">l&rsquo\;objectiu del 
 curs &eacute\;s</strong><span style="font-size: 12px\; color: #7f7f7f\;">
  dotar de les eines b&agrave\;siques a un enginyer\, Gerent de PYME d&rsq
 uo\;alt valor afegit o altres per saber:</span></span></div>\n<p>&nbsp\;<
 /p>\n<p style="font-family: Arial\; font-size: 11pt\; text-align: justify
 \;"> </p>\n<p>\n</p>\n<span style="font-size: 12px\; font-family: Arial\;
 "><span style="font-size: 12px\; text-align: justify\; color: #7f7f7f\;">
 Avaluar per complet la seva situaci&oacute\; al mercat o zona assignada.<
 /span><br />\n<span style="font-size: 12px\; text-align: justify\; color:
  #7f7f7f\;">Poder construir la seva pr&ograve\;pia estrat&egrave\;gia com
 ercial basada en objectius clars\, realistes i tangibles: vendes\, posici
 onament\, evoluci&oacute\;...etc</span><br />\n<span style="font-size: 12
 px\; text-align: justify\; color: #7f7f7f\;">Comprovar els resultats de l
 a seva evoluci&oacute\; i corregir\, si cal\, les actuacions &nbsp\; &nbs
 p\; &nbsp\;</span></span><br />\n<span><span style="color: #7f7f7f\;"><st
 rong><br />\n<span style="font-size: 12px\; font-family: Arial\;">DIRIGIT
  A: </span></strong></span><span style="font-size: 12px\; font-family: Ar
 ial\; color: #7f7f7f\;">Enginyers o PYMES relacionades amb activitats d&r
 squo\;alt valor afegit que necessitin desenvolupar una activitat comercia
 l proactiva. Amb cap experi&egrave\;ncia comercial o amb la necessitat de
  contrastar-la.</span><br />\n</span><strong style="font-size: 12px\; col
 or: #7f7f7f\; font-family: Arial\;"><br />\nPROGRAMA DEL CURS (15 hores):
  </strong><span style="font-size: 12px\; font-family: Arial\; color: #7f7
 f7f\;">s'adjunta.<br />\n</span><strong style="font-size: 12px\; font-fam
 ily: Arial\;"><span style="color: #7f7f7f\;"><br />\nPROFESSORAT:</span><
 /strong>\n<div>\n<p style="text-align: justify\;"><span style="font-size:
  12px\; font-family: Arial\; color: #7f7f7f\;">Rafael Feria Rios. Enginye
 r Industrial especialitat Mec&agrave\;nica per la UPC. Enginyer comercial
 .<br />\n</span><span style="font-size: 12px\; font-family: Arial\; color
 : #7f7f7f\;">C&eacute\;sar P&eacute\;rez Iglesias. Enginyer Superior en A
 utom&agrave\;tica i Electr&ograve\;nica Industrial per la URV. MBA per la
  FURV. Enginyer comercial.<br />\n</span><strong style="font-family: Aria
 l\; font-size: 12px\;"><span style="color: #7f7f7f\;"><br />\nPREU: </spa
 n></strong><span style="font-size: 12px\; font-family: Arial\; color: #7f
 7f7f\;">85 &euro\;<br />\n</span></p>\n<div style="text-align: justify\;"
 ><span style="font-size: 12px\; font-family: Arial\; color: #7f7f7f\;"><s
 trong style="background-color: #d9d9d9\; text-align: left\;"><span style=
 "font-size: 12px\;">C</span>OL&middot\;LEGIATS / ASSOCIATS:</strong><span
  style="background-color: #d9d9d9\; text-align: left\; font-size: 12px\;"
 >&nbsp\; 60 &euro\;<br />\n</span><strong style="background-color: #d9d9d
 9\; text-align: left\;">BONIFICACI&Oacute\; A TRAV&Eacute\;S DE LA FTFE:<
 /strong><span style="background-color: #d9d9d9\; text-align: left\; font-
 size: 12px\;"> 100 %<br />\n</span><strong style="text-align: left\;"><br
  />\nCALENDARI:</strong><span style="text-align: left\; font-size: 12px\;
 "> per determinar.<br />\n</span><strong style="text-align: left\;"><br /
 >\nDOCUMENTACI&Oacute\;: </strong><span style="text-align: left\; font-si
 ze: 12px\;">es lliurar&agrave\; documentaci&oacute\; de seguiment del cur
 s.<br />\n</span><strong style="text-align: left\;"><br />\nLLOC: </stron
 g><span style="text-align: left\; font-size: 12px\;">Avinguda de Roma\, 7
  de Tarragona.<br />\n</span><strong style="text-align: left\;"><br />\nC
 ERTIFICACI&Oacute\;: </strong><span style="text-align: left\; font-size: 
 12px\;">es lliurar&agrave\; un certificat d'acreditaci&oacute\; i assist&
 egrave\;ncia a la finalitzaci&oacute\; de la formaci&oacute\;. Aquells qu
 e sol&middot\;licitin bonificar el cus a trav&eacute\;s de la </span><em 
 style="text-align: left\;">Fundaci&oacute\; Tripartita</em><em style="tex
 t-align: left\;"> para la Formaci&oacute\;n en el Empleo\, </em><span sty
 le="text-align: left\; font-size: 12px\;">tamb&eacute\; tindran un certif
 icat em&egrave\;s per la </span><em style="text-align: left\;">FTFE.<br /
 >\n</em><strong style="text-align: left\;"><span style="font-size: 12px\;
 "><br />\nACREDITACI&Oacute\; PROFESSIONAL DPC DEL COGITI: </span></stron
 g><span style="text-align: left\; font-size: 12px\;">aquesta formaci&oacu
 te\; &eacute\;s competent per acreditar davant del COGITI la teva formaci
 &oacute\;.</span></span></div>\n<p><span style="font-size: 12px\; font-fa
 mily: Arial\; color: #7f7f7f\;">Mes informaci&oacute\;: </span><a href="h
 ttp://www.acreditacioncogitidpc.es/" style="font-size: 12px\; font-family
 : Arial\;">http://www.acreditacioncogitidpc.es</a></p>\n<p style="margin:
  0cm 0cm 0.0001pt\; text-align: justify\;"><span style="font-size: 12px\;
  font-family: Arial\; color: #7f7f7f\;"><strong style="font-size: 12px\;"
 >FORMA DE PAGAMENT:</strong><span style="font-size: 12px\;"> Transfer&egr
 ave\;ncia banc&agrave\;ria o ingr&eacute\;s en efectiu al n&uacute\;mero 
 de compte 2013.3074.67.0210965978 de Catalunya Caixa (cal indicar al docu
 ment justificatiu de pagament el nom de</span><span style="font-size: 12p
 x\;"><span style="font-size: 12px\;"> la</span><span style="text-decorati
 on: underline\; font-size: 12px\;"> persona assistent i el nom de l&rsquo
 \;activitat</span></span><span style="font-size: 12px\;">).</span><br />\
 n</span></p>\n<div style="font-size: 12px\; text-align: justify\;"><span 
 style="text-align: left\; font-size: 12px\; font-family: Arial\;"><br />\
 n<span style="color: #7f7f7f\;">\nEn efectiu o cobrament a trav&eacute\;s
  del seu n&uacute\;mero de compte\, que haur&agrave\; de facilitar a l&rs
 quo\;hora de fer la inscripci&oacute\;.<br />\n<br />\n<div style="border
 : 1.5pt dashed windowtext\; padding: 1pt 4pt\; background-color: silver\;
 ">\n<p style="border: medium none\; padding: 0cm\; text-align: center\;">
 <strong><span style="font-size: 11pt\;">FORMACI&Oacute\; BONIFICADA per t
 reballadors del r&egrave\;gim general ( exclosos aut&ograve\;noms i ETT)<
 /span></strong></p>\n</div>\n<br />\n</span></span><span style="text-alig
 n: left\; font-family: arial\; color: #7f7f7f\;"><strong><span style="tex
 t-decoration: underline\;">PROCEDIMENT PER BONIFICAR EL CURS A TRAV&Eacut
 e\;S DE LA FUNDACI&Oacute\;N TRIPARTITA PARA LA FORMACI&Oacute\;N EN EL E
 MPLEO I EL FONDO SOCIAL EUROPEO:</span></strong></span><span style="text-
 align: left\; text-decoration: underline\; font-family: Arial\; color: #7
 f7f7f\;">&nbsp\;</span><span style="text-align: left\; font-size: 12px\; 
 font-family: Arial\; color: #7f7f7f\;"><br />\n<span style="font-size: 12
 px\; font-family: Arial\; color: #7f7f7f\;"></span><span style="font-size
 : 12px\; color: #7f7f7f\;"><br />\n<span style="font-family: arial\;">DES
 CARREGA'T\,&nbsp\;DES D'AQUESTA MATEIXA P&Agrave\;GINA TOTS ELS IMPRESOS 
 (Adhesi&oacute\; al conveni\, informaci&oacute\; al RLT\, comprom&iacute\
 ;s del participant i certificat de costos) i segueix els seg&uuml\;ents p
 assos i normes</span><span style="font-family: Arial\;"><br />\n</span></
 span><span style="font-size: 12px\; font-family: Arial\; color: #7f7f7f\;
 "></span><span style="font-size: 12px\; font-family: arial\; color: #7f7f
 7f\;"><br />\nPer poder gestionar la bonificaci&oacute\;&nbsp\;a trav&eac
 ute\;s&nbsp\;</span><span style="font-size: 12px\; color: #7f7f7f\;"><spa
 n style="font-family: arial\;">&nbsp\;</span><em style="font-family: aria
 l\;">Fundaci&oacute\;n Tripartita Para la Formaci&oacute\;n en el Empleo<
 /em><span style="color: #7f7f7f\;"><span style="font-family: arial\;">&nb
 sp\;a trav&eacute\;s&nbsp\;dels pagaments&nbsp\;a la Seguretat Social en 
 el TC2\, s'haur&agrave\; de complimentar&nbsp\;els tots els impresos que 
 s'adjunten.&nbsp\;Ser&agrave\; requisit indispensable que TOTS estiguin f
 irmats y complimentats&nbsp\;amb bol&iacute\;graf de color BLAU\, y que l
 a firma&nbsp\;sigui ORIGINAL.</span><span style="font-family: Arial\;"><b
 r />\n</span></span></span><span style="font-size: 12px\; font-family: Ar
 ial\; color: #7f7f7f\;"></span><span style="font-size: 12px\; font-family
 : arial\; color: #7f7f7f\;"><br />\nSi ho prefereix\,&nbsp\;ho pot adelan
 tar per correo&nbsp\;electr&ograve\;nic (</span><span style="font-size: 1
 2px\; font-family: arial\; color: #7f7f7f\;">&nbsp\;</span><span style="f
 ont-size: 12px\;"><a href="mailto:formacio@cetit.org" style="font-family:
  arial\; color: #7f7f7f\;">formacio@cetit.org</a><span style="font-family
 : arial\; color: #7f7f7f\;">) amb el comprom&iacute\;s que els ORIGINALS&
 nbsp\;</span><span style="color: #7f7f7f\;"><span style="font-family: ari
 al\;">com a molt tard el primer dia de clase els presenti.</span><span st
 yle="font-family: Arial\;"><br />\n</span></span></span><strong style="co
 lor: #ff0000\; font-family: arial\; font-size: 12px\;"><br />\n&Uacute\;L
 </strong><span style="font-size: 12px\; font-family: arial\; color: #ff00
 00\;"><strong>TIM DIA DE LLIURAMENT DELS IMPRESOS: 7&nbsp\;dies naturals 
 abans de l'inici del curs</strong></span><span style="font-size: 12px\; f
 ont-family: arial\; color: #7f7f7f\;"><br />\n</span></span></div>\n</div
 >\n<p><span style="font-size: 12px\; font-family: Arial\;"><br />\n</span
 ></p>
DTEND;TZID=Europe/Madrid:20130624T210000
DTSTAMP:20260423T165124Z
DTSTART;TZID=Europe/Madrid:20130624T183000
LOCATION:https://www.enginyerstarragona.cat/agenda/details/968/968-curs-bo
 nificat-sobre-enginyers-comercials-la
SEQUENCE:0
SUMMARY:Curs BONIFICAT sobre ENGINYERS COMERCIALS: LA VENDA DES DE LA PERS
 PECTIVA PYME.
UID:ET_Activitat_968
URL:https://www.enginyerstarragona.cathttps://www.enginyerstarragona.cat/a
 genda/details/968/968-curs-bonificat-sobre-enginyers-comercials-la
END:VEVENT
END:VCALENDAR
