BEGIN:VCALENDAR
PRODID:-//github.com/rianjs/ical.net//NONSGML ical.net 2.2//EN
VERSION:2.0
BEGIN:VEVENT
CATEGORIES:Activitats
CREATED;TZID=Europe/Madrid:20260424T115231
DESCRIPTION:<br />
DTEND;TZID=Europe/Madrid:20121016T200000
DTSTAMP:20260424T095231Z
DTSTART;TZID=Europe/Madrid:20121016T180000
LOCATION:https://www.enginyerstarragona.cat/agenda/details/925/925-i-forum
 -de-debat-tecnic-del-cetit
SEQUENCE:0
SUMMARY:I F?RUM DE DEBAT T?CNIC DEL CETIT
UID:ET_Activitat_925
URL:https://www.enginyerstarragona.cathttps://www.enginyerstarragona.cat/a
 genda/details/925/925-i-forum-de-debat-tecnic-del-cetit
END:VEVENT
END:VCALENDAR
