BEGIN:VCALENDAR
PRODID:-//github.com/rianjs/ical.net//NONSGML ical.net 2.2//EN
VERSION:2.0
BEGIN:VEVENT
CATEGORIES:Activitats
CREATED;TZID=Europe/Madrid:20260424T112159
DESCRIPTION:<p style="text-align: justify\;"><span style="font-size: 12px\
 ; color: #7f7f7f\;"><strong>CODI CIRCULAR: 83/11</strong><br />\n<br />\n
 En aquests &uacute\;ltims anys de desenvolupament d&rsquo\;obres en l&rsq
 uo\;&agrave\;mbit residencial\, terciari i industrial\, s&rsquo\;ha assol
 it un conjunt d&rsquo\;elements d&rsquo\;obra\, d&rsquo\;equipaments\, d&
 rsquo\;infraestructures i d&rsquo\;instal&middot\;lacions molt ampli. Ara
  mateix\, quan el nivell de licitaci&oacute\; d&rsquo\;obra nova ha baixa
 t extraordin&agrave\;riament\, tant des del punt de vista privat com p&ua
 cute\;blic\, cal fer alguna cosa en aquest sentit. Una de les opcions m&e
 acute\;s clares &eacute\;s cuidar i optimitzar el que ja tenim constru&iu
 ml\;t. Aix&ograve\; s&rsquo\;assoleix a trav&eacute\;s d&rsquo\;una bona 
 gesti&oacute\; de manteniment.</span></p>\n<p style="text-align: justify\
 ;"><span style="font-size: 12px\; color: #7f7f7f\;"></span></p>\n<p style
 ="text-align: justify\;"><span style="font-size: 12px\; color: #7f7f7f\;"
 >Per a molts\, i encara m&eacute\;s en el nostre entorn\, mantenir &eacut
 e\;s nom&eacute\;s reparar. I aix&ograve\; no &eacute\;s cert. El manteni
 ment correctiu &eacute\;s nom&eacute\;s una petita part de tot un m&oacut
 e\;n dedicat a la conservaci&oacute\; i programaci&oacute\; de les actuac
 ions necess&agrave\;ries sobre els elements dels edificis residencials\, 
 comercials i industrials. L&rsquo\;objectiu &eacute\;s clar: controlar el
  cicle de vida &uacute\;til dels edificis i de les seves instal&middot\;l
 acions perqu&egrave\; s&rsquo\;allargui el m&agrave\;xim possible i amb e
 l m&iacute\;nim cost possible. Aix&ograve\; &eacute\;s gesti&oacute\; de 
 manteniment.</span></p>\n<p style="text-align: justify\;"><span style="fo
 nt-size: 12px\; color: #7f7f7f\;"></span></p>\n<p style="text-align: just
 ify\;"><span style="font-size: 12px\; color: #7f7f7f\;">A trav&eacute\;s 
 d&rsquo\;aquest curs i mitjan&ccedil\;ant la teoria\, la pr&agrave\;ctica
  i el di&agrave\;leg\, es transfereix el nostre coneixement als assistent
 s\, per tal de donar compliment als objectius&nbsp\; marcats.</span></p>\
 n<p style="text-align: justify\;"><span style="font-size: 12px\; color: #
 7f7f7f\;"></span></p>\n<p style="text-align: justify\;"><span style="font
 -size: 12px\; color: #7f7f7f\;">El curs est&agrave\; <strong>dirigit </st
 rong>a tots aquells t&egrave\;cnics que tenen una necessitat especialitza
 da en la gesti&oacute\; del manteniment&nbsp\; en infraestructures\, en e
 dificis\, en instal&middot\;lacions t&egrave\;cniques\, b&eacute\; perqu&
 egrave\; ja hi treballen i volen ampliar el coneixement\, o b&eacute\; pe
 rqu&egrave\; ho veuen com a una oportunitat d&rsquo\;alternativa professi
 onal en els moments actuals i per aquest motiu volen con&egrave\;ixer aqu
 est sector.</span></p>\n<p style="text-align: justify\;"><span style="fon
 t-size: 12px\; color: #7f7f7f\;"></span></p>\n<p style="text-align: justi
 fy\;"><span style="font-size: 12px\; color: #7f7f7f\;">Tamb&eacute\; s'ad
 re&ccedil\;a a totes aquelles persones que formen part de l'estructura d'
 una empresa (gerents\, administraci&oacute\;\,comercials\, etc.) i volen 
 con&egrave\;ixer o ampliar el coneixement de l'&agrave\;mbit de la gesti&
 oacute\; de la conservaci&oacute\; i manteniment.<br />\n<br />\n</span><
 /p>\n<p style="text-align: justify\;"><span style="font-size: 12px\; colo
 r: #7f7f7f\;"><strong><span style="font-size: 10pt\;">PROFESSORAT:</span>
 </strong><span style="font-size: 10pt\;"> Ricard Nogu&eacute\;s Parra. En
 ginyer T&egrave\;cnic Industrial. MBA. Postgrau en Direcci&oacute\; de la
  Producci&oacute\;. Postgrau en Gesti&oacute\; de Compres.</span></span><
 /p>\n<p style="text-align: justify\;"><strong><span style="font-size: 12p
 x\; color: #7f7f7f\;"></span></strong></p>\n<p style="text-align: justify
 \;"><span style="font-size: 12px\; color: #7f7f7f\;"><strong><span style=
 "font-size: 10pt\;">PREU: </span></strong><span style="font-size: 10pt\;"
 >120 &euro\;<br />\n</span></span><span style="font-size: 12px\; color: #
 7f7f7f\;"><strong><span style="font-size: 10pt\;">COL&middot\;LEGIATS: </
 span></strong><span style="font-size: 10pt\;">95 &euro\; <br />\n</span><
 /span><span style="font-size: 12px\; color: #7f7f7f\;"><strong><span styl
 e="font-size: 10pt\;">COL&middot\;LEGIATS + ASSOCIATS:</span></strong><sp
 an style="font-size: 10pt\;"> 90 &euro\; </span></span></p>\n<p style="te
 xt-align: justify\;"><strong><span style="font-size: 12px\; color: #7f7f7
 f\;"></span></strong></p>\n<p style="text-align: justify\;"><span style="
 font-size: 12px\; color: #7f7f7f\;"><strong><span style="font-size: 10pt\
 ;">PROGRAMA DEL CURS (8 h):</span></strong><span style="font-size: 10pt\;
 "> s&rsquo\;adjunta.</span></span></p>\n<p style="text-align: justify\;">
 <strong><span style="font-size: 12px\; color: #7f7f7f\;"></span></strong>
 </p>\n<p style="text-align: justify\;"><span style="font-size: 12px\; col
 or: #7f7f7f\;"><strong><span style="font-size: 10pt\;">CALENDARI:</span><
 /strong><span style="font-size: 10pt\;"> 29 de novembre i 1 de desembre (
 dimarts i dijous) de 16 a 20 hores.</span></span></p>\n<p style="text-ali
 gn: justify\;"><span style="font-size: 12px\; color: #7f7f7f\;"></span></
 p>\n<p style="text-align: justify\;"><span style="font-size: 12px\; color
 : #7f7f7f\;"><strong><span style="font-size: 10pt\;">DOCUMENTACI&Oacute\;
 : </span></strong><span style="font-size: 10pt\;">es lliurar&agrave\; doc
 umentaci&oacute\; de seguiment.</span></span></p>\n<p style="text-align: 
 justify\;"><strong><span style="font-size: 12px\; color: #7f7f7f\;"></spa
 n></strong></p>\n<p style="text-align: justify\;"><span style="font-size:
  12px\; color: #7f7f7f\;"><strong><span style="font-size: 10pt\;">CERTIFI
 CACI&Oacute\;: </span></strong><span style="font-size: 10pt\;">el CETIT</
 span><span style="font-size: 10pt\;"> lliurar&agrave\; un certificat d&rs
 quo\;assist&egrave\;ncia al curs pr&egrave\;via sol&middot\;licitud del p
 articipant. Assist&egrave\;ncia m&iacute\;nima obligat&ograve\;ria del 80
  % de les hores lectives. </span></span></p>\n<p style="text-align: justi
 fy\;"><span style="font-size: 12px\; color: #7f7f7f\;"></span></p>\n<p st
 yle="text-align: justify\;"><span style="font-size: 12px\; color: #7f7f7f
 \;">Els certificats emesos per la <em>Fundaci&oacute\;n</em><em> Triparti
 ta</em><em> para la Formaci&oacute\;n de Empleo</em>\, s&rsquo\;emetran a
 utom&agrave\;ticament sense sol&middot\;licitud pr&egrave\;via. Assist&eg
 rave\;ncia m&iacute\;nima obligat&ograve\;ria del 80 % de les hores lecti
 ves.<br />\n<br />\n</span></p>\n<p><span style="font-size: 12px\; font-f
 amily: arial\; color: #7f7f7f\;"><strong><span style="font-size: 12px\; f
 ont-family: arial\;">FORMA DE PAGAMENT:</span></strong><span style="font-
 size: 12px\; font-family: arial\;"> Transfer&egrave\;ncia banc&agrave\;ri
 a o ingr&eacute\;s en efectiu al n&uacute\;mero de compte 2013.3074.67.02
 10965978 de Catalunya Caixa (cal indicar al document justificatiu de paga
 ment el nom de la<span style="text-decoration: underline\;"> persona assi
 stent i el nom de l&rsquo\;activitat</span>). </span></span><span style="
 font-family: 'times new roman'\; font-size: 13px\; color: #333333\;"><spa
 n style="font-size: 12px\; font-family: arial\; color: #7f7f7f\;">En efec
 tiu o cobrament a trav&eacute\;s del seu n&uacute\;mero de compte\, que h
 aur&agrave\; de facilitar a l&rsquo\;hora de fer la inscripci&oacute\;</s
 pan>.<br />\n<br />\n</span></p>\n<p style="text-align: justify\; backgro
 und-color: #cccccc\;"><strong><span style="font-size: 10pt\; color: #3333
 33\;">*** FORMACI&Oacute\; BONIFICADA A TRAV&Eacute\;S DE LA <em>FUNDACI&
 Oacute\;</em><em> TRIPARTITA</em>\, SEGONS EL CR&Egrave\;DIT DE LA SEVA E
 MPRESA FINS A 112 &euro\; **</span></strong></p>\n<p style="text-align: j
 ustify\; background-color: #cccccc\;">&nbsp\;</p>\n<p>&nbsp\;</p>
DTEND;TZID=Europe/Madrid:20111129T200000
DTSTAMP:20260424T092159Z
DTSTART;TZID=Europe/Madrid:20111129T160000
LOCATION:https://www.enginyerstarragona.cat/agenda/details/864/864-introdu
 ccio-a-la-gestio-del-manteniment-de-la
SEQUENCE:0
SUMMARY:Introducci? a la Gesti? del Manteniment. De la reparaci? al Facili
 ty- Management
UID:ET_Activitat_864
URL:https://www.enginyerstarragona.cathttps://www.enginyerstarragona.cat/a
 genda/details/864/864-introduccio-a-la-gestio-del-manteniment-de-la
END:VEVENT
END:VCALENDAR
