BEGIN:VCALENDAR
PRODID:-//github.com/rianjs/ical.net//NONSGML ical.net 2.2//EN
VERSION:2.0
BEGIN:VEVENT
CATEGORIES:Activitats
CREATED;TZID=Europe/Madrid:20260425T033231
DESCRIPTION:<p style="text-align: justify\;"><span style="font-size: 12px\
 ; color: #7f7f7f\;">Ja fa tres anys que la Universitat de Vic ens ofereix
  la possibilitat de col&middot\;laborar conjuntament per poder oferir-vos
  els <strong>ESTUDIS HOMOLOGATS</strong> <strong>EN ORGANITZACI&Oacute\; 
 INDUSTRIAL </strong>(RD 1933/1999 del 3 de desembre)<strong>.<br />\n<br 
 />\nEl primer curs varem comptar amb 30 alumnes i l'any passat amb quasi 
 els 25. Actualment molts dels que van comen&ccedil\;ar el primer any ja h
 an finalitzat els estudis.</strong></span></p>\n<p style="text-align: jus
 tify\;"><strong><span style="font-size: 12px\;"> </span></strong></p>\n<p
  style="text-align: justify\;"><span style="font-size: 12px\; color: #7f7
 f7f\;">Aquesta carrera &eacute\;s el complement ideal per promocionar-te 
 en l&rsquo\;empresa (privada o a l&rsquo\;administraci&oacute\; p&uacute\
 ;blica) ja que permet adquirir coneixements de gesti&oacute\; aplicada. &
 Eacute\;s una carrera de segon cicle amb una durada aproximada de dos any
 s (150 cr&egrave\;dits) a la qual s&rsquo\;accedeix directament amb el t&
 iacute\;tol d&rsquo\;enginyer t&egrave\;cnic industrial\, &eacute\;s a di
 r\, <span style="text-decoration: underline\;">no has de cursar cap compl
 ement de formaci&oacute\; per accedir-hi.</span></span></p>\n<p style="te
 xt-align: justify\;"> </p>\n<p style="text-align: justify\;"><span style=
 "font-size: 12px\; color: #7f7f7f\;">Amb la modalitat semi presencial pod
 r&agrave\;s compatibilitzar els estudis amb l&rsquo\;activitat profession
 al a trav&eacute\;s d&rsquo\;un campus virtual des d&rsquo\;on podr&agrav
 e\;s obtenir tot el material de les assignatures. </span></p>\n<p style="
 text-align: justify\;"> </p>\n<p style="text-align: justify\;"><span styl
 e="font-size: 12px\; color: #7f7f7f\;">El CETIT us proporcionar&agrave\; 
 els espais per a les sessions de videoconfer&egrave\;ncies\, ex&agrave\;m
 ens i d&rsquo\;estudi. Amb aquesta estructura es poden formar grups de tr
 eball que us facilitaran la feina creant un esperit de grup i col&middot\
 ;laboraci&oacute\; molt &uacute\;til tant des del punt de vista pr&agrave
 \;ctic com de motivaci&oacute\; i ajuda de refor&ccedil\;.</span></p>\n<p
  style="text-align: justify\;"> </p>\n<p style="text-align: justify\;"><s
 pan style="font-size: 12px\; color: #7f7f7f\;">Amb l&rsquo\;entrada en vi
 gor del Nou Espai Europeu d&rsquo\;Educaci&oacute\; Superior (EEES) s&rsq
 uo\;est&agrave\; produint un canvi en la composici&oacute\; de les titula
 cions universit&agrave\;ries. El curs 2010-2011 ja no es van poder inicia
 r els estudis de les actuals titulacions d&rsquo\;enginyeria t&egrave\;cn
 ica que queden substitu&iuml\;des per les noves titulacions de grau. En e
 l nostre cas\, en tractar-se d'una Enginyeria Superior o de segon cicle\,
  com a m&iacute\;nim continuarem incorporant <strong>nous alumnes</strong
 > a quart (primer de segon cicle) <strong>fins</strong> el curs <strong>2
 012-2013</strong>. La idea &eacute\;s que els estudiants que van comen&cc
 edil\;ar l'enginyeria t&egrave\;cnica el curs passat puguin completar els
  seus estudis amb el segon cicle amb igualtat d'oportunitats respecte a l
 es persones que l'heu cursat abans. </span></p>\n<p style="text-align: ju
 stify\;"> </p>\n<p style="text-align: justify\;"><span style="font-size: 
 12px\; color: #7f7f7f\;">Com que les &uacute\;ltimes persones que s&rsquo
 \;incorporin han de poder acabar els seus estudis sense problemes\, podem
  garantir que aquesta formaci&oacute\; de segon cicle es continuar&agrave
 \; impartint&nbsp\; els 4 propers anys.&nbsp\; La matr&iacute\;cula estar
 &agrave\; oberta del 21 al 30 de setembre i es pot entrar la sol&middot\;
 licitud via web.</span></p>\n<p style="text-align: justify\;"> </p>\n<p s
 tyle="text-align: justify\;"> </p>\n<p style="text-align: justify\;"> </p
 >\n<p style="text-align: justify\;"> </p>\n<p style="text-align: justify\
 ;"> </p>\n<p style="text-align: justify\;"> </p>\n<p style="text-align: j
 ustify\;"> </p>\n<p style="text-align: justify\;"> </p>\n<p style="text-a
 lign: justify\;"><span style="font-size: 12px\; color: #7f7f7f\;">Si has 
 realitzat l&rsquo\;MBA a la URV\, et seran reconeguts 7\,5 cr&egrave\;dit
 s de lliure elecci&oacute\;. Tamb&eacute\; es poden recon&egrave\;ixer 7\
 ,5 cr&egrave\;dits de lliure elecci&oacute\; si est&agrave\;s desenvolupa
 nt una activitat professional relacionada amb els estudis que es proposen
 . </span></p>\n<p style="text-align: justify\;"> </p>\n<p style="text-ali
 gn: justify\;"><span style="font-size: 12px\; color: #7f7f7f\;">Si tens c
 ap dubte o en vols m&eacute\;s informaci&oacute\;\, el proper dia <strong
 >12 de setembre a les 18 hores</strong> tindr&agrave\; lloc una <strong>s
 essi&oacute\; informativa</strong> a la seu del CETIT a Tarragona\, que s
 er&agrave\; transmesa per videoconfer&egrave\;ncia a les instal&middot\;l
 acions de les Terres de l&rsquo\;Ebre.</span></p>\n<p style="text-align: 
 justify\;"> </p>\n<p style="text-align: justify\;"><span style="font-size
 : 12px\; color: #7f7f7f\;">Aquesta iniciativa que el CETIT t&rsquo\;ofere
 ix et ser&agrave\; profitosa tant laboralment com personalment\, i et per
 metr&agrave\; ampliar els teus coneixements professionals.</span></p>\n<p
  style="text-align: justify\;"><strong><span style="font-size: 12px\; col
 or: #7f7f7f\;"> </span></strong></p>\n<p style="text-align: justify\;"><s
 pan style="font-size: 12px\; color: #7f7f7f\;"><strong>M&eacute\;s inform
 aci&oacute\;:</strong> <a href="http://www.uvic.cat/enginyeria-en-organit
 zacio-industrial">http://www.uvic.cat/enginyeria-en-organitzacio-industri
 al</a></span></p>\n<p style="text-align: justify\;"> </p>\n<p><span style
 ="font-size: 12px\; color: #7f7f7f\;"><strong>Programa i assignatures </s
 trong><a href="http://www.uvic.cat/sites/default/files/Guia%20OI%2010_11_
 0.pdf">http://www.uvic.cat/sites/default/files/Guia%20OI%2010_11_0.pdf</a
 ></span><span> </span></p>
DTEND;TZID=Europe/Madrid;VALUE=DATE:20110930
DTSTAMP:20260425T013231Z
DTSTART;TZID=Europe/Madrid;VALUE=DATE:20110921
LOCATION:https://www.enginyerstarragona.cat/agenda/details/846/846-estudis
 -homologats-en-organitzacio-industrial
SEQUENCE:0
SUMMARY:ESTUDIS HOMOLOGATS EN ORGANITZACI? INDUSTRIAL\, modalitat semi pre
 sencial
UID:ET_Activitat_846
URL:https://www.enginyerstarragona.cathttps://www.enginyerstarragona.cat/a
 genda/details/846/846-estudis-homologats-en-organitzacio-industrial
END:VEVENT
END:VCALENDAR
