BEGIN:VCALENDAR
PRODID:-//github.com/rianjs/ical.net//NONSGML ical.net 2.2//EN
VERSION:2.0
BEGIN:VEVENT
CATEGORIES:Activitats
CREATED;TZID=Europe/Madrid:20260425T010804
DESCRIPTION:<span style="font-size: 12px\; color: #7f7f7f\;"><span style="
 font-size: 12px\;">La CEPTA organitza el mes de setembre un curs de <stro
 ng>PLATAFORMES ELEVADORES M&Ograve\;BILS DE PERSONES (CONDUCTOR DE PEMP)\
 , </strong>de 8 hores de durada.<br />\n<br />\nEl curs s&rsquo\;adre&cce
 dil\;a a operadors/es de plataformes elevadores m&ograve\;bils de persone
 s o a persones que hagin&nbsp\;de conduir puntualment o ocasionalment una
  plataforma elevadora PEMP.<br />\nTotes aquelles persones que vulguin ob
 tenir el carnet de conductor de plataforma elevadora m&ograve\;bil de&nbs
 p\;persones a trav&eacute\;s de classes amb un alt contingut de pr&agrave
 \;ctiques.<br />\n<br />\n</span><strong><span style="font-size: 12px\;">
 Aconsegueix el carnet de plataformes elevadores&nbsp\;en nom&eacute\;s 8 
 hores.<br />\n</span><br />\nLLOC:</strong><span style="font-size: 12px\;
 ">&nbsp\;El curso tendr&aacute\; lugar a las instalaciones de Cepta situa
 das a Avenida Roma\, 7\, 6a planta&nbsp\;de Tarragona el 22 de julio de 2
 011 de 9 a 13h y de 15 a 19h<br />\nLas pr&aacute\;cticas se realizaran a
 l Pol&iacute\;gono Industrial Francol&iacute\;\, de Tarragona.<br />\n<br
  />\n<strong>INVERSI&Oacute\; I INSCRIPCIONS:</strong><br />\nEl precio d
 el curso es de 180&euro\; y incluye el dossier\, las sesiones en el aula\
 , las practicas individuales\, y&nbsp\;el proceso de certificaci&oacute\;
 n. Consultar descuentos para asociados a Cepta y personas en Paro.<br />\
 nPosibilidad de bonificaci&oacute\;n trav&eacute\;s de la Fundaci&oacute\
 ;n Tripartita. Consultar condiciones y plazos de&nbsp\;matricula.<br />\n
 <br />\n<span style="font-size: 12px\;"><strong>M&eacute\;s informaci&oac
 ute\;\ni inscripcions:</strong>&nbsp\;Sra.&nbsp\;Fani Ban&uacute\;s fbanu
 s@cepta.es o al telefon 977211966\;&nbsp\;<span style="color: #7f7f7f\;">
 http://www.cepta.es</span><br />\n<br />\n<strong>PODEU DESCARREGAR EL PR
 OGRAMA&nbsp\;I M&Eacute\;S INFORMACI&Oacute\; A\nL'ARXIU ADJUNT QUE TROBA
 REU A ENLLA&Ccedil\;OS D'INTER&Eacute\;S.</strong>&nbsp\; &nbsp\;</span><
 /span></span>
DTEND;TZID=Europe/Madrid:20110909T190000
DTSTAMP:20260425T230804Z
DTSTART;TZID=Europe/Madrid:20110909T090000
LOCATION:https://www.enginyerstarragona.cat/agenda/details/844/844-platafo
 rmes-elevadores-mobils-de-persones-con
SEQUENCE:0
SUMMARY:PLATAFORMES ELEVADORES M?BILS DE PERSONES ( CONDUCTOR DE PEMP)
UID:ET_Activitat_844
URL:https://www.enginyerstarragona.cathttps://www.enginyerstarragona.cat/a
 genda/details/844/844-plataformes-elevadores-mobils-de-persones-con
END:VEVENT
END:VCALENDAR
